BEGIN:VCALENDAR
VERSION:2.0
PRODID:-//Revolutionary Valley Regional Tourism Council - ECPv6.15.0.1//NONSGML v1.0//EN
CALSCALE:GREGORIAN
METHOD:PUBLISH
X-ORIGINAL-URL:https://revolutionaryvalley.org
X-WR-CALDESC:Events for Revolutionary Valley Regional Tourism Council
REFRESH-INTERVAL;VALUE=DURATION:PT1H
X-Robots-Tag:noindex
X-PUBLISHED-TTL:PT1H
BEGIN:VTIMEZONE
TZID:America/New_York
BEGIN:DAYLIGHT
TZOFFSETFROM:-0500
TZOFFSETTO:-0400
TZNAME:EDT
DTSTART:20240310T070000
END:DAYLIGHT
BEGIN:STANDARD
TZOFFSETFROM:-0400
TZOFFSETTO:-0500
TZNAME:EST
DTSTART:20241103T060000
END:STANDARD
END:VTIMEZONE
BEGIN:VEVENT
DTSTART;TZID=America/New_York:20240604T190000
DTEND;TZID=America/New_York:20240604T200000
DTSTAMP:20260425T113628
CREATED:20240429T122027Z
LAST-MODIFIED:20240429T122027Z
UID:10054617-1717527600-1717531200@revolutionaryvalley.org
SUMMARY:Book Chat on American Midnight with Adam Hochschild
DESCRIPTION:America in the World War I era was a tinderbox: a time of fierce debate over labor rights\, free speech\, and racial equality. In an era marked by vigilanteism spurred on by the government\, citizen turned against citizen in the war over what it means to be American. Lynchings\, suppression of the press\, and violence against conscientious objectors marred our ideals of democracy. A colorful cast of characters\, from Woodrow Wilson to Emma Goldman and J. Edgar Hoover joined in the fray. \nJoin author Adam Hochschild for a conversation on this little-known era of American history whose legacy is still felt with us today. Meeting is in-person and the author will join us virtually. \nFree!
URL:https://revolutionaryvalley.org/event/book-chat-on-american-midnight-with-adam-hochschild/
LOCATION:The Depot
CATEGORIES:Historical
ATTACH;FMTTYPE=image/jpeg:https://revolutionaryvalley.org/wp-content/uploads/2024/04/American-Midnight-Header.jpg
GEO:42.4485967;-71.227977
END:VEVENT
BEGIN:VEVENT
DTSTART;TZID=America/New_York:20240604T190000
DTEND;TZID=America/New_York:20240604T200000
DTSTAMP:20260425T113628
CREATED:20240523T144457Z
LAST-MODIFIED:20240523T145012Z
UID:10056318-1717527600-1717531200@revolutionaryvalley.org
SUMMARY:American Bloods: The Untamed Dynasty that Shaped a Nation
DESCRIPTION:Inspired by the discovery of a mysterious manuscript in an old farmhouse just north of Concord\, historian John Kaag takes us on a multi-generational exploration of one of America’s first and most expansive pioneer families. The Bloods explored and laid claim to the frontiers—geographic\, political\, intellectual\, and spiritual—that would become the very core of the United States. Free for Members | $10 Non-Members | Free Virtual
URL:https://revolutionaryvalley.org/event/american-bloods-the-untamed-dynasty-that-shaped-a-nation/
LOCATION:Concord Museum\, Concord Museum\, 53 Cambridge Tpke\, Concord\, MA\, 01742\, United States
CATEGORIES:Arts & Culture,Historical,Lecture
ATTACH;FMTTYPE=image/png:https://revolutionaryvalley.org/wp-content/uploads/2024/05/American-Bloods-1034-x-550.png
ORGANIZER;CN="Concord Museum":MAILTO:bevangelista@concordmuseum.org
GEO:42.457713;-71.342264
X-APPLE-STRUCTURED-LOCATION;VALUE=URI;X-ADDRESS=Concord Museum Concord Museum 53 Cambridge Tpke Concord MA 01742 United States;X-APPLE-RADIUS=500;X-TITLE=Concord Museum\, 53 Cambridge Tpke:geo:-71.342264,42.457713
END:VEVENT
END:VCALENDAR