BEGIN:VCALENDAR
VERSION:2.0
PRODID:-//Revolutionary Valley Regional Tourism Council - ECPv6.15.0.1//NONSGML v1.0//EN
CALSCALE:GREGORIAN
METHOD:PUBLISH
X-WR-CALNAME:Revolutionary Valley Regional Tourism Council
X-ORIGINAL-URL:https://revolutionaryvalley.org
X-WR-CALDESC:Events for Revolutionary Valley Regional Tourism Council
REFRESH-INTERVAL;VALUE=DURATION:PT1H
X-Robots-Tag:noindex
X-PUBLISHED-TTL:PT1H
BEGIN:VTIMEZONE
TZID:America/New_York
BEGIN:DAYLIGHT
TZOFFSETFROM:-0500
TZOFFSETTO:-0400
TZNAME:EDT
DTSTART:20240310T070000
END:DAYLIGHT
BEGIN:STANDARD
TZOFFSETFROM:-0400
TZOFFSETTO:-0500
TZNAME:EST
DTSTART:20241103T060000
END:STANDARD
END:VTIMEZONE
BEGIN:VEVENT
DTSTART;TZID=America/New_York:20240613T190000
DTEND;TZID=America/New_York:20240613T200000
DTSTAMP:20260425T192444
CREATED:20240429T122046Z
LAST-MODIFIED:20240429T122046Z
UID:10054618-1718305200-1718308800@revolutionaryvalley.org
SUMMARY:Gold For Ghosts: Rick Beyer's Amazing Campaign for History's Hidden Heroes
DESCRIPTION:Nearly 20 years ago\, while living in Lexington\, author and filmmaker Rick Beyer learned the incredible story of the WWII deception units known as The Ghost Army. He soon launched a quest to tell the world about their exploits\, and to make sure what they did would never be forgotten. That led to the Ghost Army documentary (2013)\, the book (2015)\, and finally the Congressional Gold Medal (2024)\, the highest honor Congress can bestow. \nNow Rick returns to Lexington to recount his epic Ghost Army journey. It began on a winter’s day in a Lexington coffee shop\, and after inumerable twists and turns\, culminated in a ceremony at the U.S. Capitol presided over by the Speaker of the House. Rick will share insights\, anecdotes\, and behind-the-scenes adventures from this wild 20-year ride that so many people in Lexington took part in. All illustrated with rarely seen photos and footage. A story about what it really takes to see history preserved and remembered. \n“The Ghost Army” is one of those remarkable projects where the underlying story of bringing the history to light winds up nearly as compelling as the historical tale itself. Rick Beyer will share both those stories June 13. \n$10 members\, $15 nonmembers\, $5 veterans\, active duty military FREE. \nDoors will open at 6:30 for refreshments.
URL:https://revolutionaryvalley.org/event/gold-for-ghosts-rick-beyers-amazing-campaign-for-historys-hidden-heroes/
LOCATION:The Depot
CATEGORIES:Historical
ATTACH;FMTTYPE=image/jpeg:https://revolutionaryvalley.org/wp-content/uploads/2024/04/New-Ghost-Army-COver-scaled.jpg
GEO:42.4485967;-71.227977
END:VEVENT
END:VCALENDAR