BEGIN:VCALENDAR
VERSION:2.0
PRODID:-//Revolutionary Valley Regional Tourism Council - ECPv6.15.0.1//NONSGML v1.0//EN
CALSCALE:GREGORIAN
METHOD:PUBLISH
X-WR-CALNAME:Revolutionary Valley Regional Tourism Council
X-ORIGINAL-URL:https://revolutionaryvalley.org
X-WR-CALDESC:Events for Revolutionary Valley Regional Tourism Council
REFRESH-INTERVAL;VALUE=DURATION:PT1H
X-Robots-Tag:noindex
X-PUBLISHED-TTL:PT1H
BEGIN:VTIMEZONE
TZID:America/New_York
BEGIN:DAYLIGHT
TZOFFSETFROM:-0500
TZOFFSETTO:-0400
TZNAME:EDT
DTSTART:20240310T070000
END:DAYLIGHT
BEGIN:STANDARD
TZOFFSETFROM:-0400
TZOFFSETTO:-0500
TZNAME:EST
DTSTART:20241103T060000
END:STANDARD
END:VTIMEZONE
BEGIN:VEVENT
DTSTART;TZID=America/New_York:20240622T190000
DTEND;TZID=America/New_York:20240622T200000
DTSTAMP:20260425T161127
CREATED:20240523T145200Z
LAST-MODIFIED:20240523T145200Z
UID:10056322-1719082800-1719086400@revolutionaryvalley.org
SUMMARY:An Evening with Tiya Miles on Harriet Tubman
DESCRIPTION:National Book Award–winning author Tiya Miles\, joins Pulitzer Prize winning historian Jacqueline Jones for a revelatory conversation on the myth and the truth behind Harriet Tubman\, one of the most famous Americans ever born who few really understand. A figure more out of myth than history\, Harriet Tubman becomes an even clearer and sharper signal from the past\, thanks to Tiya Miles’s characteristic tenderness and imaginative genius. Free for Members | $10 Non-Members | Free Virtual
URL:https://revolutionaryvalley.org/event/an-evening-with-tiya-miles-on-harriet-tubman/
LOCATION:Concord Museum\, Concord Museum\, 53 Cambridge Tpke\, Concord\, MA\, 01742\, United States
CATEGORIES:Arts & Culture,Historical,Lecture
ATTACH;FMTTYPE=image/png:https://revolutionaryvalley.org/wp-content/uploads/2024/05/Tiya-Miles.png
ORGANIZER;CN="Concord Museum":MAILTO:bevangelista@concordmuseum.org
GEO:42.457713;-71.342264
X-APPLE-STRUCTURED-LOCATION;VALUE=URI;X-ADDRESS=Concord Museum Concord Museum 53 Cambridge Tpke Concord MA 01742 United States;X-APPLE-RADIUS=500;X-TITLE=Concord Museum\, 53 Cambridge Tpke:geo:-71.342264,42.457713
END:VEVENT
END:VCALENDAR