BEGIN:VCALENDAR
VERSION:2.0
PRODID:-//Revolutionary Valley Regional Tourism Council - ECPv6.15.0.1//NONSGML v1.0//EN
CALSCALE:GREGORIAN
METHOD:PUBLISH
X-ORIGINAL-URL:https://revolutionaryvalley.org
X-WR-CALDESC:Events for Revolutionary Valley Regional Tourism Council
REFRESH-INTERVAL;VALUE=DURATION:PT1H
X-Robots-Tag:noindex
X-PUBLISHED-TTL:PT1H
BEGIN:VTIMEZONE
TZID:America/New_York
BEGIN:DAYLIGHT
TZOFFSETFROM:-0500
TZOFFSETTO:-0400
TZNAME:EDT
DTSTART:20240310T070000
END:DAYLIGHT
BEGIN:STANDARD
TZOFFSETFROM:-0400
TZOFFSETTO:-0500
TZNAME:EST
DTSTART:20241103T060000
END:STANDARD
END:VTIMEZONE
BEGIN:VEVENT
DTSTART;TZID=America/New_York:20240712T090000
DTEND;TZID=America/New_York:20240712T150000
DTSTAMP:20260420T182356
CREATED:20240205T182923Z
LAST-MODIFIED:20240205T182923Z
UID:10050325-1720774800-1720796400@revolutionaryvalley.org
SUMMARY:Be a Tavern Keeper! A History Mini Camp for Grades 3-5
DESCRIPTION:An 18th century tavern was a busy place! Part restaurant\, part hotel\, part general store – running a business like this took a lot of skill. In this one-day camp\, spend the day in a real historic tavern to see if you have what it takes to earn your innkeeper’s license. We’ll participate in hands-on activities to learn what foods you can feed your guests\, how to light your home before electricity\, what games you can play in the parlor\, and more! This program is recommended for rising 3rd – 5th graders. \n$45 members\, $60 nonmembers. \nAdvanced registration required.\nAs children will be dropped off for this program\, please fill out emergency contact information at checkout.
URL:https://revolutionaryvalley.org/event/be-a-tavern-keeper-a-history-mini-camp-for-grades-3-5/
LOCATION:Munroe Tavern\, 1332 Massachusetts Ave\, Lexington\, MA\, 02420\, United States
CATEGORIES:Historical
ATTACH;FMTTYPE=image/jpeg:https://revolutionaryvalley.org/wp-content/uploads/2024/02/tavern-mini-camp.jpg
GEO:42.4413434;-71.2163287
X-APPLE-STRUCTURED-LOCATION;VALUE=URI;X-ADDRESS=Munroe Tavern 1332 Massachusetts Ave Lexington MA 02420 United States;X-APPLE-RADIUS=500;X-TITLE=1332 Massachusetts Ave:geo:-71.2163287,42.4413434
END:VEVENT
END:VCALENDAR