BEGIN:VCALENDAR
VERSION:2.0
PRODID:-//Revolutionary Valley Regional Tourism Council - ECPv6.15.0.1//NONSGML v1.0//EN
CALSCALE:GREGORIAN
METHOD:PUBLISH
X-WR-CALNAME:Revolutionary Valley Regional Tourism Council
X-ORIGINAL-URL:https://revolutionaryvalley.org
X-WR-CALDESC:Events for Revolutionary Valley Regional Tourism Council
REFRESH-INTERVAL;VALUE=DURATION:PT1H
X-Robots-Tag:noindex
X-PUBLISHED-TTL:PT1H
BEGIN:VTIMEZONE
TZID:America/New_York
BEGIN:DAYLIGHT
TZOFFSETFROM:-0500
TZOFFSETTO:-0400
TZNAME:EDT
DTSTART:20240310T070000
END:DAYLIGHT
BEGIN:STANDARD
TZOFFSETFROM:-0400
TZOFFSETTO:-0500
TZNAME:EST
DTSTART:20241103T060000
END:STANDARD
END:VTIMEZONE
BEGIN:VEVENT
DTSTART;TZID=America/New_York:20240101T160000
DTEND;TZID=America/New_York:20240101T230000
DTSTAMP:20260424T084106
CREATED:20231201T200206Z
LAST-MODIFIED:20231212T165310Z
UID:10045452-1704124800-1704150000@revolutionaryvalley.org
SUMMARY:Festival of Trees
DESCRIPTION:Join us at the Westford Regency for a sparkling festival of trees in our atrium beginning Saturday\, December 9\, 2023. The festival is free to all and runs until January 3\, 2024! Stop by Wednesday through Saturday to join us in Clark’s Pub after viewing the trees and enjoy Buy one entree\, recieve a kids meal FREE of charge. Also enjoy our new seasonal holiday cocktail menus and more!
URL:https://revolutionaryvalley.org/event/festival-of-trees/2024-01-01/
LOCATION:Westford Regency Inn and Conference Center\, Westford Regency Inn and Conference Center\, 219 Littleton Rd\, Westford\, MA\, 01886\, United States
CATEGORIES:Fairs & Festivals,Free Events,Kids & Family
GEO:42.5637122;-71.430493
X-APPLE-STRUCTURED-LOCATION;VALUE=URI;X-ADDRESS=Westford Regency Inn and Conference Center Westford Regency Inn and Conference Center 219 Littleton Rd Westford MA 01886 United States;X-APPLE-RADIUS=500;X-TITLE=Westford Regency Inn and Conference Center\, 219 Littleton Rd:geo:-71.430493,42.5637122
END:VEVENT
BEGIN:VEVENT
DTSTART;TZID=America/New_York:20240102T160000
DTEND;TZID=America/New_York:20240102T230000
DTSTAMP:20260424T084106
CREATED:20231201T200206Z
LAST-MODIFIED:20231212T165310Z
UID:10045453-1704211200-1704236400@revolutionaryvalley.org
SUMMARY:Festival of Trees
DESCRIPTION:Join us at the Westford Regency for a sparkling festival of trees in our atrium beginning Saturday\, December 9\, 2023. The festival is free to all and runs until January 3\, 2024! Stop by Wednesday through Saturday to join us in Clark’s Pub after viewing the trees and enjoy Buy one entree\, recieve a kids meal FREE of charge. Also enjoy our new seasonal holiday cocktail menus and more!
URL:https://revolutionaryvalley.org/event/festival-of-trees/2024-01-02/
LOCATION:Westford Regency Inn and Conference Center\, Westford Regency Inn and Conference Center\, 219 Littleton Rd\, Westford\, MA\, 01886\, United States
CATEGORIES:Fairs & Festivals,Free Events,Kids & Family
GEO:42.5637122;-71.430493
X-APPLE-STRUCTURED-LOCATION;VALUE=URI;X-ADDRESS=Westford Regency Inn and Conference Center Westford Regency Inn and Conference Center 219 Littleton Rd Westford MA 01886 United States;X-APPLE-RADIUS=500;X-TITLE=Westford Regency Inn and Conference Center\, 219 Littleton Rd:geo:-71.430493,42.5637122
END:VEVENT
BEGIN:VEVENT
DTSTART;TZID=America/New_York:20240105T100000
DTEND;TZID=America/New_York:20240105T120000
DTSTAMP:20260424T084106
CREATED:20231215T135941Z
LAST-MODIFIED:20231215T135941Z
UID:10046376-1704448800-1704456000@revolutionaryvalley.org
SUMMARY:Icy Investigations
DESCRIPTION:Brrrr…Things are getting chilly at the Discovery Museum. Experiment with different types of salt as you explore the unique characteristics of this solid state of water. Add in some liquid watercolors and discover just how cool science can be.
URL:https://revolutionaryvalley.org/event/icy-investigations/
LOCATION:Discovery Museum\, Discovery Museum\, 177 Main St\, Acton\, MA\, 01720\, United States
CATEGORIES:Kids & Family
ATTACH;FMTTYPE=image/jpeg:https://revolutionaryvalley.org/wp-content/uploads/2023/12/Icy-Investigations.jpg
ORGANIZER;CN="Discovery Museum":MAILTO:fun@discoveryacton.org
GEO:42.464745;-71.4560492
X-APPLE-STRUCTURED-LOCATION;VALUE=URI;X-ADDRESS=Discovery Museum Discovery Museum 177 Main St Acton MA 01720 United States;X-APPLE-RADIUS=500;X-TITLE=Discovery Museum\, 177 Main St:geo:-71.4560492,42.464745
END:VEVENT
BEGIN:VEVENT
DTSTART;TZID=America/New_York:20240111T100000
DTEND;TZID=America/New_York:20240111T120000
DTSTAMP:20260424T084106
CREATED:20231215T160019Z
LAST-MODIFIED:20231215T160019Z
UID:10046377-1704967200-1704974400@revolutionaryvalley.org
SUMMARY:Everyday Engineering: Rolling Down a Ramp
DESCRIPTION:Engage in some everyday engineering as you discover the science of ramps. Using a variety of materials and plenty of curiosity we’ll find ways to test what makes things go fast or slow down a ramp and what it takes to roll.
URL:https://revolutionaryvalley.org/event/everyday-engineering-rolling-down-a-ramp/
LOCATION:Discovery Museum\, Discovery Museum\, 177 Main St\, Acton\, MA\, 01720\, United States
CATEGORIES:Kids & Family
ORGANIZER;CN="Discovery Museum":MAILTO:fun@discoveryacton.org
GEO:42.464745;-71.4560492
X-APPLE-STRUCTURED-LOCATION;VALUE=URI;X-ADDRESS=Discovery Museum Discovery Museum 177 Main St Acton MA 01720 United States;X-APPLE-RADIUS=500;X-TITLE=Discovery Museum\, 177 Main St:geo:-71.4560492,42.464745
END:VEVENT
BEGIN:VEVENT
DTSTART;TZID=America/New_York:20240115T103000
DTEND;TZID=America/New_York:20240115T110000
DTSTAMP:20260424T084106
CREATED:20231205T174147Z
LAST-MODIFIED:20231219T204002Z
UID:10045807-1705314600-1705316400@revolutionaryvalley.org
SUMMARY:Family Yoga in the deCordova Museum
DESCRIPTION:Move together as a family! This kid-friendly yoga class weaves a rich balance between the imaginative world of the child with the distinct aspects of yoga practice that support mindfulness\, self-regulation and joy. Your instructor comes from the teaching team at On The Mat Yoga in Concord. \nFor ages 3-12 with a caregiver. Bring a water bottle and a mat. \nMeet on the 3rd floor of the Museum. \nAfterward\, enjoy a picnic (bring your own or grab something onsite from Twisted Tree Café) and explore the Sculpture Park.
URL:https://revolutionaryvalley.org/event/family-yoga-in-the-decordova-museum-2/
LOCATION:deCordova Sculpture Park and Museum\, 51 Sandy Pond Road\, Lincoln\, MA\, 01773\, United States
CATEGORIES:Arts & Culture,Kids & Family
ATTACH;FMTTYPE=image/jpeg:https://revolutionaryvalley.org/wp-content/uploads/2023/12/Yoga-Pic-2-1-scaled.jpg
ORGANIZER;CN="deCordova Sculpture Park and Museum":MAILTO:tickets@thetrustees.org
GEO:42.4298606;-71.3140243
X-APPLE-STRUCTURED-LOCATION;VALUE=URI;X-ADDRESS=deCordova Sculpture Park and Museum 51 Sandy Pond Road Lincoln MA 01773 United States;X-APPLE-RADIUS=500;X-TITLE=51 Sandy Pond Road:geo:-71.3140243,42.4298606
END:VEVENT
BEGIN:VEVENT
DTSTART;TZID=America/New_York:20240115T113000
DTEND;TZID=America/New_York:20240115T123000
DTSTAMP:20260424T084106
CREATED:20231205T173458Z
LAST-MODIFIED:20231219T204113Z
UID:10045806-1705318200-1705321800@revolutionaryvalley.org
SUMMARY:Yoga in the deCordova Museum
DESCRIPTION:Activate your body and mind as a teacher from On The Mat Yoga leads vinyasa yoga surrounded by sculpture and nature. \nBring your mat and a water bottle and get ready to Namaste! For ages 13+ \nMeet on the 3rd floor of the Museum! \nAfterward\, enjoy a picnic (bring your own or grab something onsite from Twisted Tree Café) and explore the Sculpture Park.
URL:https://revolutionaryvalley.org/event/yoga-in-the-decordova-museum-2/
LOCATION:deCordova Sculpture Park and Museum\, 51 Sandy Pond Road\, Lincoln\, MA\, 01773\, United States
CATEGORIES:Arts & Culture,Kids & Family
ATTACH;FMTTYPE=image/jpeg:https://revolutionaryvalley.org/wp-content/uploads/2023/12/Yoga-Pic-3-scaled.jpg
ORGANIZER;CN="deCordova Sculpture Park and Museum":MAILTO:tickets@thetrustees.org
GEO:42.4298606;-71.3140243
X-APPLE-STRUCTURED-LOCATION;VALUE=URI;X-ADDRESS=deCordova Sculpture Park and Museum 51 Sandy Pond Road Lincoln MA 01773 United States;X-APPLE-RADIUS=500;X-TITLE=51 Sandy Pond Road:geo:-71.3140243,42.4298606
END:VEVENT
BEGIN:VEVENT
DTSTART;TZID=America/New_York:20240120T120000
DTEND;TZID=America/New_York:20240120T160000
DTSTAMP:20260424T084106
CREATED:20240102T142344Z
LAST-MODIFIED:20240102T142344Z
UID:10047962-1705752000-1705766400@revolutionaryvalley.org
SUMMARY:Medieval merriment
DESCRIPTION:Miss the renaissance faire during the chilly winter? Enjoy the afternoon of food\, fun\, faire\, music and vendors (free to attend). Win prizes for best medieval attire.
URL:https://revolutionaryvalley.org/event/medieval-merriment/
LOCATION:Mill No. 5\, 5th floor Events hall\, Jackson street\, Liwell\, United States
CATEGORIES:Annual & Special,Fairs & Festivals,Free Events,Kids & Family
ATTACH;FMTTYPE=image/jpeg:https://revolutionaryvalley.org/wp-content/uploads/2024/01/IMG_1098.jpg
GEO:42.6414803;-71.3124185
X-APPLE-STRUCTURED-LOCATION;VALUE=URI;X-ADDRESS=Mill No. 5 5th floor Events hall Jackson street Liwell United States;X-APPLE-RADIUS=500;X-TITLE=Jackson street:geo:-71.3124185,42.6414803
END:VEVENT
BEGIN:VEVENT
DTSTART;TZID=America/New_York:20240123T100000
DTEND;TZID=America/New_York:20240123T120000
DTSTAMP:20260424T084106
CREATED:20231215T155821Z
LAST-MODIFIED:20231215T155821Z
UID:10046381-1706004000-1706011200@revolutionaryvalley.org
SUMMARY:Threading Things
DESCRIPTION:Join us as we tinker about with beads\, yarn\, buttons\, and other items that can be threaded\, strung\, looped\, and laced. Try your hand at some simple stitching or practice with some over sized beads.
URL:https://revolutionaryvalley.org/event/threading-things/
LOCATION:Discovery Museum\, Discovery Museum\, 177 Main St\, Acton\, MA\, 01720\, United States
CATEGORIES:Kids & Family
ATTACH;FMTTYPE=image/jpeg:https://revolutionaryvalley.org/wp-content/uploads/2023/12/threading.jpg
ORGANIZER;CN="Discovery Museum":MAILTO:fun@discoveryacton.org
GEO:42.464745;-71.4560492
X-APPLE-STRUCTURED-LOCATION;VALUE=URI;X-ADDRESS=Discovery Museum Discovery Museum 177 Main St Acton MA 01720 United States;X-APPLE-RADIUS=500;X-TITLE=Discovery Museum\, 177 Main St:geo:-71.4560492,42.464745
END:VEVENT
BEGIN:VEVENT
DTSTART;TZID=America/New_York:20240125T100000
DTEND;TZID=America/New_York:20240125T120000
DTSTAMP:20260424T084106
CREATED:20231215T155634Z
LAST-MODIFIED:20231215T155634Z
UID:10046382-1706176800-1706184000@revolutionaryvalley.org
SUMMARY:Make a Mess: Sensory Snow
DESCRIPTION:Let it snow! Even if it’s not snowing outside\, we’ll still be able to make some mini snowballs and snowmen with our baking soda and shaving cream “snow”. Use your hands to mix together the two ingredients and see how it compares to the real thing!
URL:https://revolutionaryvalley.org/event/make-a-mess-sensory-snow/
LOCATION:Discovery Museum\, Discovery Museum\, 177 Main St\, Acton\, MA\, 01720\, United States
CATEGORIES:Kids & Family
ATTACH;FMTTYPE=image/jpeg:https://revolutionaryvalley.org/wp-content/uploads/2023/12/Discovery-Woods-snowy-exterior-treehouse.jpg
ORGANIZER;CN="Discovery Museum":MAILTO:fun@discoveryacton.org
GEO:42.464745;-71.4560492
X-APPLE-STRUCTURED-LOCATION;VALUE=URI;X-ADDRESS=Discovery Museum Discovery Museum 177 Main St Acton MA 01720 United States;X-APPLE-RADIUS=500;X-TITLE=Discovery Museum\, 177 Main St:geo:-71.4560492,42.464745
END:VEVENT
BEGIN:VEVENT
DTSTART;TZID=America/New_York:20240125T190000
DTEND;TZID=America/New_York:20240125T200000
DTSTAMP:20260424T084106
CREATED:20231205T173255Z
LAST-MODIFIED:20231205T173255Z
UID:10045805-1706209200-1706212800@revolutionaryvalley.org
SUMMARY:Full Moon Tour at deCordova
DESCRIPTION:Bring your family and firneds to see sculptures transformed by the moonlight in this special after-hours tour. \nSmall group tours with deCordova’s experienced Museum Guides last 60-75 minutes. Please dress for the wather with sturdy footwear. Bring a flashlight or lantern. \nVisitors should park in the main lot and meet their Museum Guide in front of the Museum. Questions about accessibility? Please contact Cindy at cclark@thetrustees.org \nMore details: \nWell behaved\, leashed dogs are welcome\nCan’t make this date? Full moon tours are offered monthly
URL:https://revolutionaryvalley.org/event/full-moon-tour-at-decordova-3/
LOCATION:deCordova Sculpture Park and Museum\, 51 Sandy Pond Road\, Lincoln\, MA\, 01773\, United States
CATEGORIES:Arts & Culture,Exhibits,Kids & Family,Outdoors
ATTACH;FMTTYPE=image/jpeg:https://revolutionaryvalley.org/wp-content/uploads/2023/12/moon.jpg
ORGANIZER;CN="deCordova Sculpture Park and Museum":MAILTO:tickets@thetrustees.org
GEO:42.4298606;-71.3140243
X-APPLE-STRUCTURED-LOCATION;VALUE=URI;X-ADDRESS=deCordova Sculpture Park and Museum 51 Sandy Pond Road Lincoln MA 01773 United States;X-APPLE-RADIUS=500;X-TITLE=51 Sandy Pond Road:geo:-71.3140243,42.4298606
END:VEVENT
BEGIN:VEVENT
DTSTART;TZID=America/New_York:20240130T100000
DTEND;TZID=America/New_York:20240130T103000
DTSTAMP:20260424T084106
CREATED:20231215T155616Z
LAST-MODIFIED:20231215T155616Z
UID:10046383-1706608800-1706610600@revolutionaryvalley.org
SUMMARY:Backyard and Beyond: Weather the Weather
DESCRIPTION:Join us in Discovery Woods to celebrate whatever weather Mother Nature decides give us today. We’ll be doing an activity that works with the weather\, whether it’s windy\, sunny\, or snowy.
URL:https://revolutionaryvalley.org/event/backyard-and-beyond-weather-the-weather/
LOCATION:Discovery Museum\, Discovery Museum\, 177 Main St\, Acton\, MA\, 01720\, United States
CATEGORIES:Kids & Family
ATTACH;FMTTYPE=image/jpeg:https://revolutionaryvalley.org/wp-content/uploads/2023/12/Snow-play-on-the-lawn.jpg
ORGANIZER;CN="Discovery Museum":MAILTO:fun@discoveryacton.org
GEO:42.464745;-71.4560492
X-APPLE-STRUCTURED-LOCATION;VALUE=URI;X-ADDRESS=Discovery Museum Discovery Museum 177 Main St Acton MA 01720 United States;X-APPLE-RADIUS=500;X-TITLE=Discovery Museum\, 177 Main St:geo:-71.4560492,42.464745
END:VEVENT
END:VCALENDAR