BEGIN:VCALENDAR
VERSION:2.0
PRODID:-//Revolutionary Valley Regional Tourism Council - ECPv6.15.0.1//NONSGML v1.0//EN
CALSCALE:GREGORIAN
METHOD:PUBLISH
X-WR-CALNAME:Revolutionary Valley Regional Tourism Council
X-ORIGINAL-URL:https://revolutionaryvalley.org
X-WR-CALDESC:Events for Revolutionary Valley Regional Tourism Council
REFRESH-INTERVAL;VALUE=DURATION:PT1H
X-Robots-Tag:noindex
X-PUBLISHED-TTL:PT1H
BEGIN:VTIMEZONE
TZID:UTC
BEGIN:STANDARD
TZOFFSETFROM:+0000
TZOFFSETTO:+0000
TZNAME:UTC
DTSTART:20220101T000000
END:STANDARD
END:VTIMEZONE
BEGIN:VTIMEZONE
TZID:America/New_York
BEGIN:DAYLIGHT
TZOFFSETFROM:-0500
TZOFFSETTO:-0400
TZNAME:EDT
DTSTART:20220313T070000
END:DAYLIGHT
BEGIN:STANDARD
TZOFFSETFROM:-0400
TZOFFSETTO:-0500
TZNAME:EST
DTSTART:20221106T060000
END:STANDARD
END:VTIMEZONE
BEGIN:VEVENT
DTSTART;TZID=UTC:20220611T110000
DTEND;TZID=UTC:20220612T143000
DTSTAMP:20260421T033435
CREATED:20230329T171625Z
LAST-MODIFIED:20230329T171625Z
UID:10016350-1654945200-1655044200@revolutionaryvalley.org
SUMMARY:Lowell Spinners vs Aberdeen Iron Birds
DESCRIPTION:The Lowell Spinners bring America’s pastime to LeLacheur Park with 3 day home stands vs Aberdeen Iron Birds.
URL:https://revolutionaryvalley.org/event/lowell-spinners-vs-aberdeen-iron-birds/2022-06-11/
LOCATION:Edward A. LeLacheur Park\, Edward A. Lelacheur Park\, 450 Aiken Ave\, Lowell\, MA\, 01854\, United States
CATEGORIES:Free Events,Kids & Family,Sports
ATTACH;FMTTYPE=image/jpeg:https://revolutionaryvalley.org/wp-content/uploads/2018/06/lowellspinnerslogo.jpg
GEO:42.6529173;-71.3178353
X-APPLE-STRUCTURED-LOCATION;VALUE=URI;X-ADDRESS=Edward A. LeLacheur Park Edward A. Lelacheur Park 450 Aiken Ave Lowell MA 01854 United States;X-APPLE-RADIUS=500;X-TITLE=Edward A. Lelacheur Park\, 450 Aiken Ave:geo:-71.3178353,42.6529173
END:VEVENT
BEGIN:VEVENT
DTSTART;TZID=UTC:20220611T110000
DTEND;TZID=UTC:20220612T143000
DTSTAMP:20260421T033435
CREATED:20230329T171629Z
LAST-MODIFIED:20230329T171629Z
UID:10018072-1654945200-1655044200@revolutionaryvalley.org
SUMMARY:Lowell Spinners vs Aberdeen Iron Birds
DESCRIPTION:The Lowell Spinners bring America’s pastime to LeLacheur Park with 3 day home stands vs Aberdeen Iron Birds.
URL:https://revolutionaryvalley.org/event/lowell-spinners-vs-aberdeen-iron-birds-2/2022-06-11/
LOCATION:Edward A. LeLacheur Park\, Edward A. Lelacheur Park\, 450 Aiken Ave\, Lowell\, MA\, 01854\, United States
CATEGORIES:Free Events,Kids & Family,Sports
ATTACH;FMTTYPE=image/jpeg:https://revolutionaryvalley.org/wp-content/uploads/2018/06/lowellspinnerslogo.jpg
GEO:42.6529173;-71.3178353
X-APPLE-STRUCTURED-LOCATION;VALUE=URI;X-ADDRESS=Edward A. LeLacheur Park Edward A. Lelacheur Park 450 Aiken Ave Lowell MA 01854 United States;X-APPLE-RADIUS=500;X-TITLE=Edward A. Lelacheur Park\, 450 Aiken Ave:geo:-71.3178353,42.6529173
END:VEVENT
BEGIN:VEVENT
DTSTART;TZID=America/New_York:20220612T100000
DTEND;TZID=America/New_York:20220612T140000
DTSTAMP:20260421T033435
CREATED:20220603T141153Z
LAST-MODIFIED:20220603T141153Z
UID:10023503-1655028000-1655042400@revolutionaryvalley.org
SUMMARY:Family Tree Reflection Room
DESCRIPTION:In honor of Pride Month\, we are turning our PlayLab into an inviting reflection space for visitors to celebrate the diversity of all families. We’ll feature a collection of children’s stories that explore all the wonderful ways every family\, and every family member\, is unique. Adults and children can work together to create a family portrait and add it to our “family tree.”
URL:https://revolutionaryvalley.org/event/family-tree-reflection-room/
LOCATION:Discovery Museum\, Discovery Museum\, 177 Main St\, Acton\, MA\, 01720\, United States
CATEGORIES:Kids & Family
ATTACH;FMTTYPE=image/jpeg:https://revolutionaryvalley.org/wp-content/uploads/2022/06/bds_DM_horizontal_notag_rgb-scaled.jpg
ORGANIZER;CN="Discovery Museum":MAILTO:fun@discoveryacton.org
GEO:42.464745;-71.4560492
X-APPLE-STRUCTURED-LOCATION;VALUE=URI;X-ADDRESS=Discovery Museum Discovery Museum 177 Main St Acton MA 01720 United States;X-APPLE-RADIUS=500;X-TITLE=Discovery Museum\, 177 Main St:geo:-71.4560492,42.464745
END:VEVENT
BEGIN:VEVENT
DTSTART;TZID=UTC:20220612T110000
DTEND;TZID=UTC:20220613T143000
DTSTAMP:20260421T033435
CREATED:20230329T171625Z
LAST-MODIFIED:20230329T171625Z
UID:10016351-1655031600-1655130600@revolutionaryvalley.org
SUMMARY:Lowell Spinners vs Aberdeen Iron Birds
DESCRIPTION:The Lowell Spinners bring America’s pastime to LeLacheur Park with 3 day home stands vs Aberdeen Iron Birds.
URL:https://revolutionaryvalley.org/event/lowell-spinners-vs-aberdeen-iron-birds/2022-06-12/
LOCATION:Edward A. LeLacheur Park\, Edward A. Lelacheur Park\, 450 Aiken Ave\, Lowell\, MA\, 01854\, United States
CATEGORIES:Free Events,Kids & Family,Sports
ATTACH;FMTTYPE=image/jpeg:https://revolutionaryvalley.org/wp-content/uploads/2018/06/lowellspinnerslogo.jpg
GEO:42.6529173;-71.3178353
X-APPLE-STRUCTURED-LOCATION;VALUE=URI;X-ADDRESS=Edward A. LeLacheur Park Edward A. Lelacheur Park 450 Aiken Ave Lowell MA 01854 United States;X-APPLE-RADIUS=500;X-TITLE=Edward A. Lelacheur Park\, 450 Aiken Ave:geo:-71.3178353,42.6529173
END:VEVENT
BEGIN:VEVENT
DTSTART;TZID=UTC:20220612T110000
DTEND;TZID=UTC:20220613T143000
DTSTAMP:20260421T033435
CREATED:20230329T171629Z
LAST-MODIFIED:20230329T171629Z
UID:10018073-1655031600-1655130600@revolutionaryvalley.org
SUMMARY:Lowell Spinners vs Aberdeen Iron Birds
DESCRIPTION:The Lowell Spinners bring America’s pastime to LeLacheur Park with 3 day home stands vs Aberdeen Iron Birds.
URL:https://revolutionaryvalley.org/event/lowell-spinners-vs-aberdeen-iron-birds-2/2022-06-12/
LOCATION:Edward A. LeLacheur Park\, Edward A. Lelacheur Park\, 450 Aiken Ave\, Lowell\, MA\, 01854\, United States
CATEGORIES:Free Events,Kids & Family,Sports
ATTACH;FMTTYPE=image/jpeg:https://revolutionaryvalley.org/wp-content/uploads/2018/06/lowellspinnerslogo.jpg
GEO:42.6529173;-71.3178353
X-APPLE-STRUCTURED-LOCATION;VALUE=URI;X-ADDRESS=Edward A. LeLacheur Park Edward A. Lelacheur Park 450 Aiken Ave Lowell MA 01854 United States;X-APPLE-RADIUS=500;X-TITLE=Edward A. Lelacheur Park\, 450 Aiken Ave:geo:-71.3178353,42.6529173
END:VEVENT
BEGIN:VEVENT
DTSTART;TZID=UTC:20220612T190000
DTEND;TZID=UTC:20220612T210000
DTSTAMP:20260421T033435
CREATED:20180925T060806Z
LAST-MODIFIED:20180925T060806Z
UID:10020325-1655060400-1655067600@revolutionaryvalley.org
SUMMARY:Native Gardens By Karen Zacarías Directed by Giovanna Sardelli
DESCRIPTION:Good fences make good neighbors . . . right?\n\nA millennial\, Latinx couple moves in next door to a white\, baby boomer couple in Karen Zacarías’ topical new comedy. After some good-natured ribbing over gardening styles–traditional designs versus the eco-friendlier native plants–the couples find themselves at odds over an unexpected property line dispute. A dispute that explodes into a host of verbal jabs and blows over race\, culture\, privilege\, and the meaning of neighborly behavior.
URL:https://revolutionaryvalley.org/event/native-gardens-by-karen-zacarias-directed-by-giovanna-sardelli/2022-06-12/
LOCATION:Merrimack Repertory Theatre\, 50 E Merrimack St\, Lowell\, MA\, 01852\, United States
CATEGORIES:Annual & Special,Arts & Culture,Kids & Family,Live Performances
ATTACH;FMTTYPE=image/jpeg:https://revolutionaryvalley.org/wp-content/uploads/2018/09/MRT-September-Image.jpg
GEO:42.6450982;-71.3042176
X-APPLE-STRUCTURED-LOCATION;VALUE=URI;X-ADDRESS=Merrimack Repertory Theatre 50 E Merrimack St Lowell MA 01852 United States;X-APPLE-RADIUS=500;X-TITLE=50 E Merrimack St:geo:-71.3042176,42.6450982
END:VEVENT
BEGIN:VEVENT
DTSTART;TZID=UTC:20220612T190000
DTEND;TZID=UTC:20220612T210000
DTSTAMP:20260421T033435
CREATED:20180925T060806Z
LAST-MODIFIED:20180925T060806Z
UID:10021976-1655060400-1655067600@revolutionaryvalley.org
SUMMARY:Native Gardens By Karen Zacarías Directed by Giovanna Sardelli
DESCRIPTION:Good fences make good neighbors . . . right?\n\nA millennial\, Latinx couple moves in next door to a white\, baby boomer couple in Karen Zacarías’ topical new comedy. After some good-natured ribbing over gardening styles–traditional designs versus the eco-friendlier native plants–the couples find themselves at odds over an unexpected property line dispute. A dispute that explodes into a host of verbal jabs and blows over race\, culture\, privilege\, and the meaning of neighborly behavior.
URL:https://revolutionaryvalley.org/event/native-gardens-by-karen-zacarias-directed-by-giovanna-sardelli-2/2022-06-12/
LOCATION:Merrimack Repertory Theatre\, 50 E Merrimack St\, Lowell\, MA\, 01852\, United States
CATEGORIES:Annual & Special,Arts & Culture,Kids & Family,Live Performances
ATTACH;FMTTYPE=image/jpeg:https://revolutionaryvalley.org/wp-content/uploads/2018/09/MRT-September-Image.jpg
GEO:42.6450982;-71.3042176
X-APPLE-STRUCTURED-LOCATION;VALUE=URI;X-ADDRESS=Merrimack Repertory Theatre 50 E Merrimack St Lowell MA 01852 United States;X-APPLE-RADIUS=500;X-TITLE=50 E Merrimack St:geo:-71.3042176,42.6450982
END:VEVENT
END:VCALENDAR