BEGIN:VCALENDAR
VERSION:2.0
PRODID:-//Revolutionary Valley Regional Tourism Council - ECPv6.15.0.1//NONSGML v1.0//EN
CALSCALE:GREGORIAN
METHOD:PUBLISH
X-WR-CALNAME:Revolutionary Valley Regional Tourism Council
X-ORIGINAL-URL:https://revolutionaryvalley.org
X-WR-CALDESC:Events for Revolutionary Valley Regional Tourism Council
REFRESH-INTERVAL;VALUE=DURATION:PT1H
X-Robots-Tag:noindex
X-PUBLISHED-TTL:PT1H
BEGIN:VTIMEZONE
TZID:America/New_York
BEGIN:DAYLIGHT
TZOFFSETFROM:-0500
TZOFFSETTO:-0400
TZNAME:EDT
DTSTART:20230312T070000
END:DAYLIGHT
BEGIN:STANDARD
TZOFFSETFROM:-0400
TZOFFSETTO:-0500
TZNAME:EST
DTSTART:20231105T060000
END:STANDARD
END:VTIMEZONE
BEGIN:VEVENT
DTSTART;TZID=America/New_York:20230516T103000
DTEND;TZID=America/New_York:20230516T110000
DTSTAMP:20260419T132818
CREATED:20230424T132911Z
LAST-MODIFIED:20230424T132911Z
UID:10026833-1684233000-1684234800@revolutionaryvalley.org
SUMMARY:Fun Family Outdoor Yoga
DESCRIPTION:Join us with your family to move your body in healthy ways and connect with nature while doing outdoor yoga! Yoga improves physical and mental strength and can also improve self-awareness and mental focus. Kelly Western\, professional yoga instructor\, will lead this caregiver & child yoga class that incorporates balance\, strength\, stretching\, and mindfulness in the context of connecting with nature. \nYoga mats available. (Optional: Bring your own yoga mat or beach towel.) \nInclement weather may result in changes to the program\, or cancellation.
URL:https://revolutionaryvalley.org/event/fun-family-outdoor-yoga-3/
LOCATION:Discovery Museum\, Discovery Museum\, 177 Main St\, Acton\, MA\, 01720\, United States
CATEGORIES:Kids & Family
ORGANIZER;CN="Discovery Museum":MAILTO:fun@discoveryacton.org
GEO:42.464745;-71.4560492
X-APPLE-STRUCTURED-LOCATION;VALUE=URI;X-ADDRESS=Discovery Museum Discovery Museum 177 Main St Acton MA 01720 United States;X-APPLE-RADIUS=500;X-TITLE=Discovery Museum\, 177 Main St:geo:-71.4560492,42.464745
END:VEVENT
END:VCALENDAR