BEGIN:VCALENDAR
VERSION:2.0
PRODID:-//Revolutionary Valley Regional Tourism Council - ECPv6.15.0.1//NONSGML v1.0//EN
CALSCALE:GREGORIAN
METHOD:PUBLISH
X-ORIGINAL-URL:https://revolutionaryvalley.org
X-WR-CALDESC:Events for Revolutionary Valley Regional Tourism Council
REFRESH-INTERVAL;VALUE=DURATION:PT1H
X-Robots-Tag:noindex
X-PUBLISHED-TTL:PT1H
BEGIN:VTIMEZONE
TZID:America/New_York
BEGIN:DAYLIGHT
TZOFFSETFROM:-0500
TZOFFSETTO:-0400
TZNAME:EDT
DTSTART:20230312T070000
END:DAYLIGHT
BEGIN:STANDARD
TZOFFSETFROM:-0400
TZOFFSETTO:-0500
TZNAME:EST
DTSTART:20231105T060000
END:STANDARD
END:VTIMEZONE
BEGIN:VEVENT
DTSTART;TZID=America/New_York:20230709T100000
DTEND;TZID=America/New_York:20230709T120000
DTSTAMP:20260420T083655
CREATED:20230508T141128Z
LAST-MODIFIED:20230510T164535Z
UID:10027163-1688896800-1688904000@revolutionaryvalley.org
SUMMARY:Art in the Park with Tom Whiting: Digital Plein Air Along the Merrimack
DESCRIPTION:At the event visitors will draw/paint a plein air scene on the banks of the Merrimack River with the assistance of the instructor \nSuggested Audience: People interested in doing art digitally in nature\, ages 12 and up] \nTom Whiting is a studio artist at the Brush Art Gallery in Lowell\, Massachusetts. He has training in Oil and Acrylic painting\, drawing\, and ceramics. His current concentration is in digital art in a representative style. \nCall 978-970-5000 to reserve your spot.
URL:https://revolutionaryvalley.org/event/art-in-the-park-with-tom-whiting-digital-plein-air-along-the-merrimack/
LOCATION:97 University Ave\, Lowell\, 01854\, United States
CATEGORIES:Arts & Culture,Free Events,Kids & Family
ORGANIZER;CN="Lowell National Historical Park":MAILTO:phil_lupsiewicz@nps.gov
END:VEVENT
END:VCALENDAR