BEGIN:VCALENDAR
VERSION:2.0
PRODID:-//Revolutionary Valley Regional Tourism Council - ECPv6.15.0.1//NONSGML v1.0//EN
CALSCALE:GREGORIAN
METHOD:PUBLISH
X-WR-CALNAME:Revolutionary Valley Regional Tourism Council
X-ORIGINAL-URL:https://revolutionaryvalley.org
X-WR-CALDESC:Events for Revolutionary Valley Regional Tourism Council
REFRESH-INTERVAL;VALUE=DURATION:PT1H
X-Robots-Tag:noindex
X-PUBLISHED-TTL:PT1H
BEGIN:VTIMEZONE
TZID:America/New_York
BEGIN:DAYLIGHT
TZOFFSETFROM:-0500
TZOFFSETTO:-0400
TZNAME:EDT
DTSTART:20230312T070000
END:DAYLIGHT
BEGIN:STANDARD
TZOFFSETFROM:-0400
TZOFFSETTO:-0500
TZNAME:EST
DTSTART:20231105T060000
END:STANDARD
END:VTIMEZONE
BEGIN:VEVENT
DTSTART;TZID=America/New_York:20230728T200000
DTEND;TZID=America/New_York:20230728T223000
DTSTAMP:20260420T064406
CREATED:20230327T132934Z
LAST-MODIFIED:20230327T132934Z
UID:10026035-1690574400-1690583400@revolutionaryvalley.org
SUMMARY:The Breakers - A Tribute to Tom Petty
DESCRIPTION:The Breakers: A Tribute to Tom Petty – The country’s premier Tom Petty & the Heartbreakers tribute band. Established to let the fans of the late great Tom Petty continue to enjoy the live experience of TP & the HB’s. No other Tom Petty tribute band comes close to capturing the SOUND and emotions of Tom’s songs quite like the Breakers. Unlike the vast amount of Tom Petty tributes who substitute visual mimicry for sound\, the Breakers encompass the true unmistakable sound and execution of Tom Petty & the Heartbreakers. \nThomas E. Tidman Amphitheater at NARA Park\, 25 Ledge Rock Way\, Acton\, MA 01720. Free Parking on Site. Please follow yellow event parking signage to parking area. This is an outdoor venue. In the event of weather updates\, please visit the NARA Park Facebook page. Bring your own lawn chairs or blankets\, dress for the weather. You can bring your own food and soft drinks (no alcohol permitted unless purchased on premises)\, food will be available for sale. Gates open one hour prior to showtime. We recommend using mosquito repellent. \nhttps://youtu.be/3EwDF86LSYU\n\n \nhttp://www.thebreakersband.com/
URL:https://revolutionaryvalley.org/event/the-breakers-a-tribute-to-tom-petty/
LOCATION:NARA Park\, Nara Park\, 25 Ledge Rock Way\, Acton\, MA\, 01720\, United States
CATEGORIES:Arts & Culture,Kids & Family,Live Performances,Outdoors
ATTACH;FMTTYPE=image/jpeg:https://revolutionaryvalley.org/wp-content/uploads/2023/03/The-Breakers-Square-628-pixels.jpg
ORGANIZER;CN="Town of Acton":MAILTO:recreation@actonma.gov
GEO:42.5160594;-71.4119872
X-APPLE-STRUCTURED-LOCATION;VALUE=URI;X-ADDRESS=NARA Park Nara Park 25 Ledge Rock Way Acton MA 01720 United States;X-APPLE-RADIUS=500;X-TITLE=Nara Park\, 25 Ledge Rock Way:geo:-71.4119872,42.5160594
END:VEVENT
END:VCALENDAR