BEGIN:VCALENDAR
VERSION:2.0
PRODID:-//Revolutionary Valley Regional Tourism Council - ECPv6.15.0.1//NONSGML v1.0//EN
CALSCALE:GREGORIAN
METHOD:PUBLISH
X-WR-CALNAME:Revolutionary Valley Regional Tourism Council
X-ORIGINAL-URL:https://revolutionaryvalley.org
X-WR-CALDESC:Events for Revolutionary Valley Regional Tourism Council
REFRESH-INTERVAL;VALUE=DURATION:PT1H
X-Robots-Tag:noindex
X-PUBLISHED-TTL:PT1H
BEGIN:VTIMEZONE
TZID:America/New_York
BEGIN:DAYLIGHT
TZOFFSETFROM:-0500
TZOFFSETTO:-0400
TZNAME:EDT
DTSTART:20230312T070000
END:DAYLIGHT
BEGIN:STANDARD
TZOFFSETFROM:-0400
TZOFFSETTO:-0500
TZNAME:EST
DTSTART:20231105T060000
END:STANDARD
END:VTIMEZONE
BEGIN:VEVENT
DTSTART;TZID=America/New_York:20230811T200000
DTEND;TZID=America/New_York:20230811T223000
DTSTAMP:20260420T064424
CREATED:20230327T140314Z
LAST-MODIFIED:20230327T140314Z
UID:10026038-1691784000-1691793000@revolutionaryvalley.org
SUMMARY:Hollywood Nights - A Tribute to Bob Seger
DESCRIPTION:Hollywood Nights – A Bob Seger Experience – Within the walls of HOLLYWOOD NIGHTS\, you will find a true Bob Seger experience. With a rock-solid history of giving it their all at every performance and unwavering dedication to the do-it-yourself work ethic\, the band has helped define the landscape of today’s top tribute acts. Bob Seger’s music put rock & roll back in touch with its roots\, and HOLLYWOOD NIGHTS is humbled to be on the road bringing this past experience alive once more! \nThomas E. Tidman Amphitheater at NARA Park\, 25 Ledge Rock Way\, Acton\, MA 01720. Free Parking on Site. Please follow yellow event parking signage to parking area. This is an outdoor venue. In the event of weather updates\, please visit the NARA Park Facebook page. Bring your own lawn chairs or blankets\, dress for the weather. You can bring your own food and soft drinks (no alcohol permitted unless purchased on premises)\, food will be available for sale. Gates open one hour prior to showtime. We recommend using mosquito repellent. \n\nhttps://www.hollywoodnightsband.com/
URL:https://revolutionaryvalley.org/event/hollywood-nights-a-tribute-to-bob-seger/
LOCATION:NARA Park\, Nara Park\, 25 Ledge Rock Way\, Acton\, MA\, 01720\, United States
CATEGORIES:Arts & Culture,Kids & Family,Live Performances,Outdoors
ATTACH;FMTTYPE=image/jpeg:https://revolutionaryvalley.org/wp-content/uploads/2023/03/Hollywood-Nights-Bob-Seger-Tribute-628-pixel-square.jpg
ORGANIZER;CN="Town of Acton":MAILTO:recreation@actonma.gov
GEO:42.5160594;-71.4119872
X-APPLE-STRUCTURED-LOCATION;VALUE=URI;X-ADDRESS=NARA Park Nara Park 25 Ledge Rock Way Acton MA 01720 United States;X-APPLE-RADIUS=500;X-TITLE=Nara Park\, 25 Ledge Rock Way:geo:-71.4119872,42.5160594
END:VEVENT
END:VCALENDAR