BEGIN:VCALENDAR
VERSION:2.0
PRODID:-//Revolutionary Valley Regional Tourism Council - ECPv6.15.0.1//NONSGML v1.0//EN
CALSCALE:GREGORIAN
METHOD:PUBLISH
X-WR-CALNAME:Revolutionary Valley Regional Tourism Council
X-ORIGINAL-URL:https://revolutionaryvalley.org
X-WR-CALDESC:Events for Revolutionary Valley Regional Tourism Council
REFRESH-INTERVAL;VALUE=DURATION:PT1H
X-Robots-Tag:noindex
X-PUBLISHED-TTL:PT1H
BEGIN:VTIMEZONE
TZID:America/New_York
BEGIN:DAYLIGHT
TZOFFSETFROM:-0500
TZOFFSETTO:-0400
TZNAME:EDT
DTSTART:20230312T070000
END:DAYLIGHT
BEGIN:STANDARD
TZOFFSETFROM:-0400
TZOFFSETTO:-0500
TZNAME:EST
DTSTART:20231105T060000
END:STANDARD
END:VTIMEZONE
BEGIN:VEVENT
DTSTART;TZID=America/New_York:20230827T110000
DTEND;TZID=America/New_York:20230827T130000
DTSTAMP:20260420T205818
CREATED:20230508T131130Z
LAST-MODIFIED:20230510T164726Z
UID:10027165-1693134000-1693141200@revolutionaryvalley.org
SUMMARY:Art in the Park with Paul Richardson: Photography in the Park
DESCRIPTION:About Art in the Park \nJoin LNHP and diverse local artists for our Art in the Park series of plein air (outdoors) art workshops. Under the guidance and teaching of local artists\, we will use Lowell as a backdrop for inspiration and expression. Join in to grow your creative skill in different mediums\, from drawing and watercolor to portrait work and acrylic painting. Lowell is a City of Artists – Each artist will bring their own expertise to share with you and help facilitate your own process of creating. \nPlease note the age guidance for each workshop -some workshops are more well-suited to younger artists and family groups than others. The program is free\, but space is limited\, and reservations are required. Please call 978-970-5000 to reserve a spot. \nAll programs will be outdoors\, with either rain locations or rain dates. Please bring your own supplies\, some events LNHP will have limited supplies on hand for shared use read the full description to see the Materials Used section for the workshop. The materials used in each workshop are listed below. \nA walking photographic tour of the National Park led by a photographer with over fifty years experience in photographing the city. Guidance and tips for photographing architecture will be provided. Wear comfortable walking shoes. \nMaterials Used\nAttendees please bring a Camera\, a phone camera will be ok as well. \nCall 978-970-5000 to reserve your spot.
URL:https://revolutionaryvalley.org/event/art-in-the-park-with-paul-richardson-photography-in-the-park/
LOCATION:Lowell National Historical Park Visitor Center\, Lowell National Historical Park Visitor Center\, 246 Market St\, Lowell\, MA\, United States
CATEGORIES:Arts & Culture,Free Events,Kids & Family
ATTACH;FMTTYPE=image/jpeg:https://revolutionaryvalley.org/wp-content/uploads/2023/05/D6B0FBD2-C6B4-C6FB-D9066CA02B6AFB0F.jpg
ORGANIZER;CN="Lowell National Historical Park":MAILTO:phil_lupsiewicz@nps.gov
GEO:42.6444497;-71.3124716
X-APPLE-STRUCTURED-LOCATION;VALUE=URI;X-ADDRESS=Lowell National Historical Park Visitor Center Lowell National Historical Park Visitor Center 246 Market St Lowell MA United States;X-APPLE-RADIUS=500;X-TITLE=Lowell National Historical Park Visitor Center\, 246 Market St:geo:-71.3124716,42.6444497
END:VEVENT
END:VCALENDAR