BEGIN:VCALENDAR
VERSION:2.0
PRODID:-//Revolutionary Valley Regional Tourism Council - ECPv6.15.0.1//NONSGML v1.0//EN
CALSCALE:GREGORIAN
METHOD:PUBLISH
X-WR-CALNAME:Revolutionary Valley Regional Tourism Council
X-ORIGINAL-URL:https://revolutionaryvalley.org
X-WR-CALDESC:Events for Revolutionary Valley Regional Tourism Council
REFRESH-INTERVAL;VALUE=DURATION:PT1H
X-Robots-Tag:noindex
X-PUBLISHED-TTL:PT1H
BEGIN:VTIMEZONE
TZID:America/New_York
BEGIN:DAYLIGHT
TZOFFSETFROM:-0500
TZOFFSETTO:-0400
TZNAME:EDT
DTSTART:20240310T070000
END:DAYLIGHT
BEGIN:STANDARD
TZOFFSETFROM:-0400
TZOFFSETTO:-0500
TZNAME:EST
DTSTART:20241103T060000
END:STANDARD
END:VTIMEZONE
BEGIN:VEVENT
DTSTART;TZID=America/New_York:20240123T100000
DTEND;TZID=America/New_York:20240123T120000
DTSTAMP:20260425T222611
CREATED:20231215T155821Z
LAST-MODIFIED:20231215T155821Z
UID:10046381-1706004000-1706011200@revolutionaryvalley.org
SUMMARY:Threading Things
DESCRIPTION:Join us as we tinker about with beads\, yarn\, buttons\, and other items that can be threaded\, strung\, looped\, and laced. Try your hand at some simple stitching or practice with some over sized beads.
URL:https://revolutionaryvalley.org/event/threading-things/
LOCATION:Discovery Museum\, Discovery Museum\, 177 Main St\, Acton\, MA\, 01720\, United States
CATEGORIES:Kids & Family
ATTACH;FMTTYPE=image/jpeg:https://revolutionaryvalley.org/wp-content/uploads/2023/12/threading.jpg
ORGANIZER;CN="Discovery Museum":MAILTO:fun@discoveryacton.org
GEO:42.464745;-71.4560492
X-APPLE-STRUCTURED-LOCATION;VALUE=URI;X-ADDRESS=Discovery Museum Discovery Museum 177 Main St Acton MA 01720 United States;X-APPLE-RADIUS=500;X-TITLE=Discovery Museum\, 177 Main St:geo:-71.4560492,42.464745
END:VEVENT
END:VCALENDAR