BEGIN:VCALENDAR
VERSION:2.0
PRODID:-//Revolutionary Valley Regional Tourism Council - ECPv6.15.0.1//NONSGML v1.0//EN
CALSCALE:GREGORIAN
METHOD:PUBLISH
X-ORIGINAL-URL:https://revolutionaryvalley.org
X-WR-CALDESC:Events for Revolutionary Valley Regional Tourism Council
REFRESH-INTERVAL;VALUE=DURATION:PT1H
X-Robots-Tag:noindex
X-PUBLISHED-TTL:PT1H
BEGIN:VTIMEZONE
TZID:America/New_York
BEGIN:DAYLIGHT
TZOFFSETFROM:-0500
TZOFFSETTO:-0400
TZNAME:EDT
DTSTART:20240310T070000
END:DAYLIGHT
BEGIN:STANDARD
TZOFFSETFROM:-0400
TZOFFSETTO:-0500
TZNAME:EST
DTSTART:20241103T060000
END:STANDARD
END:VTIMEZONE
BEGIN:VEVENT
DTSTART;TZID=America/New_York:20240214T103000
DTEND;TZID=America/New_York:20240214T113000
DTSTAMP:20260426T002145
CREATED:20240116T143616Z
LAST-MODIFIED:20240116T143616Z
UID:10049275-1707906600-1707910200@revolutionaryvalley.org
SUMMARY:ARTfull Play
DESCRIPTION:Each play-based hour of ARTfull Play features a unique opportunity to engage with art\, stories\, materials\, nature\, and new friends. The conversation and stories start just after 10:30 followed by close looking at the art and creations inspired by what we’ve seen and heard. \nEACH MONTH’S INSPIRATION:\nJanuary – Dan Graham’s Crazy Spheroid – Two Entrances\nFebruary – Richard Rosenblum’s Venusvine\nMarch – Arlene Shechet’s Tall Feather \nBest for children ages 1-4 accompanied by a caregiver\, older and younger siblings are welcome. \nWe’ll hold the program in the Park (light drizzle or shine)\, gathering near a different sculpture each month. In the event of a cancellation\, those registered will receive an email. \nFamily programs are designed to welcome a wide range of ages and abilities. Please contact us to discuss reasonable adaptations to benefit anyone in your group. \nEmail Sarah Brockway\, sbrockway@thetrustees.org if the price of the ticket is cost-prohibited for your family. \nPre-ticketing is required in order to anticipate capacity. Your ticket includes admission to deCordova’s campus\, so please feel free to explore the grounds before or after the program. You’re welcome to picnic in the Park. Bring your own picnic or pick up a bite to eat at the Twisted Tree Café\, and stop by The Store for a gift or souvenir.
URL:https://revolutionaryvalley.org/event/artfull-play-2/
LOCATION:deCordova Sculpture Park and Museum\, 51 Sandy Pond Road\, Lincoln\, MA\, 01773\, United States
CATEGORIES:Arts & Culture,Kids & Family
ATTACH;FMTTYPE=image/jpeg:https://revolutionaryvalley.org/wp-content/uploads/2024/01/ARTfull-Explorations.jpg
ORGANIZER;CN="deCordova Sculpture Park and Museum":MAILTO:tickets@thetrustees.org
GEO:42.4298606;-71.3140243
X-APPLE-STRUCTURED-LOCATION;VALUE=URI;X-ADDRESS=deCordova Sculpture Park and Museum 51 Sandy Pond Road Lincoln MA 01773 United States;X-APPLE-RADIUS=500;X-TITLE=51 Sandy Pond Road:geo:-71.3140243,42.4298606
END:VEVENT
BEGIN:VEVENT
DTSTART;TZID=America/New_York:20240214T140000
DTEND;TZID=America/New_York:20240214T160000
DTSTAMP:20260426T002145
CREATED:20240116T143033Z
LAST-MODIFIED:20240116T143033Z
UID:10049270-1707919200-1707926400@revolutionaryvalley.org
SUMMARY:Saehae bok mani badeuseyo! Happy New Year!
DESCRIPTION:Lunar New Year is a celebration observed by numerous cultures to mark the beginning of a calendar year whose months are based on moon cycles. In today’s program\, we will be joined by a Discovery Museum staff member as she shares her personal experience and her family’s traditions for the holiday. Play some traditional Korean games and try on hanbok\, traditional Korean clothes\, as you learn how to bow and wish your elders a happy new year!
URL:https://revolutionaryvalley.org/event/saehae-bok-mani-badeuseyo-happy-new-year-2/
LOCATION:Discovery Museum\, Discovery Museum\, 177 Main St\, Acton\, MA\, 01720\, United States
CATEGORIES:Kids & Family
ATTACH;FMTTYPE=image/jpeg:https://revolutionaryvalley.org/wp-content/uploads/2024/01/Lunar-New-Year-Jennies-daughter-cropped-for-website.jpg
ORGANIZER;CN="Discovery Museum":MAILTO:fun@discoveryacton.org
GEO:42.464745;-71.4560492
X-APPLE-STRUCTURED-LOCATION;VALUE=URI;X-ADDRESS=Discovery Museum Discovery Museum 177 Main St Acton MA 01720 United States;X-APPLE-RADIUS=500;X-TITLE=Discovery Museum\, 177 Main St:geo:-71.4560492,42.464745
END:VEVENT
END:VCALENDAR