BEGIN:VCALENDAR
VERSION:2.0
PRODID:-//Revolutionary Valley Regional Tourism Council - ECPv6.15.0.1//NONSGML v1.0//EN
CALSCALE:GREGORIAN
METHOD:PUBLISH
X-ORIGINAL-URL:https://revolutionaryvalley.org
X-WR-CALDESC:Events for Revolutionary Valley Regional Tourism Council
REFRESH-INTERVAL;VALUE=DURATION:PT1H
X-Robots-Tag:noindex
X-PUBLISHED-TTL:PT1H
BEGIN:VTIMEZONE
TZID:America/New_York
BEGIN:DAYLIGHT
TZOFFSETFROM:-0500
TZOFFSETTO:-0400
TZNAME:EDT
DTSTART:20240310T070000
END:DAYLIGHT
BEGIN:STANDARD
TZOFFSETFROM:-0400
TZOFFSETTO:-0500
TZNAME:EST
DTSTART:20241103T060000
END:STANDARD
END:VTIMEZONE
BEGIN:VEVENT
DTSTART;TZID=America/New_York:20240217T090000
DTEND;TZID=America/New_York:20240217T103000
DTSTAMP:20260425T211137
CREATED:20240205T182526Z
LAST-MODIFIED:20240205T182526Z
UID:10050329-1708160400-1708165800@revolutionaryvalley.org
SUMMARY:Lowell Kids Week: Wildlife Tracking at Hawk Valley Farm
DESCRIPTION:All ages\, registration required.\nWhose tracks are those?! Join the Lowell Parks and Conservation Trust for a winter adventure following the tracks of wildlife you might be surprised to find in Lowell. What types of animals bound and which ones walk on a diagonal? How can you tell a dog’s tracks from a coyote? Visit Hawk Valley Farm for answers to these questions and more! This event is co-sponsored by Mass Audubon’s Drumlin Farm Wildlife Sanctuary. This event is weather-dependent. Please Register at https://lowelllandtrust.org/wildlife-tracking-hawk-valley-farm-2024/.
URL:https://revolutionaryvalley.org/event/lowell-kids-week-wildlife-tracking-at-hawk-valley-farm/
LOCATION:Hawk Valley Farm\, Hawk Valley Farm\, 526 Varnum Ave\, Lowell\, MA\, 01854\, United States
CATEGORIES:Kids & Family,Outdoors
ATTACH;FMTTYPE=image/jpeg:https://revolutionaryvalley.org/wp-content/uploads/2024/02/1431300941.jpg
GEO:42.644248;-71.34806
X-APPLE-STRUCTURED-LOCATION;VALUE=URI;X-ADDRESS=Hawk Valley Farm Hawk Valley Farm 526 Varnum Ave Lowell MA 01854 United States;X-APPLE-RADIUS=500;X-TITLE=Hawk Valley Farm\, 526 Varnum Ave:geo:-71.34806,42.644248
END:VEVENT
BEGIN:VEVENT
DTSTART;TZID=America/New_York:20240217T120000
DTEND;TZID=America/New_York:20240217T130000
DTSTAMP:20260425T211137
CREATED:20240205T164539Z
LAST-MODIFIED:20240205T164539Z
UID:10050332-1708171200-1708174800@revolutionaryvalley.org
SUMMARY:Lowell Kids Week: Maple Sugaring
DESCRIPTION:All ages\, registration required.\nHave you ever tapped a tree to collect the sap? If you want to learn how the tapping and sugaring process works\, join Lowell Parks and Conservation Trust for this sugaring event! Lowell Parks and Conservation Trust\, along with a Teacher Naturalist from Mass Audubon\, will have a demonstration and answer your questions in the schoolyard of the STEM Academy in Lowell (dress for the weather!) Please register at https://lowelllandtrust.org/maple-sugaring-2024-2/.
URL:https://revolutionaryvalley.org/event/lowell-kids-week-maple-sugaring/
LOCATION:STEM Academy\, 43 Highland St.\, Lowell\, 01852\, United States
CATEGORIES:Culinary Tourism,Free Events,Kids & Family,Outdoors
ATTACH;FMTTYPE=image/jpeg:https://revolutionaryvalley.org/wp-content/uploads/2024/02/1162549789.jpg
GEO:42.6372936;-71.3105277
X-APPLE-STRUCTURED-LOCATION;VALUE=URI;X-ADDRESS=STEM Academy 43 Highland St. Lowell 01852 United States;X-APPLE-RADIUS=500;X-TITLE=43 Highland St.:geo:-71.3105277,42.6372936
END:VEVENT
BEGIN:VEVENT
DTSTART;TZID=America/New_York:20240217T120000
DTEND;TZID=America/New_York:20240217T153000
DTSTAMP:20260425T211137
CREATED:20240205T180944Z
LAST-MODIFIED:20240205T180944Z
UID:10050331-1708171200-1708183800@revolutionaryvalley.org
SUMMARY:Lowell Kids Week: Watch The Winterfest Youth Mural Competition
DESCRIPTION:All ages\, no registration required\nCome watch Lowell’s young artists paint their vision at Winterfest 2024! This year’s theme is “My Lowell\, paying homage to the individuals who have crafted the city to where it is today.” The competition will be open for viewing on Saturday\, 2/17 at 12 pm Judging will conclude at 3:30 pm with awards announced shortly after. For more information about the mural competition\, visit https://www.lowellwinterfest.com/mural-competition
URL:https://revolutionaryvalley.org/event/lowell-kids-week-watch-the-winterfest-youth-mural-competition/
LOCATION:Downtown Lowell\, Various Locations\, Lowell\, MA\, 01852\, United States
CATEGORIES:Arts & Culture,Fairs & Festivals,Free Events,Kids & Family
ORGANIZER;CN="Mosaic Lowell":MAILTO:info@mosaiclowell.org
GEO:42.6413742;-71.310695
X-APPLE-STRUCTURED-LOCATION;VALUE=URI;X-ADDRESS=Downtown Lowell Various Locations Lowell MA 01852 United States;X-APPLE-RADIUS=500;X-TITLE=Various Locations:geo:-71.310695,42.6413742
END:VEVENT
BEGIN:VEVENT
DTSTART;TZID=America/New_York:20240217T120000
DTEND;TZID=America/New_York:20240217T220000
DTSTAMP:20260425T211137
CREATED:20240205T182358Z
LAST-MODIFIED:20240205T182358Z
UID:10050330-1708171200-1708207200@revolutionaryvalley.org
SUMMARY:Lowell Kids Week: Lowell’s Winterfest
DESCRIPTION:All ages\, no registration required\nExplore downtown Lowell enjoying performances\, food\, and vendors that will be in Lowell all afternoon and into the night. For more information on the schedule of performances and events happening for Winterfest visit their website at: www.lowellwinterfest.com.
URL:https://revolutionaryvalley.org/event/lowell-kids-week-lowells-winterfest/
LOCATION:Downtown Lowell\, Various Locations\, Lowell\, MA\, 01852\, United States
CATEGORIES:Arts & Culture,Fairs & Festivals,Kids & Family
GEO:42.6413742;-71.310695
X-APPLE-STRUCTURED-LOCATION;VALUE=URI;X-ADDRESS=Downtown Lowell Various Locations Lowell MA 01852 United States;X-APPLE-RADIUS=500;X-TITLE=Various Locations:geo:-71.310695,42.6413742
END:VEVENT
BEGIN:VEVENT
DTSTART;TZID=America/New_York:20240217T130000
DTEND;TZID=America/New_York:20240217T160000
DTSTAMP:20260425T211137
CREATED:20240205T164440Z
LAST-MODIFIED:20240205T164440Z
UID:10050333-1708174800-1708185600@revolutionaryvalley.org
SUMMARY:Lowell Kids Week: National Parks in Winter
DESCRIPTION:All ages\, no registration required.\nWinter in National Parks: Come join us at the Lowell National Historical Park Visitor Center for fun free kids activities. Watch how winter is different in National Parks across the country. Decorate paper park ranger hats with your own snowflakes and learn to identify animal prints in snow.  Visit our website for more information www.nps.gov/lowe/planyourvisit/kids-week.htm.
URL:https://revolutionaryvalley.org/event/lowell-kids-week-national-parks-in-winter/
LOCATION:Lowell National Historical Park Visitor Center\, Lowell National Historical Park Visitor Center\, 246 Market St\, Lowell\, MA\, United States
CATEGORIES:Free Events,Kids & Family
ORGANIZER;CN="Lowell National Historical Park":MAILTO:phil_lupsiewicz@nps.gov
GEO:42.6444497;-71.3124716
X-APPLE-STRUCTURED-LOCATION;VALUE=URI;X-ADDRESS=Lowell National Historical Park Visitor Center Lowell National Historical Park Visitor Center 246 Market St Lowell MA United States;X-APPLE-RADIUS=500;X-TITLE=Lowell National Historical Park Visitor Center\, 246 Market St:geo:-71.3124716,42.6444497
END:VEVENT
END:VCALENDAR