BEGIN:VCALENDAR
VERSION:2.0
PRODID:-//Revolutionary Valley Regional Tourism Council - ECPv6.15.0.1//NONSGML v1.0//EN
CALSCALE:GREGORIAN
METHOD:PUBLISH
X-WR-CALNAME:Revolutionary Valley Regional Tourism Council
X-ORIGINAL-URL:https://revolutionaryvalley.org
X-WR-CALDESC:Events for Revolutionary Valley Regional Tourism Council
REFRESH-INTERVAL;VALUE=DURATION:PT1H
X-Robots-Tag:noindex
X-PUBLISHED-TTL:PT1H
BEGIN:VTIMEZONE
TZID:America/New_York
BEGIN:DAYLIGHT
TZOFFSETFROM:-0500
TZOFFSETTO:-0400
TZNAME:EDT
DTSTART:20240310T070000
END:DAYLIGHT
BEGIN:STANDARD
TZOFFSETFROM:-0400
TZOFFSETTO:-0500
TZNAME:EST
DTSTART:20241103T060000
END:STANDARD
END:VTIMEZONE
BEGIN:VEVENT
DTSTART;TZID=America/New_York:20240218T100000
DTEND;TZID=America/New_York:20240218T140000
DTSTAMP:20260425T182752
CREATED:20240116T143100Z
LAST-MODIFIED:20240116T143100Z
UID:10049262-1708250400-1708264800@revolutionaryvalley.org
SUMMARY:Celebrate National Engineers Week: Dream City
DESCRIPTION:Sunday\, February 18 through Sunday\, February 25\, 10:00am – 2:00pm \nJoin us as we celebrate National Engineers Week and this year’s theme “Welcome to the Future”! Engage in some everyday engineering as we design a city where we can all thrive together while celebrating our uniqueness and supporting the planet we share. Help us collaboratively illustrate our future Dream City by adding your vison to our mural-sized paper illustration and prototype designs with simple building materials.
URL:https://revolutionaryvalley.org/event/celebrate-national-engineers-week-dream-city/2024-02-18/
LOCATION:Discovery Museum\, Discovery Museum\, 177 Main St\, Acton\, MA\, 01720\, United States
CATEGORIES:Kids & Family
ATTACH;FMTTYPE=image/jpeg:https://revolutionaryvalley.org/wp-content/uploads/2024/01/Eweek-2024-Zoom.jpeg
ORGANIZER;CN="Discovery Museum":MAILTO:fun@discoveryacton.org
GEO:42.464745;-71.4560492
X-APPLE-STRUCTURED-LOCATION;VALUE=URI;X-ADDRESS=Discovery Museum Discovery Museum 177 Main St Acton MA 01720 United States;X-APPLE-RADIUS=500;X-TITLE=Discovery Museum\, 177 Main St:geo:-71.4560492,42.464745
END:VEVENT
BEGIN:VEVENT
DTSTART;TZID=America/New_York:20240218T140000
DTEND;TZID=America/New_York:20240218T160000
DTSTAMP:20260425T182752
CREATED:20240205T155342Z
LAST-MODIFIED:20240205T155342Z
UID:10050334-1708264800-1708272000@revolutionaryvalley.org
SUMMARY:Lowell Kids Week: Weaving With Thread
DESCRIPTION:Grades 3 – 12\, no registration required\nJoin rangers to learn several different fiber art methods to make your own woven creations. Try your hand at cross-stitch with easy Lowell themed patterns\, weave on looms\, and even use your fingers to knit a yarn friend. Visit our website for more information www.nps.gov/lowe/planyourvisit/kids-week.htm.
URL:https://revolutionaryvalley.org/event/lowell-kids-week-weaving-with-thread/
LOCATION:Lowell National Historical Park Boott Cotton Mills Museum  Counting House\, 115 John Street\, Lowell\, 01852\, United States
CATEGORIES:Free Events,Kids & Family
ORGANIZER;CN="Lowell National Historical Park":MAILTO:phil_lupsiewicz@nps.gov
GEO:42.6472986;-71.3066893
X-APPLE-STRUCTURED-LOCATION;VALUE=URI;X-ADDRESS=Lowell National Historical Park Boott Cotton Mills Museum  Counting House 115 John Street Lowell 01852 United States;X-APPLE-RADIUS=500;X-TITLE=115 John Street:geo:-71.3066893,42.6472986
END:VEVENT
END:VCALENDAR