BEGIN:VCALENDAR
VERSION:2.0
PRODID:-//Revolutionary Valley Regional Tourism Council - ECPv6.15.0.1//NONSGML v1.0//EN
CALSCALE:GREGORIAN
METHOD:PUBLISH
X-WR-CALNAME:Revolutionary Valley Regional Tourism Council
X-ORIGINAL-URL:https://revolutionaryvalley.org
X-WR-CALDESC:Events for Revolutionary Valley Regional Tourism Council
REFRESH-INTERVAL;VALUE=DURATION:PT1H
X-Robots-Tag:noindex
X-PUBLISHED-TTL:PT1H
BEGIN:VTIMEZONE
TZID:America/New_York
BEGIN:DAYLIGHT
TZOFFSETFROM:-0500
TZOFFSETTO:-0400
TZNAME:EDT
DTSTART:20240310T070000
END:DAYLIGHT
BEGIN:STANDARD
TZOFFSETFROM:-0400
TZOFFSETTO:-0500
TZNAME:EST
DTSTART:20241103T060000
END:STANDARD
END:VTIMEZONE
BEGIN:VEVENT
DTSTART;TZID=America/New_York:20240225T100000
DTEND;TZID=America/New_York:20240225T140000
DTSTAMP:20260425T235439
CREATED:20240116T143100Z
LAST-MODIFIED:20240116T143100Z
UID:10049269-1708855200-1708869600@revolutionaryvalley.org
SUMMARY:Celebrate National Engineers Week: Dream City
DESCRIPTION:Sunday\, February 18 through Sunday\, February 25\, 10:00am – 2:00pm \nJoin us as we celebrate National Engineers Week and this year’s theme “Welcome to the Future”! Engage in some everyday engineering as we design a city where we can all thrive together while celebrating our uniqueness and supporting the planet we share. Help us collaboratively illustrate our future Dream City by adding your vison to our mural-sized paper illustration and prototype designs with simple building materials.
URL:https://revolutionaryvalley.org/event/celebrate-national-engineers-week-dream-city/2024-02-25/
LOCATION:Discovery Museum\, Discovery Museum\, 177 Main St\, Acton\, MA\, 01720\, United States
CATEGORIES:Kids & Family
ATTACH;FMTTYPE=image/jpeg:https://revolutionaryvalley.org/wp-content/uploads/2024/01/Eweek-2024-Zoom.jpeg
ORGANIZER;CN="Discovery Museum":MAILTO:fun@discoveryacton.org
GEO:42.464745;-71.4560492
X-APPLE-STRUCTURED-LOCATION;VALUE=URI;X-ADDRESS=Discovery Museum Discovery Museum 177 Main St Acton MA 01720 United States;X-APPLE-RADIUS=500;X-TITLE=Discovery Museum\, 177 Main St:geo:-71.4560492,42.464745
END:VEVENT
BEGIN:VEVENT
DTSTART;TZID=America/New_York:20240225T110000
DTEND;TZID=America/New_York:20240225T123000
DTSTAMP:20260425T235439
CREATED:20240206T173930Z
LAST-MODIFIED:20240206T193948Z
UID:10050383-1708858800-1708864200@revolutionaryvalley.org
SUMMARY:Lowell Kids Week: Swa Pol (Monkey Dance) Workshop
DESCRIPTION:Ages 9-15; Registration required\nLearn about the dance and history of the Angkor Dance Troupe. Enjoy watching a Swa Pol (Monkey Dance) performance and then practice the movements with our dancers and instructors\, accompanied by music.
URL:https://revolutionaryvalley.org/event/lowell-kids-week-swa-pol-monkey-dance-workshop/
LOCATION:Mogan Cultural Center\, 40 French Street\, Lowell\, 01852\, United States
CATEGORIES:Free Events,Kids & Family
ORGANIZER;CN="Angkor Dance Troupe":MAILTO:info@angkordance.org
GEO:42.6478331;-71.309043
X-APPLE-STRUCTURED-LOCATION;VALUE=URI;X-ADDRESS=Mogan Cultural Center 40 French Street Lowell 01852 United States;X-APPLE-RADIUS=500;X-TITLE=40 French Street:geo:-71.309043,42.6478331
END:VEVENT
BEGIN:VEVENT
DTSTART;TZID=America/New_York:20240225T120000
DTEND;TZID=America/New_York:20240225T140000
DTSTAMP:20260425T235439
CREATED:20240206T173220Z
LAST-MODIFIED:20240206T173220Z
UID:10050387-1708862400-1708869600@revolutionaryvalley.org
SUMMARY:Lowell Kids Week: Making Musical Instruments
DESCRIPTION:All ages\nCome learn about musical instruments from around the world and try your hand at creating one of your own to take home. Visit our website for more information www.nps.gov/lowe/planyourvisit/kids-week.htm.
URL:https://revolutionaryvalley.org/event/lowell-kids-week-making-musical-instruments/
LOCATION:Lowell National Historical Park Boott Cotton Mills Museum  Counting House\, 115 John Street\, Lowell\, 01852\, United States
CATEGORIES:Free Events,Kids & Family
ORGANIZER;CN="Lowell National Historical Park":MAILTO:phil_lupsiewicz@nps.gov
GEO:42.6472986;-71.3066893
X-APPLE-STRUCTURED-LOCATION;VALUE=URI;X-ADDRESS=Lowell National Historical Park Boott Cotton Mills Museum  Counting House 115 John Street Lowell 01852 United States;X-APPLE-RADIUS=500;X-TITLE=115 John Street:geo:-71.3066893,42.6472986
END:VEVENT
BEGIN:VEVENT
DTSTART;TZID=America/New_York:20240225T120000
DTEND;TZID=America/New_York:20240225T140000
DTSTAMP:20260425T235439
CREATED:20240206T173259Z
LAST-MODIFIED:20240206T173259Z
UID:10050384-1708862400-1708869600@revolutionaryvalley.org
SUMMARY:Lowell Kids Week: Instrument Petting Zoo
DESCRIPTION:All ages; Registration required\nMany instruments large and small will be waiting to be played! Come by to try a drum or a ukulele\, an “otto” or a thumb harp…or go on an instrument scavenger hunt! A time to explore and engage\, with musicians available for instruction or just plain fun. Please Register at https://lowelllearns.com.
URL:https://revolutionaryvalley.org/event/lowell-kids-week-instrument-petting-zoo/
LOCATION:Lowell National Historical Park Boott Cotton Mills Museum  Counting House\, 115 John Street\, Lowell\, 01852\, United States
CATEGORIES:Free Events,Kids & Family
GEO:42.6472986;-71.3066893
X-APPLE-STRUCTURED-LOCATION;VALUE=URI;X-ADDRESS=Lowell National Historical Park Boott Cotton Mills Museum  Counting House 115 John Street Lowell 01852 United States;X-APPLE-RADIUS=500;X-TITLE=115 John Street:geo:-71.3066893,42.6472986
END:VEVENT
END:VCALENDAR