BEGIN:VCALENDAR
VERSION:2.0
PRODID:-//Revolutionary Valley Regional Tourism Council - ECPv6.15.0.1//NONSGML v1.0//EN
CALSCALE:GREGORIAN
METHOD:PUBLISH
X-WR-CALNAME:Revolutionary Valley Regional Tourism Council
X-ORIGINAL-URL:https://revolutionaryvalley.org
X-WR-CALDESC:Events for Revolutionary Valley Regional Tourism Council
REFRESH-INTERVAL;VALUE=DURATION:PT1H
X-Robots-Tag:noindex
X-PUBLISHED-TTL:PT1H
BEGIN:VTIMEZONE
TZID:America/New_York
BEGIN:DAYLIGHT
TZOFFSETFROM:-0500
TZOFFSETTO:-0400
TZNAME:EDT
DTSTART:20240310T070000
END:DAYLIGHT
BEGIN:STANDARD
TZOFFSETFROM:-0400
TZOFFSETTO:-0500
TZNAME:EST
DTSTART:20241103T060000
END:STANDARD
END:VTIMEZONE
BEGIN:VEVENT
DTSTART;TZID=America/New_York:20240413T100000
DTEND;TZID=America/New_York:20240413T120000
DTSTAMP:20260423T225547
CREATED:20240401T151045Z
LAST-MODIFIED:20240401T151045Z
UID:10052808-1713002400-1713009600@revolutionaryvalley.org
SUMMARY:Lowell PLAYcation: Bookmobile Visit
DESCRIPTION:Visit the librarians of the Pollard Memorial Library bookmobile at several of the PLAYcation events! Discover a new book that you can check out that day and even sign up for your own free library card! Find out more at https://lowelllibrary.org/services/bookmobile/.
URL:https://revolutionaryvalley.org/event/lowell-playcation-bookmobile-visit/2024-04-13/
LOCATION:Boarding House Park\, Boarding House Park\, 40 French St\, Lowell\, MA\, United States
CATEGORIES:Kids & Family
ATTACH;FMTTYPE=image/png:https://revolutionaryvalley.org/wp-content/uploads/2024/03/PLAYcation-Logo-3.png
GEO:42.647362;-71.3088716
X-APPLE-STRUCTURED-LOCATION;VALUE=URI;X-ADDRESS=Boarding House Park Boarding House Park 40 French St Lowell MA United States;X-APPLE-RADIUS=500;X-TITLE=Boarding House Park\, 40 French St:geo:-71.3088716,42.647362
END:VEVENT
BEGIN:VEVENT
DTSTART;TZID=America/New_York:20240413T100000
DTEND;TZID=America/New_York:20240413T120000
DTSTAMP:20260423T225547
CREATED:20240401T151448Z
LAST-MODIFIED:20240401T151448Z
UID:10052806-1713002400-1713009600@revolutionaryvalley.org
SUMMARY:Chalk it Up!
DESCRIPTION:All Ages\, No Registration Required \nButterflies and Bugs\, Creepy Crawlies and Caterpillars… draw on our giant or small chalkboards and take a selfie with wings to stretch and soar!
URL:https://revolutionaryvalley.org/event/chalk-it-up/2024-04-13/
LOCATION:Boarding House Park\, Boarding House Park\, 40 French St\, Lowell\, MA\, United States
CATEGORIES:Kids & Family
ATTACH;FMTTYPE=image/png:https://revolutionaryvalley.org/wp-content/uploads/2024/03/PLAYcation-Logo-2.png
GEO:42.647362;-71.3088716
X-APPLE-STRUCTURED-LOCATION;VALUE=URI;X-ADDRESS=Boarding House Park Boarding House Park 40 French St Lowell MA United States;X-APPLE-RADIUS=500;X-TITLE=Boarding House Park\, 40 French St:geo:-71.3088716,42.647362
END:VEVENT
BEGIN:VEVENT
DTSTART;TZID=America/New_York:20240413T100000
DTEND;TZID=America/New_York:20240413T120000
DTSTAMP:20260423T225547
CREATED:20240401T151508Z
LAST-MODIFIED:20240401T151508Z
UID:10052805-1713002400-1713009600@revolutionaryvalley.org
SUMMARY:Lowell PLAYcation: Musical Instrument Petting Zoo
DESCRIPTION:All Ages\, No Registration Required\nMany instruments large and small will be waiting to be played! Come by to try a drum or a ukulele\, an “otto” or a thumb harp…or go on an instrument scavenger hunt! A time to explore and engage\, with musicians available for instruction or just plain fun.
URL:https://revolutionaryvalley.org/event/lowell-playcation-musical-instrument-petting-zoo/
LOCATION:Boarding House Park\, Boarding House Park\, 40 French St\, Lowell\, MA\, United States
CATEGORIES:Kids & Family
ATTACH;FMTTYPE=image/png:https://revolutionaryvalley.org/wp-content/uploads/2024/03/PLAYcation-Logo-1.png
GEO:42.647362;-71.3088716
X-APPLE-STRUCTURED-LOCATION;VALUE=URI;X-ADDRESS=Boarding House Park Boarding House Park 40 French St Lowell MA United States;X-APPLE-RADIUS=500;X-TITLE=Boarding House Park\, 40 French St:geo:-71.3088716,42.647362
END:VEVENT
BEGIN:VEVENT
DTSTART;TZID=America/New_York:20240413T100000
DTEND;TZID=America/New_York:20240413T120000
DTSTAMP:20260423T225547
CREATED:20240401T151529Z
LAST-MODIFIED:20240401T151529Z
UID:10052804-1713002400-1713009600@revolutionaryvalley.org
SUMMARY:Lowell PLAYcation: Games Around the World
DESCRIPTION:All Ages\, No Registration Required\nTraditional schoolyard games are an important part of childhood—no matter the culture! Join rangers to learn games from around the world or teach us your favorite game! Visit our website for more information: go.nps.gov/qp165j.
URL:https://revolutionaryvalley.org/event/lowell-playcation-games-around-the-world/
LOCATION:Boarding House Park\, Boarding House Park\, 40 French St\, Lowell\, MA\, United States
CATEGORIES:Kids & Family
ATTACH;FMTTYPE=image/png:https://revolutionaryvalley.org/wp-content/uploads/2024/03/PLAYcation-Logo.png
ORGANIZER;CN="Lowell National Historical Park":MAILTO:phil_lupsiewicz@nps.gov
GEO:42.647362;-71.3088716
X-APPLE-STRUCTURED-LOCATION;VALUE=URI;X-ADDRESS=Boarding House Park Boarding House Park 40 French St Lowell MA United States;X-APPLE-RADIUS=500;X-TITLE=Boarding House Park\, 40 French St:geo:-71.3088716,42.647362
END:VEVENT
BEGIN:VEVENT
DTSTART;TZID=America/New_York:20240413T130000
DTEND;TZID=America/New_York:20240413T150000
DTSTAMP:20260423T225547
CREATED:20240307T143145Z
LAST-MODIFIED:20240307T143145Z
UID:10051178-1713013200-1713020400@revolutionaryvalley.org
SUMMARY:Renewable Energies: Exploring a Sustainable City
DESCRIPTION:Join us as we celebrate the endless possibilities of renewable energy! Explore a variety of energy sources in our model city and consider how energy moves through our communities. We’ll try out some simple experiments to see the wind’s energy in action\, hydrogen as a source of energy for cars\, and how solar panels help us turn the sun’s energy into electricity. \nMeet local energy experts Umair Zia\, Director of Distribution Engineering at Eversource Energy and Discovery Museum Board Member\, and Xinfang Jin\, Assistant Professor at University of Massachusetts Lowell-who helped create this program!
URL:https://revolutionaryvalley.org/event/renewable-energies-exploring-a-sustainable-city/
LOCATION:Discovery Museum\, Discovery Museum\, 177 Main St\, Acton\, MA\, 01720\, United States
CATEGORIES:Kids & Family
ATTACH;FMTTYPE=image/jpeg:https://revolutionaryvalley.org/wp-content/uploads/2024/03/renewable-energy.jpg
ORGANIZER;CN="Discovery Museum":MAILTO:fun@discoveryacton.org
GEO:42.464745;-71.4560492
X-APPLE-STRUCTURED-LOCATION;VALUE=URI;X-ADDRESS=Discovery Museum Discovery Museum 177 Main St Acton MA 01720 United States;X-APPLE-RADIUS=500;X-TITLE=Discovery Museum\, 177 Main St:geo:-71.4560492,42.464745
END:VEVENT
END:VCALENDAR