BEGIN:VCALENDAR
VERSION:2.0
PRODID:-//Revolutionary Valley Regional Tourism Council - ECPv6.15.0.1//NONSGML v1.0//EN
CALSCALE:GREGORIAN
METHOD:PUBLISH
X-WR-CALNAME:Revolutionary Valley Regional Tourism Council
X-ORIGINAL-URL:https://revolutionaryvalley.org
X-WR-CALDESC:Events for Revolutionary Valley Regional Tourism Council
REFRESH-INTERVAL;VALUE=DURATION:PT1H
X-Robots-Tag:noindex
X-PUBLISHED-TTL:PT1H
BEGIN:VTIMEZONE
TZID:America/New_York
BEGIN:DAYLIGHT
TZOFFSETFROM:-0500
TZOFFSETTO:-0400
TZNAME:EDT
DTSTART:20240310T070000
END:DAYLIGHT
BEGIN:STANDARD
TZOFFSETFROM:-0400
TZOFFSETTO:-0500
TZNAME:EST
DTSTART:20241103T060000
END:STANDARD
END:VTIMEZONE
BEGIN:VEVENT
DTSTART;TZID=America/New_York:20240420T080000
DTEND;TZID=America/New_York:20240420T170000
DTSTAMP:20260422T213024
CREATED:20240401T133144Z
LAST-MODIFIED:20240417T145138Z
UID:10052846-1713600000-1713632400@revolutionaryvalley.org
SUMMARY:Khmer New Year Parade
DESCRIPTION:All Ages • No Registration Required • Hosted by the Cambodian Mutual Assistance Association\nLocation: Lowell Highlands\nCome out and celebrate Khmer New Year by enjoying the parade from Lowell Senior Center to Clemente Park. The parade can also be livestreamed on the Cambodian Mutual Assistance Association’s website.
URL:https://revolutionaryvalley.org/event/khmer-new-year-parade/
LOCATION:Lowell Senior Center\, Lowell Senior Center\, 276 Broadway St\, Lowell\, MA\, 01854\, United States
CATEGORIES:Arts & Culture,Kids & Family,Live Performances
GEO:42.6438288;-71.3193421
X-APPLE-STRUCTURED-LOCATION;VALUE=URI;X-ADDRESS=Lowell Senior Center Lowell Senior Center 276 Broadway St Lowell MA 01854 United States;X-APPLE-RADIUS=500;X-TITLE=Lowell Senior Center\, 276 Broadway St:geo:-71.3193421,42.6438288
END:VEVENT
BEGIN:VEVENT
DTSTART;TZID=America/New_York:20240420T090000
DTEND;TZID=America/New_York:20240420T130000
DTSTAMP:20260422T213024
CREATED:20240401T133215Z
LAST-MODIFIED:20240401T133215Z
UID:10052845-1713603600-1713618000@revolutionaryvalley.org
SUMMARY:Khmer New Year at the Lowell Senior Center
DESCRIPTION:All Ages • No Registration Required • Hosted by the Cambodian Mutual Assistance Association\nLocation: Lowell Senior Center\, 276 Broadway St\, Lowell\nJoin the Cambodian Mutual Assistance Association for another year of celebrating Khmer New Year. The event will feature delicious Khmer food\, beautiful traditional outfits\, and live performances of Cambodian folk dance.
URL:https://revolutionaryvalley.org/event/khmer-new-year-at-the-lowell-senior-center/
LOCATION:Lowell Senior Center\, Lowell Senior Center\, 276 Broadway St\, Lowell\, MA\, 01854\, United States
CATEGORIES:Arts & Culture,Kids & Family
GEO:42.6438288;-71.3193421
X-APPLE-STRUCTURED-LOCATION;VALUE=URI;X-ADDRESS=Lowell Senior Center Lowell Senior Center 276 Broadway St Lowell MA 01854 United States;X-APPLE-RADIUS=500;X-TITLE=Lowell Senior Center\, 276 Broadway St:geo:-71.3193421,42.6438288
END:VEVENT
BEGIN:VEVENT
DTSTART;TZID=America/New_York:20240420T120000
DTEND;TZID=America/New_York:20240420T170000
DTSTAMP:20260422T213024
CREATED:20240401T132651Z
LAST-MODIFIED:20240401T132651Z
UID:10052848-1713614400-1713632400@revolutionaryvalley.org
SUMMARY:Lowell Khmer New Year at Clemente Park
DESCRIPTION:Lowell Khmer New Year at Clemente Park\n12:00 PM – 5:00 PM\nAll Ages • No Registration Required • Hosted by the Clemente Park Committee\nLocation: Roberto Clemente Park\, 803 Middlesex St\, Lowell\nWelcome the year of the dragon and mark Khmer New Year in Clemente Park. Play traditional and modern Cambodian games\, enjoy food from many vendors\, and enjoy the celebration.
URL:https://revolutionaryvalley.org/event/lowell-khmer-new-year-at-clemente-park/
LOCATION:Roberto Clemente Park\, Roberto Clemente Park\, Washington Park\, 747 Middlesex St\, Lowell\, MA\, 01852\, United States
CATEGORIES:Arts & Culture,Kids & Family
GEO:42.6387496;-71.3225678
X-APPLE-STRUCTURED-LOCATION;VALUE=URI;X-ADDRESS=Roberto Clemente Park Roberto Clemente Park Washington Park 747 Middlesex St Lowell MA 01852 United States;X-APPLE-RADIUS=500;X-TITLE=Roberto Clemente Park\, Washington Park\, 747 Middlesex St:geo:-71.3225678,42.6387496
END:VEVENT
END:VCALENDAR