BEGIN:VCALENDAR
VERSION:2.0
PRODID:-//Revolutionary Valley Regional Tourism Council - ECPv6.15.0.1//NONSGML v1.0//EN
CALSCALE:GREGORIAN
METHOD:PUBLISH
X-WR-CALNAME:Revolutionary Valley Regional Tourism Council
X-ORIGINAL-URL:https://revolutionaryvalley.org
X-WR-CALDESC:Events for Revolutionary Valley Regional Tourism Council
REFRESH-INTERVAL;VALUE=DURATION:PT1H
X-Robots-Tag:noindex
X-PUBLISHED-TTL:PT1H
BEGIN:VTIMEZONE
TZID:America/New_York
BEGIN:DAYLIGHT
TZOFFSETFROM:-0500
TZOFFSETTO:-0400
TZNAME:EDT
DTSTART:20240310T070000
END:DAYLIGHT
BEGIN:STANDARD
TZOFFSETFROM:-0400
TZOFFSETTO:-0500
TZNAME:EST
DTSTART:20241103T060000
END:STANDARD
END:VTIMEZONE
BEGIN:VEVENT
DTSTART;TZID=America/New_York:20240421T100000
DTEND;TZID=America/New_York:20240421T120000
DTSTAMP:20260425T221140
CREATED:20240401T132149Z
LAST-MODIFIED:20240401T132149Z
UID:10052849-1713693600-1713700800@revolutionaryvalley.org
SUMMARY:Nature and Art
DESCRIPTION:All Ages • No Registration Required • Hosted by Lowell National Historical Park\nLocation: Boarding House Park\, 40 French St\, Lowell\nEnjoy the spring weather and experiment with art outside. Try your hand with some watercolors and nature rubbings. Make a small nature journal to help you note the changes in the seasons.
URL:https://revolutionaryvalley.org/event/nature-and-art/
LOCATION:Boarding House Park\, Boarding House Park\, 40 French St\, Lowell\, MA\, United States
CATEGORIES:Kids & Family,Outdoors
ORGANIZER;CN="Lowell National Historical Park":MAILTO:phil_lupsiewicz@nps.gov
GEO:42.647362;-71.3088716
X-APPLE-STRUCTURED-LOCATION;VALUE=URI;X-ADDRESS=Boarding House Park Boarding House Park 40 French St Lowell MA United States;X-APPLE-RADIUS=500;X-TITLE=Boarding House Park\, 40 French St:geo:-71.3088716,42.647362
END:VEVENT
BEGIN:VEVENT
DTSTART;TZID=America/New_York:20240421T100000
DTEND;TZID=America/New_York:20240421T130000
DTSTAMP:20260425T221140
CREATED:20240307T142613Z
LAST-MODIFIED:20240307T142613Z
UID:10051179-1713693600-1713704400@revolutionaryvalley.org
SUMMARY:Chemists Celebrate Earth Week: Batteries!
DESCRIPTION:Discover the science behind “Get a charge out of chemistry – Batteries” as we celebrate Chemists Celebrate Earth Week. Join us and our guest educators from the North Eastern Section of American Chemical Society and have fun exploring chemistry through hands-on activities related to this year’s theme\, Batteries!
URL:https://revolutionaryvalley.org/event/chemists-celebrate-earth-week-batteries/
LOCATION:Discovery Museum\, Discovery Museum\, 177 Main St\, Acton\, MA\, 01720\, United States
CATEGORIES:Kids & Family
ATTACH;FMTTYPE=image/jpeg:https://revolutionaryvalley.org/wp-content/uploads/2024/03/Chemistry-Week-ACS.jpg
ORGANIZER;CN="Discovery Museum":MAILTO:fun@discoveryacton.org
GEO:42.464745;-71.4560492
X-APPLE-STRUCTURED-LOCATION;VALUE=URI;X-ADDRESS=Discovery Museum Discovery Museum 177 Main St Acton MA 01720 United States;X-APPLE-RADIUS=500;X-TITLE=Discovery Museum\, 177 Main St:geo:-71.4560492,42.464745
END:VEVENT
BEGIN:VEVENT
DTSTART;TZID=America/New_York:20240421T120000
DTEND;TZID=America/New_York:20240421T140000
DTSTAMP:20260425T221140
CREATED:20240401T145815Z
LAST-MODIFIED:20240403T200542Z
UID:10052810-1713700800-1713708000@revolutionaryvalley.org
SUMMARY:Angkor Dance Troupe Tour and Workshop
DESCRIPTION:Ages 9 – 15\, No Registration Required\nLearn about the dance and history of the Angkor Dance Troupe. Tour the studio space and then get a chance to practice movements with dancers and instructors\, accompanied by music.
URL:https://revolutionaryvalley.org/event/angkor-dance-troupe-tour-and-workshop/
LOCATION:Mogan Cultural Center\, 40 French Street\, Lowell\, 01852\, United States
CATEGORIES:Kids & Family
ATTACH;FMTTYPE=image/png:https://revolutionaryvalley.org/wp-content/uploads/2024/03/PLAYcation-Logo-4.png
ORGANIZER;CN="Angkor Dance Troupe":MAILTO:info@angkordance.org
GEO:42.6478331;-71.309043
X-APPLE-STRUCTURED-LOCATION;VALUE=URI;X-ADDRESS=Mogan Cultural Center 40 French Street Lowell 01852 United States;X-APPLE-RADIUS=500;X-TITLE=40 French Street:geo:-71.309043,42.6478331
END:VEVENT
END:VCALENDAR