BEGIN:VCALENDAR
VERSION:2.0
PRODID:-//Revolutionary Valley Regional Tourism Council - ECPv6.15.0.1//NONSGML v1.0//EN
CALSCALE:GREGORIAN
METHOD:PUBLISH
X-WR-CALNAME:Revolutionary Valley Regional Tourism Council
X-ORIGINAL-URL:https://revolutionaryvalley.org
X-WR-CALDESC:Events for Revolutionary Valley Regional Tourism Council
REFRESH-INTERVAL;VALUE=DURATION:PT1H
X-Robots-Tag:noindex
X-PUBLISHED-TTL:PT1H
BEGIN:VTIMEZONE
TZID:America/New_York
BEGIN:DAYLIGHT
TZOFFSETFROM:-0500
TZOFFSETTO:-0400
TZNAME:EDT
DTSTART:20240310T070000
END:DAYLIGHT
BEGIN:STANDARD
TZOFFSETFROM:-0400
TZOFFSETTO:-0500
TZNAME:EST
DTSTART:20241103T060000
END:STANDARD
END:VTIMEZONE
BEGIN:VEVENT
DTSTART;TZID=America/New_York:20240612T190000
DTEND;TZID=America/New_York:20240612T200000
DTSTAMP:20260425T235258
CREATED:20240612T205030Z
LAST-MODIFIED:20240612T205030Z
UID:10056880-1718218800-1718222400@revolutionaryvalley.org
SUMMARY:Raising Adventurous Eaters
DESCRIPTION:Join Katie Badger\, a Registered Dietitian\, owner of EveryBody Nutrition Counseling\, LLC and mom of 2 for an evidence-based series to help you navigate various stages and challenges of feeding children. \nThe toddler years can be some of the most challenging when it comes to feeding. During this presentation we will consider the different degrees of picky eating\, discuss strategies that can help make meal and snack time more fun for everyone involved and address some common concerns such as navigating sugar. \nThis workshop is geared toward caregivers of children ranging roughly from 1-6 years old.
URL:https://revolutionaryvalley.org/event/raising-adventurous-eaters/
LOCATION:Chelmsford Public Library\, Chelmsford Public Library\, 25 Boston Rd\, Chelmsford\, MA\, 01824\, United States
CATEGORIES:Kids & Family
ATTACH;FMTTYPE=image/jpeg:https://revolutionaryvalley.org/wp-content/uploads/2024/06/2024-06-13-Badger-Diet-DD.jpg
ORGANIZER;CN="Chelmsford Public Library":MAILTO:jhartman@chelmsfordlibrary.org
GEO:42.5940353;-71.3518195
X-APPLE-STRUCTURED-LOCATION;VALUE=URI;X-ADDRESS=Chelmsford Public Library Chelmsford Public Library 25 Boston Rd Chelmsford MA 01824 United States;X-APPLE-RADIUS=500;X-TITLE=Chelmsford Public Library\, 25 Boston Rd:geo:-71.3518195,42.5940353
END:VEVENT
END:VCALENDAR