BEGIN:VCALENDAR
VERSION:2.0
PRODID:-//Revolutionary Valley Regional Tourism Council - ECPv6.15.0.1//NONSGML v1.0//EN
CALSCALE:GREGORIAN
METHOD:PUBLISH
X-WR-CALNAME:Revolutionary Valley Regional Tourism Council
X-ORIGINAL-URL:https://revolutionaryvalley.org
X-WR-CALDESC:Events for Revolutionary Valley Regional Tourism Council
REFRESH-INTERVAL;VALUE=DURATION:PT1H
X-Robots-Tag:noindex
X-PUBLISHED-TTL:PT1H
BEGIN:VTIMEZONE
TZID:America/New_York
BEGIN:DAYLIGHT
TZOFFSETFROM:-0500
TZOFFSETTO:-0400
TZNAME:EDT
DTSTART:20240310T070000
END:DAYLIGHT
BEGIN:STANDARD
TZOFFSETFROM:-0400
TZOFFSETTO:-0500
TZNAME:EST
DTSTART:20241103T060000
END:STANDARD
END:VTIMEZONE
BEGIN:VEVENT
DTSTART;TZID=America/New_York:20240615T100000
DTEND;TZID=America/New_York:20240615T160000
DTSTAMP:20260420T191521
CREATED:20240614T135731Z
LAST-MODIFIED:20240614T135731Z
UID:10056897-1718445600-1718467200@revolutionaryvalley.org
SUMMARY:Pre-Father’s Day printing activity at the Museum of Printing
DESCRIPTION:This Saturday (June 15th) from 10 am to 4 pm we are hosting a special pre-Father’s Day printing activity at the Museum of Printing\, Haverhill\, MA. \nJoin Christine Mistretta\, the Museum of Printing’s Acting Executive Director\, as she helps visitors create a personalized greeting card for Dad. You can pick from a number of historic images and combine them with a message plus your Dad’s name reproduced in hot metal. This special activity is free with your Museum membership.
URL:https://revolutionaryvalley.org/event/pre-fathers-day-printing-activity-at-the-museum-of-printing/
LOCATION:Museum of Printing\, 15 Thornton Ave\, Haverhill\, MA\, 01832\, United States
CATEGORIES:Arts & Culture,Kids & Family
ATTACH;FMTTYPE=image/jpeg:https://revolutionaryvalley.org/wp-content/uploads/2024/06/Christine-with-child-printing.jpg
ORGANIZER;CN="Museum of Printing":MAILTO:info@museumofprinting.org
GEO:42.7727676;-71.1209457
X-APPLE-STRUCTURED-LOCATION;VALUE=URI;X-ADDRESS=Museum of Printing 15 Thornton Ave Haverhill MA 01832 United States;X-APPLE-RADIUS=500;X-TITLE=15 Thornton Ave:geo:-71.1209457,42.7727676
END:VEVENT
BEGIN:VEVENT
DTSTART;TZID=America/New_York:20240615T120000
DTEND;TZID=America/New_York:20240615T150000
DTSTAMP:20260420T191521
CREATED:20231212T191119Z
LAST-MODIFIED:20231212T191119Z
UID:10046219-1718452800-1718463600@revolutionaryvalley.org
SUMMARY:Acton Pride Festival
DESCRIPTION:Join Acton Pride for a fun-filled afternoon at NARA’s Beach!  Beach admission will be free throughout the event.  Games and fun including music!  This is a free event open to the general public.
URL:https://revolutionaryvalley.org/event/acton-pride-festival/
LOCATION:NARA Park\, Nara Park\, 25 Ledge Rock Way\, Acton\, MA\, 01720\, United States
CATEGORIES:Annual & Special,Arts & Culture,Free Events,Kids & Family,Outdoors
ATTACH;FMTTYPE=image/png:https://revolutionaryvalley.org/wp-content/uploads/2023/12/Pride-Flyer.png
ORGANIZER;CN="Town of Acton":MAILTO:recreation@actonma.gov
GEO:42.5160594;-71.4119872
X-APPLE-STRUCTURED-LOCATION;VALUE=URI;X-ADDRESS=NARA Park Nara Park 25 Ledge Rock Way Acton MA 01720 United States;X-APPLE-RADIUS=500;X-TITLE=Nara Park\, 25 Ledge Rock Way:geo:-71.4119872,42.5160594
END:VEVENT
BEGIN:VEVENT
DTSTART;TZID=America/New_York:20240615T180000
DTEND;TZID=America/New_York:20240615T210000
DTSTAMP:20260420T191521
CREATED:20240612T174618Z
LAST-MODIFIED:20240612T174618Z
UID:10056873-1718474400-1718485200@revolutionaryvalley.org
SUMMARY:Concert in the Courtyard ft. Just One Sip
DESCRIPTION:We’re excited to announce an amazing evening of live music in the Courtyard featuring one of our favorite local bands Just One Sip! \nBring your friends and family to enjoy an unforgettable night of great music\, delicious food\, and fun vibes. We’ll have bites from the new Forge & Vine food truck\, full outdoor cash bar\, and plenty of space to dance and enjoy a beautiful summer evening. \nFree to attend\, no reservations required. Seating is first come\, first serve\, but feel free to bring a blanket or chair to enjoy the music from the lawn! Food and drinks available for purchase.
URL:https://revolutionaryvalley.org/event/concert-in-the-courtyard-ft-just-one-sip/
LOCATION:The Groton Inn\, The Groton Inn\, 128 Main St\, Groton\, MA\, 01450\, United States
CATEGORIES:Free Events,Kids & Family,Live Performances,Outdoors
ATTACH;FMTTYPE=image/png:https://revolutionaryvalley.org/wp-content/uploads/2024/06/allevents-event-banners-13.png
ORGANIZER;CN="The Groton Inn | Forge &amp%3B Vine":MAILTO:jvitolo@thegrotoninn.com
GEO:42.6067619;-71.5684432
X-APPLE-STRUCTURED-LOCATION;VALUE=URI;X-ADDRESS=The Groton Inn The Groton Inn 128 Main St Groton MA 01450 United States;X-APPLE-RADIUS=500;X-TITLE=The Groton Inn\, 128 Main St:geo:-71.5684432,42.6067619
END:VEVENT
END:VCALENDAR