BEGIN:VCALENDAR
VERSION:2.0
PRODID:-//Revolutionary Valley Regional Tourism Council - ECPv6.15.0.1//NONSGML v1.0//EN
CALSCALE:GREGORIAN
METHOD:PUBLISH
X-WR-CALNAME:Revolutionary Valley Regional Tourism Council
X-ORIGINAL-URL:https://revolutionaryvalley.org
X-WR-CALDESC:Events for Revolutionary Valley Regional Tourism Council
REFRESH-INTERVAL;VALUE=DURATION:PT1H
X-Robots-Tag:noindex
X-PUBLISHED-TTL:PT1H
BEGIN:VTIMEZONE
TZID:America/New_York
BEGIN:DAYLIGHT
TZOFFSETFROM:-0500
TZOFFSETTO:-0400
TZNAME:EDT
DTSTART:20240310T070000
END:DAYLIGHT
BEGIN:STANDARD
TZOFFSETFROM:-0400
TZOFFSETTO:-0500
TZNAME:EST
DTSTART:20241103T060000
END:STANDARD
END:VTIMEZONE
BEGIN:VEVENT
DTSTART;TZID=America/New_York:20240629T110000
DTEND;TZID=America/New_York:20240629T150000
DTSTAMP:20260420T190336
CREATED:20240606T190113Z
LAST-MODIFIED:20240606T190113Z
UID:10056861-1719658800-1719673200@revolutionaryvalley.org
SUMMARY:NEW Fairytale High Tea at The Inn at Hastings Park's Town Meeting Bistro
DESCRIPTION:A sweet and enchanting treat for kids at The Inn at Hastings Park\, Boston area’s only Relais & Châteaux property\, this new Fairytale tea celebrates the end of the school year and the beginning of summer in a magical way. From fairy dust\, sparkling crowns\, enchanted wands and dazzling gowns\, costumes are extremely encouraged for kids and adults alike! For adults\, it includes a Tea Tower with bites\, J’enwey tea service and one glass of champagne. Seatings on June 29\, 2024 from 11 am to 3 pm (multiple seating times) – $78 (plus tax & gratuity). For children (4-12 years)\, includes crowns\, swords and crafts\, bites and tea or hot chocolate – $35 (plus tax & gratuity). Children 3 and under eat for free.
URL:https://revolutionaryvalley.org/event/new-fairytale-high-tea-at-the-inn-at-hastings-parks-town-meeting-bistro/
LOCATION:The Inn at Hastings Park\, 2027 Massachusetts Ave\, Lexington\, MA\, 02421\, United States
CATEGORIES:Kids & Family
ATTACH;FMTTYPE=image/jpeg:https://revolutionaryvalley.org/wp-content/uploads/2024/06/Inn-at-Hastings-Park.FAIRYTALE-TEA-scaled.jpg
ORGANIZER;CN="The Inn at Hastings Park":MAILTO:https://www.innathastingspark.com/dining/holiday-dining/
GEO:42.4495227;-71.236516
X-APPLE-STRUCTURED-LOCATION;VALUE=URI;X-ADDRESS=The Inn at Hastings Park 2027 Massachusetts Ave Lexington MA 02421 United States;X-APPLE-RADIUS=500;X-TITLE=2027 Massachusetts Ave:geo:-71.236516,42.4495227
END:VEVENT
END:VCALENDAR