BEGIN:VCALENDAR
VERSION:2.0
PRODID:-//Revolutionary Valley Regional Tourism Council - ECPv6.15.0.1//NONSGML v1.0//EN
CALSCALE:GREGORIAN
METHOD:PUBLISH
X-ORIGINAL-URL:https://revolutionaryvalley.org
X-WR-CALDESC:Events for Revolutionary Valley Regional Tourism Council
REFRESH-INTERVAL;VALUE=DURATION:PT1H
X-Robots-Tag:noindex
X-PUBLISHED-TTL:PT1H
BEGIN:VTIMEZONE
TZID:America/New_York
BEGIN:DAYLIGHT
TZOFFSETFROM:-0500
TZOFFSETTO:-0400
TZNAME:EDT
DTSTART:20240310T070000
END:DAYLIGHT
BEGIN:STANDARD
TZOFFSETFROM:-0400
TZOFFSETTO:-0500
TZNAME:EST
DTSTART:20241103T060000
END:STANDARD
END:VTIMEZONE
BEGIN:VEVENT
DTSTART;TZID=America/New_York:20240716T100000
DTEND;TZID=America/New_York:20240716T160000
DTSTAMP:20260420T035415
CREATED:20240611T135410Z
LAST-MODIFIED:20240611T135410Z
UID:10056867-1721124000-1721145600@revolutionaryvalley.org
SUMMARY:Cold as Ice: Exploring a 300lb Block of Ice!
DESCRIPTION:Things are getting chilly at the Discovery Museum! Experiment with different types of salt as you explore the unique characteristics of a 300-pound block of ice. Add in some liquid watercolors and discover just how cool science can be.
URL:https://revolutionaryvalley.org/event/cold-as-ice-exploring-a-300lb-block-of-ice-3/
LOCATION:Discovery Museum\, Discovery Museum\, 177 Main St\, Acton\, MA\, 01720\, United States
CATEGORIES:Kids & Family
ATTACH;FMTTYPE=image/jpeg:https://revolutionaryvalley.org/wp-content/uploads/2024/06/cold-as-ice-7.19-scaled.jpg
ORGANIZER;CN="Discovery Museum":MAILTO:fun@discoveryacton.org
GEO:42.464745;-71.4560492
X-APPLE-STRUCTURED-LOCATION;VALUE=URI;X-ADDRESS=Discovery Museum Discovery Museum 177 Main St Acton MA 01720 United States;X-APPLE-RADIUS=500;X-TITLE=Discovery Museum\, 177 Main St:geo:-71.4560492,42.464745
END:VEVENT
BEGIN:VEVENT
DTSTART;TZID=America/New_York:20240716T193000
DTEND;TZID=America/New_York:20240716T213000
DTSTAMP:20260420T035415
CREATED:20240701T140835Z
LAST-MODIFIED:20240708T130406Z
UID:10056972-1721158200-1721165400@revolutionaryvalley.org
SUMMARY:Woburn Summer 2024 Outdoor Movie Series: Kung Fu Panda 4
DESCRIPTION:Movie begins at Dark. Family Night at Library Field\nWe suggest you arrive early to pick out space on the lawn. Feel free to bring snacks & drinks with you\, but in an effort to help keep our parks clean please make sure you take all your trash with you when you leave! Please also be respectful of others watching the movies by keeping talking to a minimum while the movie is showing! Movies that begin at Dark start around 8pm and we suggest you get there around 7:30. Movies with times associated start on time as they are shown on an LED screen. *Movie selections are subject to change per availability.
URL:https://revolutionaryvalley.org/event/kung-fu-panda-4-woburn-summer-2024-outdoor-movie-series/
LOCATION:Library Park\, Woburn\, Library Park\, Harrison Ave\, Woburn\, MA\, 01801\, United States
CATEGORIES:Free Events,Kids & Family,Talks and Film
ATTACH;FMTTYPE=image/jpeg:https://revolutionaryvalley.org/wp-content/uploads/2024/07/kung-fu.jpeg
GEO:42.4803186;-71.1608347
X-APPLE-STRUCTURED-LOCATION;VALUE=URI;X-ADDRESS=Library Park Woburn Library Park Harrison Ave Woburn MA 01801 United States;X-APPLE-RADIUS=500;X-TITLE=Library Park\, Harrison Ave:geo:-71.1608347,42.4803186
END:VEVENT
END:VCALENDAR