BEGIN:VCALENDAR
VERSION:2.0
PRODID:-//Revolutionary Valley Regional Tourism Council - ECPv6.15.0.1//NONSGML v1.0//EN
CALSCALE:GREGORIAN
METHOD:PUBLISH
X-WR-CALNAME:Revolutionary Valley Regional Tourism Council
X-ORIGINAL-URL:https://revolutionaryvalley.org
X-WR-CALDESC:Events for Revolutionary Valley Regional Tourism Council
REFRESH-INTERVAL;VALUE=DURATION:PT1H
X-Robots-Tag:noindex
X-PUBLISHED-TTL:PT1H
BEGIN:VTIMEZONE
TZID:America/New_York
BEGIN:DAYLIGHT
TZOFFSETFROM:-0500
TZOFFSETTO:-0400
TZNAME:EDT
DTSTART:20240310T070000
END:DAYLIGHT
BEGIN:STANDARD
TZOFFSETFROM:-0400
TZOFFSETTO:-0500
TZNAME:EST
DTSTART:20241103T060000
END:STANDARD
END:VTIMEZONE
BEGIN:VEVENT
DTSTART;TZID=America/New_York:20240725T100000
DTEND;TZID=America/New_York:20240725T120000
DTSTAMP:20260420T064356
CREATED:20240611T135343Z
LAST-MODIFIED:20240611T135343Z
UID:10056863-1721901600-1721908800@revolutionaryvalley.org
SUMMARY:The Caterpillar Lab
DESCRIPTION:Join us for a special visit from The Caterpillar Lab! Come see a variety of New England caterpillar species showcased on open-air displays of local plants. Get up close to enormous giant silk moth caterpillars\, fierce-looking snake-mimicking caterpillars\, convincing twig-mimicking caterpillars\, and bubbly butterfly caterpillars. Witness rare moments of metamorphosis and watch ecological relationships play out first-hand under a digital microscope. Be sure to chat with the educators from The Caterpillar Lab—you’re sure to discover something new! Learn more about The Caterpillar Lab at https://www.thecaterpillarlab.org/.
URL:https://revolutionaryvalley.org/event/the-caterpillar-lab-5/2024-07-25/1/
LOCATION:Discovery Museum\, Discovery Museum\, 177 Main St\, Acton\, MA\, 01720\, United States
CATEGORIES:Kids & Family
ATTACH;FMTTYPE=image/jpeg:https://revolutionaryvalley.org/wp-content/uploads/2024/06/Caterpillar-Lab-at-Discovery-Museum-scaled.jpg
ORGANIZER;CN="Discovery Museum":MAILTO:fun@discoveryacton.org
GEO:42.464745;-71.4560492
X-APPLE-STRUCTURED-LOCATION;VALUE=URI;X-ADDRESS=Discovery Museum Discovery Museum 177 Main St Acton MA 01720 United States;X-APPLE-RADIUS=500;X-TITLE=Discovery Museum\, 177 Main St:geo:-71.4560492,42.464745
END:VEVENT
BEGIN:VEVENT
DTSTART;TZID=America/New_York:20240725T170000
DTEND;TZID=America/New_York:20240725T193000
DTSTAMP:20260420T064356
CREATED:20240611T135343Z
LAST-MODIFIED:20240611T135343Z
UID:10056864-1721926800-1721935800@revolutionaryvalley.org
SUMMARY:The Caterpillar Lab
DESCRIPTION:Join us for a special visit from The Caterpillar Lab! Come see a variety of New England caterpillar species showcased on open-air displays of local plants. Get up close to enormous giant silk moth caterpillars\, fierce-looking snake-mimicking caterpillars\, convincing twig-mimicking caterpillars\, and bubbly butterfly caterpillars. Witness rare moments of metamorphosis and watch ecological relationships play out first-hand under a digital microscope. Be sure to chat with the educators from The Caterpillar Lab—you’re sure to discover something new! Learn more about The Caterpillar Lab at https://www.thecaterpillarlab.org/.
URL:https://revolutionaryvalley.org/event/the-caterpillar-lab-5/2024-07-25/2/
LOCATION:Discovery Museum\, Discovery Museum\, 177 Main St\, Acton\, MA\, 01720\, United States
CATEGORIES:Kids & Family
ATTACH;FMTTYPE=image/jpeg:https://revolutionaryvalley.org/wp-content/uploads/2024/06/Caterpillar-Lab-at-Discovery-Museum-scaled.jpg
ORGANIZER;CN="Discovery Museum":MAILTO:fun@discoveryacton.org
GEO:42.464745;-71.4560492
X-APPLE-STRUCTURED-LOCATION;VALUE=URI;X-ADDRESS=Discovery Museum Discovery Museum 177 Main St Acton MA 01720 United States;X-APPLE-RADIUS=500;X-TITLE=Discovery Museum\, 177 Main St:geo:-71.4560492,42.464745
END:VEVENT
BEGIN:VEVENT
DTSTART;TZID=America/New_York:20240725T190000
DTEND;TZID=America/New_York:20240725T200000
DTSTAMP:20260420T064356
CREATED:20240715T141823Z
LAST-MODIFIED:20240715T141823Z
UID:10057075-1721934000-1721937600@revolutionaryvalley.org
SUMMARY:A New Revolution in Lexington
DESCRIPTION:In 2020\, 16.82% of Lexington’s population was Chinese\, which is proportionally the second-highest Chinese population of the 351 cities and towns in Massachusetts. Yet just 40 years ago\, Lexington had only 392 Chinese residents – and in 1890\, two. This presentation\, featuring research by Lexington High School student Sophia Zhang and live Q&A with local Chinese American panelists\, aims to discuss and explain the mulit-phase evolution of the Lexington Chinese American community\, within broader historical contexts. This presentation will also highlight the civic contributions Chinese Americans have made to Lexington and the community’s place in the town’s ongoing demographic transformation. \nSuggested donation $10
URL:https://revolutionaryvalley.org/event/a-new-revolution-in-lexington/
LOCATION:The Depot
CATEGORIES:Arts & Culture,Historical,Kids & Family
ATTACH;FMTTYPE=image/jpeg:https://revolutionaryvalley.org/wp-content/uploads/2024/07/IMG_4790-scaled.jpeg
GEO:42.4485967;-71.227977
END:VEVENT
END:VCALENDAR