BEGIN:VCALENDAR
VERSION:2.0
PRODID:-//Revolutionary Valley Regional Tourism Council - ECPv6.15.0.1//NONSGML v1.0//EN
CALSCALE:GREGORIAN
METHOD:PUBLISH
X-WR-CALNAME:Revolutionary Valley Regional Tourism Council
X-ORIGINAL-URL:https://revolutionaryvalley.org
X-WR-CALDESC:Events for Revolutionary Valley Regional Tourism Council
REFRESH-INTERVAL;VALUE=DURATION:PT1H
X-Robots-Tag:noindex
X-PUBLISHED-TTL:PT1H
BEGIN:VTIMEZONE
TZID:America/New_York
BEGIN:DAYLIGHT
TZOFFSETFROM:-0500
TZOFFSETTO:-0400
TZNAME:EDT
DTSTART:20240310T070000
END:DAYLIGHT
BEGIN:STANDARD
TZOFFSETFROM:-0400
TZOFFSETTO:-0500
TZNAME:EST
DTSTART:20241103T060000
END:STANDARD
END:VTIMEZONE
BEGIN:VEVENT
DTSTART;TZID=America/New_York:20241211T193000
DTEND;TZID=America/New_York:20241211T210000
DTSTAMP:20260420T070843
CREATED:20241029T191003Z
LAST-MODIFIED:20241030T160144Z
UID:10060454-1733945400-1733950800@revolutionaryvalley.org
SUMMARY:Big Bad Voodoo Daddy at Cary Hall
DESCRIPTION:For 30 years\, Big Bad Voodoo Daddy’s unique take on American swing and jazz music has thrilled audiences around the world\, while their unique and spirited “Wild and Swingin’ Holiday Party” has become an eagerly anticipated annual family event. Singer and band leader Scotty Morris says\, “If you’re going to go to a holiday show with your family\, this is the one! It really does offer something for everyone.” Drawing on a rich catalogue of holiday classics and Christmas originals from the band’s two full length holiday albums\, Big Bad Voodoo Daddy brings its world-renowned live show\, and fun and quirky take on the holidays\, to you. \nFun arrangements of classic holiday songs in Big Bad Voodoo Daddy style include: Jingle Bells\, Santa Claus Is Coming to Town\, and Winter Wonderland. Rudolph the Red Nosed Reindeer is “Andrew’s Sisters” meets the blues\, and the just as classic Heat Miser song transports listeners back to another beloved holiday special. The band rips through Chuck Berry’s Run\, Run Rudolph\, Lou Rawls’ Merry Christmas Baby\, and slows things down for Elvis Presley’s Blue Christmas. Detours to New Orleans for Frosty the Snowman\, and to the Caribbean for the Calypso A Party for Santa\, keep things interesting. The band takes a moment to reflect on the beauty and spirituality of the holidays with their moving arrangement of We Three Kings. \nBig Bad Voodoo Daddy has always made writing original music a priority\, and the holidays are no exception. Rockabilly Christmas\, Last Night (I Went Out With Santa Claus)\, Christmas Time in Tinsel Town\, and the beautiful and reflective It Feels Like Christmas Time\, are the band’s take on the many feelings of the holidays. \nWith three decades together\, Big Bad Voodoo Daddy is still picking up steam and continues to tour\, record\, and entertain. Merry Christmas and Happy New Year!
URL:https://revolutionaryvalley.org/event/big-bad-voodoo-daddy-at-cary-hall/
LOCATION:Lexington’s Cary Memorial Hall\, 1605 Mass Ave\, Lexington\, MA\, 02420\, United States
CATEGORIES:Kids & Family,Live Performances
ATTACH;FMTTYPE=image/jpeg:https://revolutionaryvalley.org/wp-content/uploads/2024/10/Screenshot-2024-10-29-150754.jpg
GEO:42.4469414;-71.2238931
X-APPLE-STRUCTURED-LOCATION;VALUE=URI;X-ADDRESS=Lexington’s Cary Memorial Hall 1605 Mass Ave Lexington MA 02420 United States;X-APPLE-RADIUS=500;X-TITLE=1605 Mass Ave:geo:-71.2238931,42.4469414
END:VEVENT
END:VCALENDAR