BEGIN:VCALENDAR
VERSION:2.0
PRODID:-//Revolutionary Valley Regional Tourism Council - ECPv6.15.0.1//NONSGML v1.0//EN
CALSCALE:GREGORIAN
METHOD:PUBLISH
X-ORIGINAL-URL:https://revolutionaryvalley.org
X-WR-CALDESC:Events for Revolutionary Valley Regional Tourism Council
REFRESH-INTERVAL;VALUE=DURATION:PT1H
X-Robots-Tag:noindex
X-PUBLISHED-TTL:PT1H
BEGIN:VTIMEZONE
TZID:America/New_York
BEGIN:DAYLIGHT
TZOFFSETFROM:-0500
TZOFFSETTO:-0400
TZNAME:EDT
DTSTART:20250309T070000
END:DAYLIGHT
BEGIN:STANDARD
TZOFFSETFROM:-0400
TZOFFSETTO:-0500
TZNAME:EST
DTSTART:20251102T060000
END:STANDARD
END:VTIMEZONE
BEGIN:VEVENT
DTSTART;TZID=America/New_York:20250319T140000
DTEND;TZID=America/New_York:20250319T160000
DTSTAMP:20260419T150510
CREATED:20250210T134720Z
LAST-MODIFIED:20250210T134720Z
UID:10062701-1742392800-1742400000@revolutionaryvalley.org
SUMMARY:SMART Gals (Science\, Math\, Art): Exploring DNA
DESCRIPTION:Join us as we learn about women who have made important contributions throughout history to the fields of science\, math\, and art. Chemist Rosalind Franklin made great discoveries and contributions to what we know about DNA. We’ll honor Franklin’s work and learn about other women who use what she discovered in their own research by making strawberry DNA necklaces and creating DNA-inspired self-portraits!
URL:https://revolutionaryvalley.org/event/smart-gals-science-math-art-exploring-dna/
LOCATION:Discovery Museum\, Discovery Museum\, 177 Main St\, Acton\, MA\, 01720\, United States
CATEGORIES:Kids & Family
ATTACH;FMTTYPE=image/jpeg:https://revolutionaryvalley.org/wp-content/uploads/2025/02/smart-gals-scaled.jpg
ORGANIZER;CN="Discovery Museum":MAILTO:fun@discoveryacton.org
GEO:42.464745;-71.4560492
X-APPLE-STRUCTURED-LOCATION;VALUE=URI;X-ADDRESS=Discovery Museum Discovery Museum 177 Main St Acton MA 01720 United States;X-APPLE-RADIUS=500;X-TITLE=Discovery Museum\, 177 Main St:geo:-71.4560492,42.464745
END:VEVENT
BEGIN:VEVENT
DTSTART;TZID=America/New_York:20250319T140000
DTEND;TZID=America/New_York:20250319T160000
DTSTAMP:20260419T150510
CREATED:20250210T134809Z
LAST-MODIFIED:20250210T134809Z
UID:10062702-1742392800-1742400000@revolutionaryvalley.org
SUMMARY:SMART Gals (Science\, Math\, Art): Exploring DNA
DESCRIPTION:Join us as we learn about women who have made important contributions throughout history to the fields of science\, math\, and art. Chemist Rosalind Franklin made great discoveries and contributions to what we know about DNA. We’ll honor Franklin’s work and learn about other women who use what she discovered in their own research by making strawberry DNA necklaces and creating DNA-inspired self-portraits!
URL:https://revolutionaryvalley.org/event/smart-gals-science-math-art-exploring-dna-2/
LOCATION:Discovery Museum\, Discovery Museum\, 177 Main St\, Acton\, MA\, 01720\, United States
CATEGORIES:Kids & Family
ATTACH;FMTTYPE=image/jpeg:https://revolutionaryvalley.org/wp-content/uploads/2025/02/smart-gals-1-scaled.jpg
ORGANIZER;CN="Discovery Museum":MAILTO:fun@discoveryacton.org
GEO:42.464745;-71.4560492
X-APPLE-STRUCTURED-LOCATION;VALUE=URI;X-ADDRESS=Discovery Museum Discovery Museum 177 Main St Acton MA 01720 United States;X-APPLE-RADIUS=500;X-TITLE=Discovery Museum\, 177 Main St:geo:-71.4560492,42.464745
END:VEVENT
END:VCALENDAR