BEGIN:VCALENDAR
VERSION:2.0
PRODID:-//Revolutionary Valley Regional Tourism Council - ECPv6.15.0.1//NONSGML v1.0//EN
CALSCALE:GREGORIAN
METHOD:PUBLISH
X-ORIGINAL-URL:https://revolutionaryvalley.org
X-WR-CALDESC:Events for Revolutionary Valley Regional Tourism Council
REFRESH-INTERVAL;VALUE=DURATION:PT1H
X-Robots-Tag:noindex
X-PUBLISHED-TTL:PT1H
BEGIN:VTIMEZONE
TZID:America/New_York
BEGIN:DAYLIGHT
TZOFFSETFROM:-0500
TZOFFSETTO:-0400
TZNAME:EDT
DTSTART:20230312T070000
END:DAYLIGHT
BEGIN:STANDARD
TZOFFSETFROM:-0400
TZOFFSETTO:-0500
TZNAME:EST
DTSTART:20231105T060000
END:STANDARD
END:VTIMEZONE
BEGIN:VEVENT
DTSTART;TZID=America/New_York:20230118T190000
DTEND;TZID=America/New_York:20230118T200000
DTSTAMP:20260419T190721
CREATED:20221223T164859Z
LAST-MODIFIED:20221223T164859Z
UID:10025772-1674068400-1674072000@revolutionaryvalley.org
SUMMARY:Reckoning with Monuments in the North: A Conversation with W. Ralph Eubanks
DESCRIPTION:Though there are no statues honoring the Confederacy to be found in Boston and Cambridge\, award-winning author W. Ralph Eubanks discusses the historic memorials that obscure the achievements of Black Americans. Join us for a wide-ranging conversation with the Mississippi native on his experience spending a year surrounded by the monuments of the American North and his recently published book\, A Place Like Mississippi\, on the landscape and literature of his homeland . \nW. Ralph Eubanks is the author of A Place Like Mississippi\, published in 2021 by Timber Press. A Place Like Mississippi takes readers on a complete tour of the real and imagined landscapes of Mississippi that have inspired generations of authors. This is a book that honors and explores the landscape of Mississippi and the Magnolia State’s history and reveals the many ways this landscape has informed the work of some of America’s most treasured authors. \nForums are supported in part by the Sally Lanagan Fund. \nPlease register online in advance at https://concordmuseum.org/events/reckoning-with-monuments/
URL:https://revolutionaryvalley.org/event/reckoning-with-monuments-in-the-north-a-conversation-with-w-ralph-eubanks/
LOCATION:Concord Museum\, Concord Museum\, 53 Cambridge Tpke\, Concord\, MA\, 01742\, United States
CATEGORIES:Arts & Culture,Historical,Lecture,Talks and Film
ATTACH;FMTTYPE=image/jpeg:https://revolutionaryvalley.org/wp-content/uploads/2022/12/Ralph-Eubanks-forum.jpg
ORGANIZER;CN="Concord Museum":MAILTO:bevangelista@concordmuseum.org
GEO:42.457713;-71.342264
X-APPLE-STRUCTURED-LOCATION;VALUE=URI;X-ADDRESS=Concord Museum Concord Museum 53 Cambridge Tpke Concord MA 01742 United States;X-APPLE-RADIUS=500;X-TITLE=Concord Museum\, 53 Cambridge Tpke:geo:-71.342264,42.457713
END:VEVENT
BEGIN:VEVENT
DTSTART;TZID=America/New_York:20230124T190000
DTEND;TZID=America/New_York:20230124T200000
DTSTAMP:20260419T190721
CREATED:20221223T190233Z
LAST-MODIFIED:20221223T190233Z
UID:10025774-1674586800-1674590400@revolutionaryvalley.org
SUMMARY:Saving Yellowstone: A Conversation with Megan Kate Nelson
DESCRIPTION:Pulitzer Prize finalist and Civil War historian Megan Kate Nelson tells the vivid story of how\, 150 years ago\, Yellowstone became the world’s first national park amid the nationwide turmoil and racial violence of the Reconstruction era. A narrative of adventure and exploration\, the creation of Yellowstone is also a story of Indigenous resistance and the struggles of Black southerners during a turning point in the nation’s history. \nForums are supported in part by the Sally Lanagan Fund. \nPlease register online in advance.
URL:https://revolutionaryvalley.org/event/saving-yellowstone-a-conversation-with-megan-kate-nelson/
LOCATION:Concord Museum\, Concord Museum\, 53 Cambridge Tpke\, Concord\, MA\, 01742\, United States
CATEGORIES:Arts & Culture,Lecture
ATTACH;FMTTYPE=image/jpeg:https://revolutionaryvalley.org/wp-content/uploads/2022/12/Saving-Yellowstone-A-Conversation-with-Megan-Kate-Nelson.jpg
ORGANIZER;CN="Concord Museum":MAILTO:bevangelista@concordmuseum.org
GEO:42.457713;-71.342264
X-APPLE-STRUCTURED-LOCATION;VALUE=URI;X-ADDRESS=Concord Museum Concord Museum 53 Cambridge Tpke Concord MA 01742 United States;X-APPLE-RADIUS=500;X-TITLE=Concord Museum\, 53 Cambridge Tpke:geo:-71.342264,42.457713
END:VEVENT
END:VCALENDAR