BEGIN:VCALENDAR
VERSION:2.0
PRODID:-//Revolutionary Valley Regional Tourism Council - ECPv6.15.0.1//NONSGML v1.0//EN
CALSCALE:GREGORIAN
METHOD:PUBLISH
X-WR-CALNAME:Revolutionary Valley Regional Tourism Council
X-ORIGINAL-URL:https://revolutionaryvalley.org
X-WR-CALDESC:Events for Revolutionary Valley Regional Tourism Council
REFRESH-INTERVAL;VALUE=DURATION:PT1H
X-Robots-Tag:noindex
X-PUBLISHED-TTL:PT1H
BEGIN:VTIMEZONE
TZID:America/New_York
BEGIN:DAYLIGHT
TZOFFSETFROM:-0500
TZOFFSETTO:-0400
TZNAME:EDT
DTSTART:20230312T070000
END:DAYLIGHT
BEGIN:STANDARD
TZOFFSETFROM:-0400
TZOFFSETTO:-0500
TZNAME:EST
DTSTART:20231105T060000
END:STANDARD
END:VTIMEZONE
BEGIN:VEVENT
DTSTART;TZID=America/New_York:20230601T150000
DTEND;TZID=America/New_York:20230601T160000
DTSTAMP:20260424T181855
CREATED:20230524T134517Z
LAST-MODIFIED:20230524T134517Z
UID:10027953-1685631600-1685635200@revolutionaryvalley.org
SUMMARY:American Inheritance: A Conversation with Edward Larson
DESCRIPTION:Pulitzer Prize winning author Edward Larson joins us for a conversation on his new book American Inheritance: Liberty and Slavery in the Birth of a Nation\, 1765-1795\, in which he discusses how liberty and slavery were intertwined during the nation’s founding. \nProfessor Larson examines the role of Black Americans during the Revolutionary War and in the many debates over slavery and freedom\, highlighting the voices of Black Americans as the most persuasive in the urgency of liberty. He explores the fateful compromises over slavery that took place during the Constitutional Convention and their disastrous effects in the coming decades. \n“An authoritative contribution to the dismal history of race in America. … Larson\, author of Franklin & Washington\, A Magnificent Catastrophe and other acclaimed books of American history\, recasts the narrative of the nation’s founding by focusing on vociferous debates about liberty that erupted during three crucial decades of revolutionary fervor. … At a time when rebellious colonists proclaimed their refusal to be enslaved by the British\, most saw no contradiction in buying and selling men\, women\, and children. … Larson’s stirring narrative includes the perspectives of free and escaped slaves\, such as James Somerset\, who was brought to England by his owner\, where he successfully sued for his freedom; poet Phillis Wheatley; and Ona Judge\, dower property of Martha Washington\, whose escape incited George Washington’s desperate\, enraged search for her return.” Kirkus Reviews\, October 20\, 2022 \nForums are supported in part by the Sally Lanagan Fund. \nRegister online in advance at https://concordmuseum.org/events/american-inheritance/
URL:https://revolutionaryvalley.org/event/american-inheritance-a-conversation-with-edward-larson/
LOCATION:Concord Museum\, Concord Museum\, 53 Cambridge Tpke\, Concord\, MA\, 01742\, United States
CATEGORIES:Historical,Lecture
ATTACH;FMTTYPE=image/png:https://revolutionaryvalley.org/wp-content/uploads/2023/05/Edward-Larson-American-Inheritance-600x400-1.png
ORGANIZER;CN="Concord Museum":MAILTO:bevangelista@concordmuseum.org
GEO:42.457713;-71.342264
X-APPLE-STRUCTURED-LOCATION;VALUE=URI;X-ADDRESS=Concord Museum Concord Museum 53 Cambridge Tpke Concord MA 01742 United States;X-APPLE-RADIUS=500;X-TITLE=Concord Museum\, 53 Cambridge Tpke:geo:-71.342264,42.457713
END:VEVENT
BEGIN:VEVENT
DTSTART;TZID=America/New_York:20230610T150000
DTEND;TZID=America/New_York:20230610T160000
DTSTAMP:20260424T181855
CREATED:20230524T134312Z
LAST-MODIFIED:20230531T160432Z
UID:10027954-1686409200-1686412800@revolutionaryvalley.org
SUMMARY:Disunion Among Ourselves: The Perilous Politics of the American Revolution
DESCRIPTION:Vanderbilt political historian and best-selling author Eli Merritt reveals the deep political divisions that almost tore the Union apart during the American Revolution. Despite their differences\, the nation’s founders united for the sake of liberty and self-preservation\, forging grueling compromises to hold the nation together. Merritt’s book serves as a reminder that commitment to ethical constitutional democracy and compromise helped the founders overcome far tougher times than our own\, and it resonates with our present era of political hyperpolarization and serves as a touchstone for contemporary politics. \n“Eli Merritt deftly explores a revolutionary America rife with divisions and driven by a fear of civil wars on multiple fronts. Deeply researched\, wide-ranging\, and insightful\, Disunion Among Ourselves persuades that our national Union began from\, and still depends on\, fending off the many demons of disunion.”—Alan Taylor\, author of American Revolutions: A Continental History\, 1750-1804 \nForums are funded in part by the Sally Lanagan Fund. \nRegister online in advance at https://concordmuseum.org/events/disunion-among-ourselves/
URL:https://revolutionaryvalley.org/event/disunion-among-ourselves-the-perilous-politics-of-the-american-revolution/
LOCATION:Concord Museum\, Concord Museum\, 53 Cambridge Tpke\, Concord\, MA\, 01742\, United States
CATEGORIES:Historical,Lecture
ATTACH;FMTTYPE=image/jpeg:https://revolutionaryvalley.org/wp-content/uploads/2023/05/Disunion-IG-1200-×-800-px.jpg
ORGANIZER;CN="Concord Museum":MAILTO:bevangelista@concordmuseum.org
GEO:42.457713;-71.342264
X-APPLE-STRUCTURED-LOCATION;VALUE=URI;X-ADDRESS=Concord Museum Concord Museum 53 Cambridge Tpke Concord MA 01742 United States;X-APPLE-RADIUS=500;X-TITLE=Concord Museum\, 53 Cambridge Tpke:geo:-71.342264,42.457713
END:VEVENT
BEGIN:VEVENT
DTSTART;TZID=America/New_York:20230615T190000
DTEND;TZID=America/New_York:20230615T200000
DTSTAMP:20260424T181855
CREATED:20230524T134000Z
LAST-MODIFIED:20230531T160429Z
UID:10027956-1686855600-1686859200@revolutionaryvalley.org
SUMMARY:Concord Birds\, Then and Now
DESCRIPTION:The detailed records of bird sightings and phenological observations around Concord from the last 170 years—from Thoreau’s notes to today’s studies by scientists at Boston University—provide a key to studying how climate change is affecting bird migration. Boston University professor Richard Primack and Colby College visiting assistant professor Amanda Gallinat present their recent research and unexpected new findings from eBird data collected in Concord. \nFollowing their presentation\, Professors Primack and Gallinat will be joined in conversation by a panel of ornithologists. \nTickets are free for Concord Museum and Mass Audubon members. \nThis event is co-sponsored by Mass. Audubon. \nRegister online in advance at https://concordmuseum.org/events/concord-birds-then-and-now/
URL:https://revolutionaryvalley.org/event/concord-birds-then-and-now/
LOCATION:Concord Museum\, Concord Museum\, 53 Cambridge Tpke\, Concord\, MA\, 01742\, United States
CATEGORIES:Lecture
ATTACH;FMTTYPE=image/jpeg:https://revolutionaryvalley.org/wp-content/uploads/2023/05/Concord-Birds-1200-×-800-.jpg
ORGANIZER;CN="Concord Museum":MAILTO:bevangelista@concordmuseum.org
GEO:42.457713;-71.342264
X-APPLE-STRUCTURED-LOCATION;VALUE=URI;X-ADDRESS=Concord Museum Concord Museum 53 Cambridge Tpke Concord MA 01742 United States;X-APPLE-RADIUS=500;X-TITLE=Concord Museum\, 53 Cambridge Tpke:geo:-71.342264,42.457713
END:VEVENT
BEGIN:VEVENT
DTSTART;TZID=America/New_York:20230620T190000
DTEND;TZID=America/New_York:20230620T200000
DTSTAMP:20260424T181855
CREATED:20230523T142204Z
LAST-MODIFIED:20230531T160319Z
UID:10027960-1687287600-1687291200@revolutionaryvalley.org
SUMMARY:Henry at Work: A Conversation with John Kaag
DESCRIPTION:John Kaag\, the Donohue Professor of Ethics and the Arts at UMass Lowell and External Professor at the Santa Fe Institute\, joins us to launch his new book “Henry at Work: Thoreau on Making a Living.” Professor Kaag discusses what Thoreau can teach us about working—why we do it\, what it does to us\, and how we can make it more meaningful. Professor Kaag will be in conversation with Robert A. Gross\, author of “The Transcendentalists and Their World.” \n“The authors speculate that\, following the most recent recession\, the ‘Great Resignation’ might be an indication that in the aftermath of the pandemic\, Americans are finally ready to take after Thoreau’s example of living deliberately. … An inspiring book that will give you the succor you need to reconsider—and possibly change—the way you work.” –Kirkus Reviews\, March 11\, 2023
URL:https://revolutionaryvalley.org/event/henry-at-work-a-conversation-with-john-kaag/
LOCATION:Concord Museum\, Concord Museum\, 53 Cambridge Tpke\, Concord\, MA\, 01742\, United States
CATEGORIES:Historical,Lecture
ATTACH;FMTTYPE=image/jpeg:https://revolutionaryvalley.org/wp-content/uploads/2023/05/Kaag-1200x800-1.jpg
ORGANIZER;CN="Concord Museum":MAILTO:bevangelista@concordmuseum.org
GEO:42.457713;-71.342264
X-APPLE-STRUCTURED-LOCATION;VALUE=URI;X-ADDRESS=Concord Museum Concord Museum 53 Cambridge Tpke Concord MA 01742 United States;X-APPLE-RADIUS=500;X-TITLE=Concord Museum\, 53 Cambridge Tpke:geo:-71.342264,42.457713
END:VEVENT
END:VCALENDAR