BEGIN:VCALENDAR
VERSION:2.0
PRODID:-//Revolutionary Valley Regional Tourism Council - ECPv6.15.0.1//NONSGML v1.0//EN
CALSCALE:GREGORIAN
METHOD:PUBLISH
X-WR-CALNAME:Revolutionary Valley Regional Tourism Council
X-ORIGINAL-URL:https://revolutionaryvalley.org
X-WR-CALDESC:Events for Revolutionary Valley Regional Tourism Council
REFRESH-INTERVAL;VALUE=DURATION:PT1H
X-Robots-Tag:noindex
X-PUBLISHED-TTL:PT1H
BEGIN:VTIMEZONE
TZID:America/New_York
BEGIN:DAYLIGHT
TZOFFSETFROM:-0500
TZOFFSETTO:-0400
TZNAME:EDT
DTSTART:20240310T070000
END:DAYLIGHT
BEGIN:STANDARD
TZOFFSETFROM:-0400
TZOFFSETTO:-0500
TZNAME:EST
DTSTART:20241103T060000
END:STANDARD
END:VTIMEZONE
BEGIN:VEVENT
DTSTART;TZID=America/New_York:20241019T140000
DTEND;TZID=America/New_York:20241019T160000
DTSTAMP:20260424T181854
CREATED:20241010T204610Z
LAST-MODIFIED:20241010T204610Z
UID:10057945-1729346400-1729353600@revolutionaryvalley.org
SUMMARY:Sounds of Labor in Lowell: Agriculture and Early Industry
DESCRIPTION:What does the history of work in Lowell sound like\, and how can you tell that story through music? Come be part of the musical composition process in the first of a series of workshops on the soundscape of Lowell through its many eras! Join contemporary composers working on new pieces specifically for Lowell National Historical Park as they explore the labor of the Agriculture and Early Industry eras. Attend a ranger-led talk\, attempt hands-on activities\, and have a chance to discuss the compositions in progress. No musical knowledge necessary! \nParticipants can plan to meet at the Lowell National Historical Park Visitor Center (246 Market Street). A guided tour will walk to the Boott Cotton Mills Museum (115 John Street) and attendees can expect about half a mile of walking. \nLowell National Historical Park visitors may park at the Hamilton Canal Innovation District parking garage at 350 Dutton St.\, Lowell. Parking in this garage (only) is available to National Park visitors at no cost provided they obtain a valid parking voucher at either the Lowell National Historical Park Visitor Center at 246 Market Street\, or at the Boott Cotton Mills Museum at 115 John Street. \nThis program is made possible through a grant from the National Park Foundation through generous support from the Mellon Foundation\, and with our programming partner\, Mosaic Lowell. For more information on this project\, please visit: https://www.nps.gov/lowe/getinvolved/supportyourpark/the-measure-of-work-sounds-of-labor-in-lowell-project.htm 
URL:https://revolutionaryvalley.org/event/sounds-of-labor-in-lowell-agriculture-and-early-industry/
LOCATION:Lowell National Historical Park Visitor Center\, Lowell National Historical Park Visitor Center\, 246 Market St\, Lowell\, MA\, United States
CATEGORIES:Arts & Culture,Free Events,Historical,Lecture,Talks and Film
ATTACH;FMTTYPE=image/jpeg:https://revolutionaryvalley.org/wp-content/uploads/2024/10/oct-19-2.jpg
ORGANIZER;CN="Lowell National Historical Park":MAILTO:phil_lupsiewicz@nps.gov
GEO:42.6444497;-71.3124716
X-APPLE-STRUCTURED-LOCATION;VALUE=URI;X-ADDRESS=Lowell National Historical Park Visitor Center Lowell National Historical Park Visitor Center 246 Market St Lowell MA United States;X-APPLE-RADIUS=500;X-TITLE=Lowell National Historical Park Visitor Center\, 246 Market St:geo:-71.3124716,42.6444497
END:VEVENT
BEGIN:VEVENT
DTSTART;TZID=America/New_York:20241023T183000
DTEND;TZID=America/New_York:20241023T200000
DTSTAMP:20260424T181854
CREATED:20241018T172048Z
LAST-MODIFIED:20241018T172048Z
UID:10057960-1729708200-1729713600@revolutionaryvalley.org
SUMMARY:Admiral Gilday Returns to Lowell for Special Parker Lecture Series
DESCRIPTION:The City of Lowell\, in collaboration with the Parker Lecture Series and UMass Lowell\, is proud to present Admiral Michael Gilday\, a distinguished native of Lowell\, on Wednesday\, October 23\, 2024\, at 6:30PM\, at UMass Lowell’s Comley-Lane Theatre\, located at 870 Broadway St. This special event is free and open to the public\, with no tickets required. \nAdmiral Gilday\, who served as the 32nd Chief of Naval Operations from August 22\, 2019\, to August 17\, 2023\, returns to his hometown to share insights from his remarkable military career. His service includes positions of great distinction\, such as Naval Aide to the President. Among his many accolades\, Admiral Gilday is a recipient of the Defense Distinguished Service Medal\, Navy Distinguished Service Medal\, Defense Superior Service Medal (four awards)\, Legion of Merit (three awards)\, Bronze Star\, Navy and Marine Corps Commendation Medal with Combat “V\,” and the Combat Action Ribbon. \nThe evening will feature a keynote address by Admiral Gilday\, along with a panel discussion moderated by City Manager Thomas A. Golden\, Jr. Panelists include Mayor Daniel P. Rourke and Parker Lecture Series Chair John Carson. Following the panel and presentation\, attendees will have the opportunity to engage in a Q&A session with Admiral Gilday.
URL:https://revolutionaryvalley.org/event/admiral-gilday-returns-to-lowell-for-special-parker-lecture-series/
LOCATION:UMass Lowell Comley-Lane Theatre\, Broadway Street\, Lowell\, Massachusetts\, 01854\, United States
CATEGORIES:Featured,Free Events,Lecture
ATTACH;FMTTYPE=image/jpeg:https://revolutionaryvalley.org/wp-content/uploads/2024/10/Flyer-Admiral-Gilday-scaled.jpg
ORGANIZER;CN="Moses Greeley Parker Lectures":MAILTO:dguttenplan@gmail.com
GEO:42.6409599;-71.3350631
X-APPLE-STRUCTURED-LOCATION;VALUE=URI;X-ADDRESS=UMass Lowell Comley-Lane Theatre Broadway Street Lowell Massachusetts 01854 United States;X-APPLE-RADIUS=500;X-TITLE=Broadway Street:geo:-71.3350631,42.6409599
END:VEVENT
BEGIN:VEVENT
DTSTART;TZID=America/New_York:20241023T183000
DTEND;TZID=America/New_York:20241023T200000
DTSTAMP:20260424T181854
CREATED:20241024T201836Z
LAST-MODIFIED:20241024T201836Z
UID:10057959-1729708200-1729713600@revolutionaryvalley.org
SUMMARY:Admiral Gilday Returns to Lowell for Special Parker Lecture Series
DESCRIPTION:The City of Lowell\, in collaboration with the Parker Lecture Series and UMass Lowell\, is proud to present Admiral Michael Gilday\, a distinguished native of Lowell.\nAdmiral Gilday\, who served as the 32nd Chief of Naval Operations from August 22\, 2019\, to August 17\, 2023\, returns to his hometown to share insights from his remarkable military career. His service includes positions of great distinction\, such as Naval Aide to the President. Among his many accolades\, Admiral Gilday is a recipient of the Defense Distinguished Service Medal\, Navy Distinguished Service Medal\, Defense Superior Service Medal (four awards)\, Legion of Merit (three awards)\, Bronze Star\, Navy and Marine Corps Commendation Medal with Combat “V\,” and the Combat Action Ribbon.\nThe evening will feature a keynote address by Admiral Gilday\, along with a panel discussion moderated by City Manager Thomas A. Golden\, Jr. Panelists include Mayor Daniel P. Rourke and Parker Lecture Series Chair John Carson. Following the panel and presentation\, attendees will have the opportunity to engage in a Q&A session with Admiral Gilday.\nThis event is free\, and no tickets are required.
URL:https://revolutionaryvalley.org/event/admiral-gilday-returns-to-lowell-for-special-parker-lecture-series-2/
LOCATION:UMass Lowell Comley-Lane Theatre\, Broadway Street\, Lowell\, Massachusetts\, 01854\, United States
CATEGORIES:Featured,Free Events,Lecture
GEO:42.6409599;-71.3350631
X-APPLE-STRUCTURED-LOCATION;VALUE=URI;X-ADDRESS=UMass Lowell Comley-Lane Theatre Broadway Street Lowell Massachusetts 01854 United States;X-APPLE-RADIUS=500;X-TITLE=Broadway Street:geo:-71.3350631,42.6409599
END:VEVENT
END:VCALENDAR