BEGIN:VCALENDAR
VERSION:2.0
PRODID:-//Revolutionary Valley Regional Tourism Council - ECPv6.15.0.1//NONSGML v1.0//EN
CALSCALE:GREGORIAN
METHOD:PUBLISH
X-ORIGINAL-URL:https://revolutionaryvalley.org
X-WR-CALDESC:Events for Revolutionary Valley Regional Tourism Council
REFRESH-INTERVAL;VALUE=DURATION:PT1H
X-Robots-Tag:noindex
X-PUBLISHED-TTL:PT1H
BEGIN:VTIMEZONE
TZID:America/New_York
BEGIN:DAYLIGHT
TZOFFSETFROM:-0500
TZOFFSETTO:-0400
TZNAME:EDT
DTSTART:20230312T070000
END:DAYLIGHT
BEGIN:STANDARD
TZOFFSETFROM:-0400
TZOFFSETTO:-0500
TZNAME:EST
DTSTART:20231105T060000
END:STANDARD
END:VTIMEZONE
BEGIN:VEVENT
DTSTART;TZID=America/New_York:20230511T190000
DTEND;TZID=America/New_York:20230511T200000
DTSTAMP:20260422T202244
CREATED:20230504T160827Z
LAST-MODIFIED:20230510T173932Z
UID:10027143-1683831600-1683835200@revolutionaryvalley.org
SUMMARY:An Evening with Robert Pinsky\, Former US Poet Laureate
DESCRIPTION:Robert\, Pinsky\, Poet Laureate of the United States from 1997 to 2000 joins us for a reading and conversation on writing\, teaching\, and poetry’s place in the world. It was said of Robert Pinsky in the New York Times Sunday Book Review\, “No other living American poet—no other living American\, probably—has done so much to put poetry before the public eye.” Robert Pinsky will be in conversation with his dear friend and award-winning poet\, Gail Mazur\, and will read from his latest poetry collection Jersey Breaks. \nThis Forum will take place at the Fenn School\, 516 Monument St\, Concord MA 01742 \nRegister online in advance at https://concordmuseum.org/events/an-evening-with-robert-pinsky/
URL:https://revolutionaryvalley.org/event/an-evening-with-robert-pinsky-former-us-poet-laureate/
LOCATION:Concord Museum\, Concord Museum\, 53 Cambridge Tpke\, Concord\, MA\, 01742\, United States
CATEGORIES:Lecture
ATTACH;FMTTYPE=image/jpeg:https://revolutionaryvalley.org/wp-content/uploads/2023/05/Pinsky-FB-event-1.jpg
ORGANIZER;CN="Concord Museum":MAILTO:bevangelista@concordmuseum.org
GEO:42.457713;-71.342264
X-APPLE-STRUCTURED-LOCATION;VALUE=URI;X-ADDRESS=Concord Museum Concord Museum 53 Cambridge Tpke Concord MA 01742 United States;X-APPLE-RADIUS=500;X-TITLE=Concord Museum\, 53 Cambridge Tpke:geo:-71.342264,42.457713
END:VEVENT
END:VCALENDAR