BEGIN:VCALENDAR
VERSION:2.0
PRODID:-//Revolutionary Valley Regional Tourism Council - ECPv6.15.0.1//NONSGML v1.0//EN
CALSCALE:GREGORIAN
METHOD:PUBLISH
X-WR-CALNAME:Revolutionary Valley Regional Tourism Council
X-ORIGINAL-URL:https://revolutionaryvalley.org
X-WR-CALDESC:Events for Revolutionary Valley Regional Tourism Council
REFRESH-INTERVAL;VALUE=DURATION:PT1H
X-Robots-Tag:noindex
X-PUBLISHED-TTL:PT1H
BEGIN:VTIMEZONE
TZID:America/New_York
BEGIN:DAYLIGHT
TZOFFSETFROM:-0500
TZOFFSETTO:-0400
TZNAME:EDT
DTSTART:20240310T070000
END:DAYLIGHT
BEGIN:STANDARD
TZOFFSETFROM:-0400
TZOFFSETTO:-0500
TZNAME:EST
DTSTART:20241103T060000
END:STANDARD
END:VTIMEZONE
BEGIN:VEVENT
DTSTART;TZID=America/New_York:20240922T130000
DTEND;TZID=America/New_York:20240922T141500
DTSTAMP:20260426T004139
CREATED:20240904T185149Z
LAST-MODIFIED:20240904T185149Z
UID:10057437-1727010000-1727014500@revolutionaryvalley.org
SUMMARY:In Conversation: Kay WalkingStick and Wendy Nālani E. Ikemoto
DESCRIPTION:Join artist Kay WalkingStick and exhibition curator Wendy Nālani E. Ikemoto\, Vice President and Chief Curator of the New-York Historical Society\, for an engaging\, informal conversation about the themes presented in Kay WalkingStick / Hudson River School. The exhibition\, organized by New-York Historical Society\, places landscape paintings by WalkingStick in conversation with 19th-century Hudson River School paintings\, celebrating a shared reverence for nature while engaging crucial questions about land dispossession and its reclamation by Indigenous peoples and nations. This program is free but space is limited and registration is required. Event will be held in Kemper Auditorium\, adjacent to the Addison. \nImage: Kay WalkingStick\, Wampanoag Coast\, Variation II\, 2018. Oil on panel in two parts. Collection of Agnes Hsu-Tang\, Ph.D.\, and Oscar Tang. © Kay WalkingStick
URL:https://revolutionaryvalley.org/event/in-conversation-kay-walkingstick-and-wendy-nalani-e-ikemoto/
LOCATION:Addison Gallery of American Art\, Chapel Avenue\, Andover\, Massachusetts\, 01810\, United States
CATEGORIES:Arts & Culture,Lecture
ATTACH;FMTTYPE=image/jpeg:https://revolutionaryvalley.org/wp-content/uploads/2024/09/8-Wampanoag-Coast-Variation-II-by-WalkingStick-scaled.jpg
ORGANIZER;CN="Addison Gallery of American Art":MAILTO:addison@andover.edu
GEO:42.6490098;-71.1334767
X-APPLE-STRUCTURED-LOCATION;VALUE=URI;X-ADDRESS=Addison Gallery of American Art Chapel Avenue Andover Massachusetts 01810 United States;X-APPLE-RADIUS=500;X-TITLE=Chapel Avenue:geo:-71.1334767,42.6490098
END:VEVENT
END:VCALENDAR