BEGIN:VCALENDAR
VERSION:2.0
PRODID:-//Revolutionary Valley Regional Tourism Council - ECPv6.15.0.1//NONSGML v1.0//EN
CALSCALE:GREGORIAN
METHOD:PUBLISH
X-WR-CALNAME:Revolutionary Valley Regional Tourism Council
X-ORIGINAL-URL:https://revolutionaryvalley.org
X-WR-CALDESC:Events for Revolutionary Valley Regional Tourism Council
REFRESH-INTERVAL;VALUE=DURATION:PT1H
X-Robots-Tag:noindex
X-PUBLISHED-TTL:PT1H
BEGIN:VTIMEZONE
TZID:America/New_York
BEGIN:DAYLIGHT
TZOFFSETFROM:-0500
TZOFFSETTO:-0400
TZNAME:EDT
DTSTART:20240310T070000
END:DAYLIGHT
BEGIN:STANDARD
TZOFFSETFROM:-0400
TZOFFSETTO:-0500
TZNAME:EST
DTSTART:20241103T060000
END:STANDARD
END:VTIMEZONE
BEGIN:VEVENT
DTSTART;TZID=America/New_York:20241112T190000
DTEND;TZID=America/New_York:20241112T200000
DTSTAMP:20260424T182534
CREATED:20241104T142145Z
LAST-MODIFIED:20241104T142145Z
UID:10060502-1731438000-1731441600@revolutionaryvalley.org
SUMMARY:Book Chat on The Revolutionary Samuel Adams by Stacy Schiff
DESCRIPTION:The Revolution is coming! New for 2024-25\, our Book Chat series will examine books and biographies that explore the people and legacy of the American Revolution – just in time for 250th anniversary celebrations. \nStacy Schiff’s latest book explores one of the most pivotal figures in the Battle of Lexington – who was not even from Lexington! When Paul Revere rode into town on the night of April 18th\, 1775\, his mission was to alert Adams and John Hancock – two of the most radical and well-connected revolutionaries in Massachusetts – that the British raid on military supplies in Concord may include their arrest for treason. The need for the leader of the Revolution to hide in a sleepy suburban town initiated a chain of events that would change American history forever. But how did a man from an affluent family become the fiery politician we know today\, who orchestrated some of the most important events of the Revolution? Join us for a discussion on Schiff’s book and Adams’s life to find out! \nPlease note that due to construction at the Depot\, Book Chats for the 2024-25 season will take place in the archives and Research Center at Munroe Tavern. \n$10 members\, $15 nonmembers
URL:https://revolutionaryvalley.org/event/book-chat-on-the-revolutionary-samuel-adams-by-stacy-schiff/
LOCATION:Munroe Tavern\, 1332 Massachusetts Ave\, Lexington\, MA\, 02420\, United States
CATEGORIES:Historical,Lecture
ATTACH;FMTTYPE=image/jpeg:https://revolutionaryvalley.org/wp-content/uploads/2024/11/Revolutionary-Header.jpg
GEO:42.4413434;-71.2163287
X-APPLE-STRUCTURED-LOCATION;VALUE=URI;X-ADDRESS=Munroe Tavern 1332 Massachusetts Ave Lexington MA 02420 United States;X-APPLE-RADIUS=500;X-TITLE=1332 Massachusetts Ave:geo:-71.2163287,42.4413434
END:VEVENT
END:VCALENDAR