BEGIN:VCALENDAR
VERSION:2.0
PRODID:-//Revolutionary Valley Regional Tourism Council - ECPv6.15.0.1//NONSGML v1.0//EN
CALSCALE:GREGORIAN
METHOD:PUBLISH
X-WR-CALNAME:Revolutionary Valley Regional Tourism Council
X-ORIGINAL-URL:https://revolutionaryvalley.org
X-WR-CALDESC:Events for Revolutionary Valley Regional Tourism Council
REFRESH-INTERVAL;VALUE=DURATION:PT1H
X-Robots-Tag:noindex
X-PUBLISHED-TTL:PT1H
BEGIN:VTIMEZONE
TZID:America/New_York
BEGIN:DAYLIGHT
TZOFFSETFROM:-0500
TZOFFSETTO:-0400
TZNAME:EDT
DTSTART:20240310T070000
END:DAYLIGHT
BEGIN:STANDARD
TZOFFSETFROM:-0400
TZOFFSETTO:-0500
TZNAME:EST
DTSTART:20241103T060000
END:STANDARD
END:VTIMEZONE
BEGIN:VEVENT
DTSTART;VALUE=DATE:20240906
DTEND;VALUE=DATE:20240909
DTSTAMP:20260420T071415
CREATED:20240711T163049Z
LAST-MODIFIED:20240711T163049Z
UID:10057070-1725580800-1725839999@revolutionaryvalley.org
SUMMARY:Garden Bros Nuclear Circus
DESCRIPTION:The 2024 Edition of GARDEN BROS NUCLEAR CIRCUS; Jr’s Big Adventure is Coming to a city near you! \nThis year’s show is a fully immersive virtual reality experience packed with breathtaking special effects\, arena seating\, concert style sound and lighting along with 5 RINGS bursting with excitement\, laughter\, and memories that families will always cherish. The very best performers from over 22 countries make up this action jammed\, fast paced 100-minute performance\, all under a climate-controlled tent. Featuring the Human Cannonball\, Aerial Artists that will blow your mind\, The World’s Smallest Person\, The Wheel of Death\, Motorcycles in the Sphere of Fear\, the Funniest Clowns\, Dogs as seen on America’s Got Talent\, we could keep going but you just need to see it!!! \nKIDS FUN ZONE: Ride a circus pony\, a giant slide\, or mini monster truck. Play in one of our bouncy houses\, Climb a Rockwall\, Jump on the bungee trampoline\, or get your face painted! Come hungry because we have 10 different concession booths to choose from. \nFree Children’s Tickets have been distributed to area elementary schools\, pre-schools\, day care centers\, fast food\, convenience stores\, salons\, and large employers. \nFirst 100 Adult Tickets sold online are only $14.50 at www.GardenBrosCircus.com.
URL:https://revolutionaryvalley.org/event/garden-bros-nuclear-circus/
LOCATION:Tsongas Center\, Tsongas Center\, 300 Arcand Dr\, Lowell\, MA\, 01852\, United States
CATEGORIES:Kids & Family,Live Performances
ATTACH;FMTTYPE=image/jpeg:https://revolutionaryvalley.org/wp-content/uploads/2024/07/Worlds-Smallest-Person-1-scaled.jpg
ORGANIZER;CN="Stellar Entertainment":MAILTO:fun@gardenbroscircus.com
GEO:42.6502366;-71.3132188
X-APPLE-STRUCTURED-LOCATION;VALUE=URI;X-ADDRESS=Tsongas Center Tsongas Center 300 Arcand Dr Lowell MA 01852 United States;X-APPLE-RADIUS=500;X-TITLE=Tsongas Center\, 300 Arcand Dr:geo:-71.3132188,42.6502366
END:VEVENT
BEGIN:VEVENT
DTSTART;TZID=America/New_York:20240906T200000
DTEND;TZID=America/New_York:20240906T223000
DTSTAMP:20260420T071415
CREATED:20240829T192755Z
LAST-MODIFIED:20240829T192755Z
UID:10057189-1725652800-1725661800@revolutionaryvalley.org
SUMMARY:Kashmir - The Spirit of Led Zeppelin Live featuring Jean Violet
DESCRIPTION:Kashmir\, The Live Led Zeppelin Show was created by vocalist Jean Violet back in 2000. It has grown from the streets of New York City to now being one of the top Led Zeppelin Tribute bands touring nationally and internationally. Kashmir’s primary focus is capturing the live performance and raw energy of a Led Zeppelin show. \nTime and time again audience members who meet and greet with Kashmir after a show tell them how they felt as if they went back in time to a Led Zeppelin concert that they attended or how younger members of the audience will tell the band how it was the closest experience that they will ever get to a Live Led Zeppelin performance. \nYes the singer looks and sounds alot like Robert Plant and the band shares the authenticity\, appearance and sound of the great Led Zeppelin but more importantly the band wants to share the energy and the experience that Led Zeppelin created while on tour. The band calls it “The Zone” and they want everyone to share that same electromagnetic experience after leaving a Kashmir show like so many Zep fans did in the past while watching the great Led Zeppelin on stage! \nAll Lawn Seating/General Admission – Bring Your Own Chair/Blanket. Food\, Soft Drinks\, Beer and Wine are available for purchase. Dogs are permitted on a non-retractable leash and cannot be a nuisance. No outside alcohol permitted. Smoking is not permitted in the Amphitheater Handicap parking is available.   All attendees follow yellow directional signs to the parking area – upper fields parking lot and field. Portable toilets are available throughout the event. The ending time is approximate. The Town of Acton has the right to make changes if necessary for this event. Children under age 10 are free with a paid adult.
URL:https://revolutionaryvalley.org/event/kashmir-the-spirit-of-led-zeppelin-live-featuring-jean-violet/
LOCATION:Thoams E. Tidman Ampitheather at NARA Park\, 71 Quarry Road\, Acton\, MA\, 01720\, United States
CATEGORIES:Live Performances,Outdoors
ATTACH;FMTTYPE=image/jpeg:https://revolutionaryvalley.org/wp-content/uploads/2024/08/KASHMIR-FLYER-2024-NEW-DATE-628-x-628-px.jpg
ORGANIZER;CN="Town of Acton":MAILTO:recreation@actonma.gov
GEO:42.5201919;-71.4145561
X-APPLE-STRUCTURED-LOCATION;VALUE=URI;X-ADDRESS=Thoams E. Tidman Ampitheather at NARA Park 71 Quarry Road Acton MA 01720 United States;X-APPLE-RADIUS=500;X-TITLE=71 Quarry Road:geo:-71.4145561,42.5201919
END:VEVENT
BEGIN:VEVENT
DTSTART;TZID=America/New_York:20240908T193000
DTEND;TZID=America/New_York:20240908T210000
DTSTAMP:20260420T071415
CREATED:20240509T170320Z
LAST-MODIFIED:20240509T171659Z
UID:10055372-1725823800-1725829200@revolutionaryvalley.org
SUMMARY:Lowell Summer Music Series: Victor Wooten and the Wooten Brothers
DESCRIPTION:Together The Wooten Brothers bring an uncanny level of experience\, originality\, and musical expertise to the stage. Their shows will be a high-energy\, super-funky\, artistic blend of styles including original songs and classics. In short: these brothers are the real deal and their shows are not to be missed.\n\nAdvance GA $54.00 ($47.00 ticket + $7.00 service fee) \nAdvance Premium $165.00 ($147.00 ticket + $18.00 service fee)\n\nDay Of GA $66.00 ($57.00 ticket + $9.00 service fee)\nDay Of Premium $176.00 ($157.00 ticket + $19.00 service fee)\n\nPremium Seats are low-to-the-ground chairs which we provide and are located in the first several rows for each show. Go to the seat map on the ticketing page for each show to see the actual layout. For photos\, please visit the the FAQ’s on the Lowell Summer Music Series website.  \nKids age 12 and under are admitted free (general admission seats only) if accompanied by a ticket holder\, courtesy of Jeanne D’Arc Credit Union. *\n*If this show is moved indoors due to inclement weather\, there will be no free kids ticket promotions due to capacity limitations\, only paid ticket holders may attend.
URL:https://revolutionaryvalley.org/event/lowell-summer-music-series-victor-wooten-and-the-wooten-brothers/
LOCATION:Boarding House Park\, Boarding House Park\, 40 French St\, Lowell\, MA\, United States
CATEGORIES:Live Performances
ATTACH;FMTTYPE=image/jpeg:https://revolutionaryvalley.org/wp-content/uploads/2024/05/Admat_WB_SweatTour_FB-Event-scaled.jpg
ORGANIZER;CN="Lowell National Historical Park":MAILTO:phil_lupsiewicz@nps.gov
GEO:42.647362;-71.3088716
X-APPLE-STRUCTURED-LOCATION;VALUE=URI;X-ADDRESS=Boarding House Park Boarding House Park 40 French St Lowell MA United States;X-APPLE-RADIUS=500;X-TITLE=Boarding House Park\, 40 French St:geo:-71.3088716,42.647362
END:VEVENT
BEGIN:VEVENT
DTSTART;TZID=America/New_York:20240913T190000
DTEND;TZID=America/New_York:20240913T210000
DTSTAMP:20260420T071415
CREATED:20240905T201710Z
LAST-MODIFIED:20240905T201710Z
UID:10057439-1726254000-1726261200@revolutionaryvalley.org
SUMMARY:Brooke Simpson Live - A Benefit Concert for Aaron's
DESCRIPTION:We are so excited to announce that on September 13\, 2024\, powerhouse vocalist Brooke Simpson will be performing a concert to benefit Aaron’s Presents at the Lowell Memorial Auditorium! \nBrooke Simpson is passionate about music\, people\, and her culture. Brooke is full-blooded Native American and is a member of the Haliwa-Saponi Tribe. Brooke has had the opportunity to work with artists such as Miley Cyrus\, Sia\, and even more recently was featured in a global Nike N7 campaign. She was a finalist on NBC’s “The Voice” and a finalist on “America’s Got Talent!” and has released multiple singles including her latest release\, “Haliwa.” Brooke made her Broadway debut in the revival of the Tony Award winning musical 1776\, directed by Diane Paulus and Jeffrey Page. Most recently she did her first European tour and is set to go back on tour with Scary Pocket in April 2024. \nThis evening is not just about music; it’s about coming together as a community to make a difference. With electrifying performances by Brooke as well as local youth\, we will all be treated to an array of musical styles that will touch your heart and uplift your spirits. \nBut that’s not all – this concert is also an opportunity to support Aaron’s Presents\, an organization based in Lowell and Lawrence\, MA empowering youth to create and lead positive change in their communities\, developing empathy and self-worth within themselves. \nProceeds from ticket sales and donations will directly benefit Aaron’s Presents\, an organization that over the last 10 years\, has partnered with 3\,000 youth and their 1\,800 ideas to help over 50\,000 people and animals in our communities and beyond\, as well as 130 local nonprofit organizations. \nWhether you’re a music enthusiast\, a philanthropist\, or someone who simply wants to make a positive impact\, we invite you to join us for a night filled with joy\, compassion\, and the power of music to make a difference. \nTickets are available now at lowellauditorium.com and Sponsorship opportunities are available at this page! \nIf you are interested in volunteering for our Planning Committee\, please email our Team at development@aaronspresents.org. \nThank you and see you there! \nLeah Okimoto\, Executive Director \nand the Aaron’s Presents Staff and Board \nQuestions? Contact lokimoto@aaronspresents.org | (978) 809-5487 \nwww.aaronspresents.org
URL:https://revolutionaryvalley.org/event/brooke-simpson-live-a-benefit-concert-for-aarons/
LOCATION:Lowell Memorial Auditorium\, Lowell Memorial Auditorium\, 50 E Merrimack St\, Lowell\, MA\, 01852\, United States
CATEGORIES:Featured,Live Performances
ATTACH;FMTTYPE=image/png:https://revolutionaryvalley.org/wp-content/uploads/2024/09/Brooke-Simpson-Live.png
GEO:42.6450982;-71.3042176
X-APPLE-STRUCTURED-LOCATION;VALUE=URI;X-ADDRESS=Lowell Memorial Auditorium Lowell Memorial Auditorium 50 E Merrimack St Lowell MA 01852 United States;X-APPLE-RADIUS=500;X-TITLE=Lowell Memorial Auditorium\, 50 E Merrimack St:geo:-71.3042176,42.6450982
END:VEVENT
BEGIN:VEVENT
DTSTART;TZID=America/New_York:20240914T120000
DTEND;TZID=America/New_York:20240914T150000
DTSTAMP:20260420T071415
CREATED:20240910T142549Z
LAST-MODIFIED:20240910T142549Z
UID:10057446-1726315200-1726326000@revolutionaryvalley.org
SUMMARY:Live Music and Food Truck at The Groton Inn | Forge & Vine
DESCRIPTION:Join us at The Groton Inn | Forge & Vine for great live music by singer & guitarist Jae Mannion\, delicious selections from the F&V Food Truck\, refreshing beverages\, and stunning views of beautiful Gibbet Hill. It’s the perfect way to spend an early autumn Saturday. \nFree to attend\, no reservations required\, food & beverages available for purchase. Family friendly and fun for all!
URL:https://revolutionaryvalley.org/event/live-music-and-food-truck-at-the-groton-inn-forge-vine/
LOCATION:Forge & Vine\, Forge & Vine\, 128R Main St\, Groton\, MA\, 01450\, United States
CATEGORIES:Food,Free Events,Live Performances
ATTACH;FMTTYPE=image/jpeg:https://revolutionaryvalley.org/wp-content/uploads/2024/09/allevents-event-banners-31.jpg
ORGANIZER;CN="The Groton Inn | Forge &amp%3B Vine":MAILTO:jvitolo@thegrotoninn.com
GEO:42.6068053;-71.5683516
X-APPLE-STRUCTURED-LOCATION;VALUE=URI;X-ADDRESS=Forge & Vine Forge & Vine 128R Main St Groton MA 01450 United States;X-APPLE-RADIUS=500;X-TITLE=Forge & Vine\, 128R Main St:geo:-71.5683516,42.6068053
END:VEVENT
BEGIN:VEVENT
DTSTART;TZID=America/New_York:20240915T193000
DTEND;TZID=America/New_York:20240915T210000
DTSTAMP:20260420T071415
CREATED:20240509T170257Z
LAST-MODIFIED:20240509T170257Z
UID:10055371-1726428600-1726434000@revolutionaryvalley.org
SUMMARY:Lowell Summer Music Series: Belly
DESCRIPTION:The dream-rock band Belly blazed a bright trail in the ’90s\, releasing two albums full of taut\, yet wondrous music that was memorable for its rumbling bass lines and insistent drumming as it was for its glittering riffs and airy vocals. Their 2018 release Dove\, which was recorded with friend of the band Paul Q. Kolderie\, places Belly back on that trail\, bridging the gaps between reverbed-out bliss and spaghetti-western drone and muscular\, hook-forward pop. \nBelly came together in 1991\, when vocalist-guitarist Tanya Donelly (Throwing Muses\, The Breeders) began playing with brothers (and fellow Rhode Islanders) Tom (guitar) and Chris (drums) Gorman\, as well as bassist Fred Abong. He left before the band’s 1993 debut Star came out\, and Gail Greenwood\, then playing around Providence\, joined. Star was a hit with critics and listeners alike\, spawning the alt-radio and MTV staple “Feed the Tree.” The band toured extensively behind the gold-certified album\, touring with the likes of Radiohead\, the Cranberries\, and Pavement and playing a show at the Hippodrome in Paris where they opened for U2 and the Velvet Underground. \nAdvance GA $55.00 ($48.00 ticket + $7.00 service fee) \nAdvance Premium $111.00 ($98.00 ticket + $13.00 service fee)\n\nDay Of GA $67.00 ($58.00 ticket + $9.00 service fee)\nDay Of Premium $122.00 ($108.00 ticket + $14.00 service fee)\n\nPremium Seats are low-to-the-ground chairs which we provide and are located in the first several rows for each show. Go to the seat map on the ticketing page for each show to see the actual layout. For photos\, please visit the the FAQ’s on the Lowell Summer Music Series website.  \nKids age 12 and under are admitted free (general admission seats only) if accompanied by a ticket holder\, courtesy of Jeanne D’Arc Credit Union. *\n*If this show is moved indoors due to inclement weather\, there will be no free kids ticket promotions due to capacity limitations\, only paid ticket holders may attend.
URL:https://revolutionaryvalley.org/event/lowell-summer-music-series-belly/
LOCATION:Boarding House Park\, Boarding House Park\, 40 French St\, Lowell\, MA\, United States
CATEGORIES:Fairs & Festivals,Live Performances
ATTACH;FMTTYPE=image/png:https://revolutionaryvalley.org/wp-content/uploads/2024/05/BELLY2049x1024_1@2x.png
ORGANIZER;CN="Lowell National Historical Park":MAILTO:phil_lupsiewicz@nps.gov
GEO:42.647362;-71.3088716
X-APPLE-STRUCTURED-LOCATION;VALUE=URI;X-ADDRESS=Boarding House Park Boarding House Park 40 French St Lowell MA United States;X-APPLE-RADIUS=500;X-TITLE=Boarding House Park\, 40 French St:geo:-71.3088716,42.647362
END:VEVENT
BEGIN:VEVENT
DTSTART;TZID=America/New_York:20240927T200000
DTEND;TZID=America/New_York:20240927T230000
DTSTAMP:20260420T071415
CREATED:20240917T181638Z
LAST-MODIFIED:20240918T142524Z
UID:10057462-1727467200-1727478000@revolutionaryvalley.org
SUMMARY:4th Annual Sing-Off at Wamesit Lanes
DESCRIPTION:Who will be crowned the karaoke star of the year? \nWe’re gathering the year’s best karaoke performers for the ultimate showdown to determine the best of the best. Join us in the Firewater Tavern on Friday\, September 27th at 8PM as we’ll welcome Jessica from 101.7 The Bull and other celebrity judges to help pick our winner. \nDo you consider yourself the best karaoke singer? You can submit an audition tape to take part in the show. The winner gets $200 cash!
URL:https://revolutionaryvalley.org/event/4th-annual-sing-off/
LOCATION:Wamesit Lanes\, Wamesit Lanes\, 434 Main St\, Tewksbury\, MA\, 01876\, United States
CATEGORIES:Featured,Live Performances
ATTACH;FMTTYPE=image/png:https://revolutionaryvalley.org/wp-content/uploads/2024/09/Screenshot-2024-09-17-122642.png
GEO:42.6213284;-71.2577697
X-APPLE-STRUCTURED-LOCATION;VALUE=URI;X-ADDRESS=Wamesit Lanes Wamesit Lanes 434 Main St Tewksbury MA 01876 United States;X-APPLE-RADIUS=500;X-TITLE=Wamesit Lanes\, 434 Main St:geo:-71.2577697,42.6213284
END:VEVENT
BEGIN:VEVENT
DTSTART;TZID=America/New_York:20240928T130000
DTEND;TZID=America/New_York:20240928T210000
DTSTAMP:20260420T071415
CREATED:20240917T181320Z
LAST-MODIFIED:20240918T135250Z
UID:10057457-1727528400-1727557200@revolutionaryvalley.org
SUMMARY:Lowell Hispanic Festival 2024
DESCRIPTION:The Lowell Hispanic Festival\, organized by the Latinx Community Center of Empowerment (LCCE)\, is a vibrant and culturally rich event that takes place annually in Lowell\, Massachusetts. This festival is a celebration of the diverse and dynamic Latinx community in the region\, showcasing the heritage\, traditions\, and contributions of Hispanic and Latinx cultures. The event attracts thousands of attendees from Lowell and beyond\, creating a lively atmosphere filled with music\, dance\, art\, and food.
URL:https://revolutionaryvalley.org/event/lowell-hispanic-festival-2024/
LOCATION:Latinx Community Center of Empowerment\, French Street\, Lowell\, Massachusetts\, 01852\, United States
CATEGORIES:Arts & Culture,Fairs & Festivals,Kids & Family,Live Performances,Outdoors
ATTACH;FMTTYPE=image/jpeg:https://revolutionaryvalley.org/wp-content/uploads/2024/09/festival2-1170x427-1.jpg
GEO:42.6478331;-71.309043
X-APPLE-STRUCTURED-LOCATION;VALUE=URI;X-ADDRESS=Latinx Community Center of Empowerment French Street Lowell Massachusetts 01852 United States;X-APPLE-RADIUS=500;X-TITLE=French Street:geo:-71.309043,42.6478331
END:VEVENT
END:VCALENDAR