BEGIN:VCALENDAR
VERSION:2.0
PRODID:-//Revolutionary Valley Regional Tourism Council - ECPv6.15.0.1//NONSGML v1.0//EN
CALSCALE:GREGORIAN
METHOD:PUBLISH
X-ORIGINAL-URL:https://revolutionaryvalley.org
X-WR-CALDESC:Events for Revolutionary Valley Regional Tourism Council
REFRESH-INTERVAL;VALUE=DURATION:PT1H
X-Robots-Tag:noindex
X-PUBLISHED-TTL:PT1H
BEGIN:VTIMEZONE
TZID:America/New_York
BEGIN:DAYLIGHT
TZOFFSETFROM:-0500
TZOFFSETTO:-0400
TZNAME:EDT
DTSTART:20240310T070000
END:DAYLIGHT
BEGIN:STANDARD
TZOFFSETFROM:-0400
TZOFFSETTO:-0500
TZNAME:EST
DTSTART:20241103T060000
END:STANDARD
END:VTIMEZONE
BEGIN:VEVENT
DTSTART;TZID=America/New_York:20240622T193000
DTEND;TZID=America/New_York:20240622T210000
DTSTAMP:20260419T161407
CREATED:20240509T173008Z
LAST-MODIFIED:20240509T173008Z
UID:10055380-1719084600-1719090000@revolutionaryvalley.org
SUMMARY:Lowell Summer Music Series: Face 2 Face: A Tribute to Elton John & Billy Joel
DESCRIPTION:Taking turns at an onstage piano\, the dual tribute artists of the BillyJoel/Elton John Face-2-Face Tribute Show conjure the beloved songsters in both sound and image. \n\nBacked by some the best and most sought after musicians in the business\, Levittown NY native MIKE SANTORO’s fingers flash up and down the keys on “Angry Young Man” before he belts out high-energy Billy Joel classics such as “Movin Out”\, “Scenes From An Italian Restaurant” and more.\n\nFollowing Santoro’s set\, of the roughly three-hour show\, RONNIE SMITH dons the iconic sunglasses and bedazzled suits of Elton John as he charts his style from the ‘70s to the present. Timeless anthems such as “Tiny Dancer” and the epic treasure “Funeral For A Friend/Love Lies Bleeding” mixed with more whimsical material such as “Crocodile Rock” and the fictional rock-group narrative “Bennie and the Jets.”\n\nFor the 3rd act\, both artists hit the stage for THE grand finale\, trading the spotlight with more of the best of Billy Joel and Elton John. For over a decade\, this event is not one to be missed! \nAdvance GA $46.00 ($40.00 ticket + $6.00 service fee) \nAdvance Premium $102.00 ($90.00 ticket + $12.00 service fee)\n\nDay Of GA $58.00 ($50.00 ticket + $8.00 service fee)\nDay Of Premium $113.00 ($100.00 ticket + $13.00 service fee) \nPremium Seats are low-to-the-ground chairs which we provide and are located in the first several rows for each show. Go to the seat map on the ticketing page for each show to see the actual layout. For photos\, please visit the the FAQ’s on the Lowell Summer Music Series website.  \nKids age 12 and under are admitted free (general admission seats only) if accompanied by a ticket holder\, courtesy of Jeanne D’Arc Credit Union.*\n*If this show is moved indoors due to inclement weather\, there will be no free kids ticket promotions due to capacity limitations\, only paid ticket holders may attend.
URL:https://revolutionaryvalley.org/event/lowell-summer-music-series-face-2-face-a-tribute-to-elton-john-billy-joel/
LOCATION:Boarding House Park\, Boarding House Park\, 40 French St\, Lowell\, MA\, United States
CATEGORIES:Live Performances
ATTACH;FMTTYPE=image/png:https://revolutionaryvalley.org/wp-content/uploads/2024/05/Face-2-Face-LSMS-1.png
ORGANIZER;CN="Lowell National Historical Park":MAILTO:phil_lupsiewicz@nps.gov
GEO:42.647362;-71.3088716
X-APPLE-STRUCTURED-LOCATION;VALUE=URI;X-ADDRESS=Boarding House Park Boarding House Park 40 French St Lowell MA United States;X-APPLE-RADIUS=500;X-TITLE=Boarding House Park\, 40 French St:geo:-71.3088716,42.647362
END:VEVENT
END:VCALENDAR