BEGIN:VCALENDAR
VERSION:2.0
PRODID:-//Revolutionary Valley Regional Tourism Council - ECPv6.15.0.1//NONSGML v1.0//EN
CALSCALE:GREGORIAN
METHOD:PUBLISH
X-ORIGINAL-URL:https://revolutionaryvalley.org
X-WR-CALDESC:Events for Revolutionary Valley Regional Tourism Council
REFRESH-INTERVAL;VALUE=DURATION:PT1H
X-Robots-Tag:noindex
X-PUBLISHED-TTL:PT1H
BEGIN:VTIMEZONE
TZID:America/New_York
BEGIN:DAYLIGHT
TZOFFSETFROM:-0500
TZOFFSETTO:-0400
TZNAME:EDT
DTSTART:20240310T070000
END:DAYLIGHT
BEGIN:STANDARD
TZOFFSETFROM:-0400
TZOFFSETTO:-0500
TZNAME:EST
DTSTART:20241103T060000
END:STANDARD
END:VTIMEZONE
BEGIN:VEVENT
DTSTART;TZID=America/New_York:20240725T190000
DTEND;TZID=America/New_York:20240725T203000
DTSTAMP:20260420T051419
CREATED:20240715T163354Z
LAST-MODIFIED:20240715T163354Z
UID:10057083-1721934000-1721939400@revolutionaryvalley.org
SUMMARY:Summer Concert:  Stacy and the Party
DESCRIPTION:Get your party on with this fan favorite! They play an upbeat mix of originals and covers\, with some quirky edges. Unique and soulful vocals\, a tight rhythm section\, bass and guitar provide melodic runs and reluctant solos. www.Stacyandtheparty.com\nHeld at 12 Mudge Way\, Bedford\, MA. Updates for cancellations www.bedfordrecreation.org
URL:https://revolutionaryvalley.org/event/summer-concert-stacy-and-the-party/
LOCATION:Bedford Activity Complex\, 12 Mudge Way\, Bedford\, MA\, Mudge Way\, Bedford\, Massachusetts\, 01730\, United States
CATEGORIES:Live Performances
ATTACH;FMTTYPE=image/png:https://revolutionaryvalley.org/wp-content/uploads/2024/07/Concert-Flyers-4.png
GEO:42.4912264;-71.2825244
X-APPLE-STRUCTURED-LOCATION;VALUE=URI;X-ADDRESS=Bedford Activity Complex 12 Mudge Way Bedford MA Mudge Way Bedford Massachusetts 01730 United States;X-APPLE-RADIUS=500;X-TITLE=Mudge Way:geo:-71.2825244,42.4912264
END:VEVENT
END:VCALENDAR