BEGIN:VCALENDAR
VERSION:2.0
PRODID:-//Revolutionary Valley Regional Tourism Council - ECPv6.15.0.1//NONSGML v1.0//EN
CALSCALE:GREGORIAN
METHOD:PUBLISH
X-WR-CALNAME:Revolutionary Valley Regional Tourism Council
X-ORIGINAL-URL:https://revolutionaryvalley.org
X-WR-CALDESC:Events for Revolutionary Valley Regional Tourism Council
REFRESH-INTERVAL;VALUE=DURATION:PT1H
X-Robots-Tag:noindex
X-PUBLISHED-TTL:PT1H
BEGIN:VTIMEZONE
TZID:America/New_York
BEGIN:DAYLIGHT
TZOFFSETFROM:-0500
TZOFFSETTO:-0400
TZNAME:EDT
DTSTART:20240310T070000
END:DAYLIGHT
BEGIN:STANDARD
TZOFFSETFROM:-0400
TZOFFSETTO:-0500
TZNAME:EST
DTSTART:20241103T060000
END:STANDARD
END:VTIMEZONE
BEGIN:VEVENT
DTSTART;TZID=America/New_York:20240801T180000
DTEND;TZID=America/New_York:20240801T210000
DTSTAMP:20260420T193528
CREATED:20240717T183140Z
LAST-MODIFIED:20240717T183140Z
UID:10057089-1722535200-1722546000@revolutionaryvalley.org
SUMMARY:Concert in the Courtyard ft. Mindrift and Spyglass Brewing
DESCRIPTION:Head to The Groton Inn’s Courtyard for an unforgettable evening of music\, beer\, and fun! Sing along with top hits performed by the WooSox’s current Battle of the Bands champions\, Mindrift while savoring samples and full pours of beers from local favorite Spyglass Brewery. The Forge & Vine Food Truck will be serving delicious bites\, exciting lawn games will be set up for everyone to enjoy\, and a full outdoor cash bar will be available with a variety of beverages. \nFamily friendly event. Food & drinks available for purchase\, free to attend\, no reservations required.
URL:https://revolutionaryvalley.org/event/concert-in-the-courtyard-ft-mindrift-and-spyglass-brewing/
LOCATION:The Groton Inn\, The Groton Inn\, 128 Main St\, Groton\, MA\, 01450\, United States
CATEGORIES:Free Events,Kids & Family,Live Performances,Outdoors
ATTACH;FMTTYPE=image/png:https://revolutionaryvalley.org/wp-content/uploads/2024/07/allevents-event-banners-19.png
ORGANIZER;CN="The Groton Inn | Forge &amp%3B Vine":MAILTO:jvitolo@thegrotoninn.com
GEO:42.6067619;-71.5684432
X-APPLE-STRUCTURED-LOCATION;VALUE=URI;X-ADDRESS=The Groton Inn The Groton Inn 128 Main St Groton MA 01450 United States;X-APPLE-RADIUS=500;X-TITLE=The Groton Inn\, 128 Main St:geo:-71.5684432,42.6067619
END:VEVENT
BEGIN:VEVENT
DTSTART;TZID=America/New_York:20240801T190000
DTEND;TZID=America/New_York:20240801T203000
DTSTAMP:20260420T193528
CREATED:20240715T163412Z
LAST-MODIFIED:20240715T163412Z
UID:10057084-1722538800-1722544200@revolutionaryvalley.org
SUMMARY:Summer Concert:  Jumpin' Juba
DESCRIPTION:Jumpin’ Juba mixes regional blues and rootsy rock styles from the 50’s and 60’s from Chicago\, Memphis and New Orleans. www.reverbnation.com/jumpinjuba\nSponsored by Bedford Recreation Department. Held at 12 Mudge Way\, Bedford\, MA.\nUpdates and cancellations at www.bedfordrecreation.org
URL:https://revolutionaryvalley.org/event/summer-concert-jumpin-juba/
LOCATION:Bedford Activity Complex\, 12 Mudge Way\, Bedford\, MA\, Mudge Way\, Bedford\, Massachusetts\, 01730\, United States
CATEGORIES:Live Performances
ATTACH;FMTTYPE=image/png:https://revolutionaryvalley.org/wp-content/uploads/2024/07/Concert-Flyers-5.png
GEO:42.4912264;-71.2825244
X-APPLE-STRUCTURED-LOCATION;VALUE=URI;X-ADDRESS=Bedford Activity Complex 12 Mudge Way Bedford MA Mudge Way Bedford Massachusetts 01730 United States;X-APPLE-RADIUS=500;X-TITLE=Mudge Way:geo:-71.2825244,42.4912264
END:VEVENT
END:VCALENDAR