BEGIN:VCALENDAR
VERSION:2.0
PRODID:-//Revolutionary Valley Regional Tourism Council - ECPv6.15.0.1//NONSGML v1.0//EN
CALSCALE:GREGORIAN
METHOD:PUBLISH
X-WR-CALNAME:Revolutionary Valley Regional Tourism Council
X-ORIGINAL-URL:https://revolutionaryvalley.org
X-WR-CALDESC:Events for Revolutionary Valley Regional Tourism Council
REFRESH-INTERVAL;VALUE=DURATION:PT1H
X-Robots-Tag:noindex
X-PUBLISHED-TTL:PT1H
BEGIN:VTIMEZONE
TZID:America/New_York
BEGIN:DAYLIGHT
TZOFFSETFROM:-0500
TZOFFSETTO:-0400
TZNAME:EDT
DTSTART:20240310T070000
END:DAYLIGHT
BEGIN:STANDARD
TZOFFSETFROM:-0400
TZOFFSETTO:-0500
TZNAME:EST
DTSTART:20241103T060000
END:STANDARD
END:VTIMEZONE
BEGIN:VEVENT
DTSTART;TZID=America/New_York:20240816T193000
DTEND;TZID=America/New_York:20240816T210000
DTSTAMP:20260420T212358
CREATED:20240509T172239Z
LAST-MODIFIED:20240509T172316Z
UID:10055376-1723836600-1723842000@revolutionaryvalley.org
SUMMARY:Lowell Summer Music Series: NEIGHBOR
DESCRIPTION:With a diverse catalog of hundreds of songs\, the musical juggernaut Neighbor has become one of the most exciting and unpredictable live bands on the music scene today. Grown in large part by the passion and devotion of the fans called Neighbors\, their symbiotic relationship inspires and touches every performance. The creation of childhood neighbors Richard James (vocals\, keys) and Lyle Brewer (guitar)\, Neighbor combines ambitious composition\, soulful balladry\, and a fearless approach to their lengthy improvisations. The quartet is rounded out by Dan Kelly (bass) and Dean Johnston (drums) who fuel the groove and lay a solid foundation for Neighbor’s “down home” sound. Come see what’s good in the neighborhood. \n  \nAdvance GA $34.00 ($29.00 ticket + $5.00 service fee) \nAdvance Premium $90.00 ($79.00 ticket + $11.00 service fee)\n\nDay Of GA $45.00 ($39.00 ticket + $6.00 service fee)\nDay Of Premium $101.00 ($89.00 ticket + $12.00 service fee)\n\nPremium Seats are low-to-the-ground chairs which we provide and are located in the first several rows for each show. Go to the seat map on the ticketing page for each show to see the actual layout. For photos\, please visit the the FAQ’s on the Lowell Summer Music Series website.  \nKids age 12 and under are admitted free (general admission seats only) if accompanied by a ticket holder\, courtesy of Jeanne D’Arc Credit Union. *\n*If this show is moved indoors due to inclement weather\, there will be no free kids ticket promotions due to capacity limitations\, only paid ticket holders may attend.
URL:https://revolutionaryvalley.org/event/lowell-summer-music-series-neighbor/
LOCATION:Boarding House Park\, Boarding House Park\, 40 French St\, Lowell\, MA\, United States
CATEGORIES:Live Performances
ATTACH;FMTTYPE=image/jpeg:https://revolutionaryvalley.org/wp-content/uploads/2024/05/Neighbors_Horizontal-1-NameDate-NoLogo.jpg
ORGANIZER;CN="Lowell National Historical Park":MAILTO:phil_lupsiewicz@nps.gov
GEO:42.647362;-71.3088716
X-APPLE-STRUCTURED-LOCATION;VALUE=URI;X-ADDRESS=Boarding House Park Boarding House Park 40 French St Lowell MA United States;X-APPLE-RADIUS=500;X-TITLE=Boarding House Park\, 40 French St:geo:-71.3088716,42.647362
END:VEVENT
BEGIN:VEVENT
DTSTART;TZID=America/New_York:20240816T200000
DTEND;TZID=America/New_York:20240816T223000
DTSTAMP:20260420T212358
CREATED:20231212T191225Z
LAST-MODIFIED:20231212T191225Z
UID:10046216-1723838400-1723847400@revolutionaryvalley.org
SUMMARY:Foreigners Journey featuring American Idol's Rudy Cardenas
DESCRIPTION:NATION’S #1 TRIBUTE SHOW TO FOREIGNER & JOURNEY!\n“The music and energy of two legendary stadium rock bands comes together in one electrifying show! Their repertoire of classics hits by Foreigner and Journey provide a crowd-pleasing night of unforgettable music. Get your wine coolers\, mullets and stone washed jean vests ready for a night of sing along debauchery and dance grooves that will pop you from your seats. From heartwarming power ballads like “Faithfully\,” “I Want to Know What Love Is\,” to anthems like “Feels Like The First Time\,” “Don’t Stop Believin’\,” “Cold As Ice” and “Any Way You Want It\,” Foreigners Journey are more than a tribute band. They’re a time machine\, and their energy is infectious!” \nhttps://www.eventbrite.com/e/foreigners-journey-featuring-american-idols-rudy-cardenas-tickets-772523567787?aff=oddtdtcreator
URL:https://revolutionaryvalley.org/event/foreigners-journey-featuring-american-idols-rudy-cardenas/
LOCATION:NARA Park\, Nara Park\, 25 Ledge Rock Way\, Acton\, MA\, 01720\, United States
CATEGORIES:Annual & Special,Arts & Culture,Featured,Live Performances,Outdoors
ATTACH;FMTTYPE=image/jpeg:https://revolutionaryvalley.org/wp-content/uploads/2023/12/FRIDAY-AUGUST-16-NARA-PARK-AMPHITHEATER-8-PM-with-pricing.jpg
ORGANIZER;CN="Town of Acton":MAILTO:recreation@actonma.gov
GEO:42.5160594;-71.4119872
X-APPLE-STRUCTURED-LOCATION;VALUE=URI;X-ADDRESS=NARA Park Nara Park 25 Ledge Rock Way Acton MA 01720 United States;X-APPLE-RADIUS=500;X-TITLE=Nara Park\, 25 Ledge Rock Way:geo:-71.4119872,42.5160594
END:VEVENT
END:VCALENDAR