BEGIN:VCALENDAR
VERSION:2.0
PRODID:-//Revolutionary Valley Regional Tourism Council - ECPv6.15.0.1//NONSGML v1.0//EN
CALSCALE:GREGORIAN
METHOD:PUBLISH
X-ORIGINAL-URL:https://revolutionaryvalley.org
X-WR-CALDESC:Events for Revolutionary Valley Regional Tourism Council
REFRESH-INTERVAL;VALUE=DURATION:PT1H
X-Robots-Tag:noindex
X-PUBLISHED-TTL:PT1H
BEGIN:VTIMEZONE
TZID:America/New_York
BEGIN:DAYLIGHT
TZOFFSETFROM:-0500
TZOFFSETTO:-0400
TZNAME:EDT
DTSTART:20240310T070000
END:DAYLIGHT
BEGIN:STANDARD
TZOFFSETFROM:-0400
TZOFFSETTO:-0500
TZNAME:EST
DTSTART:20241103T060000
END:STANDARD
END:VTIMEZONE
BEGIN:VEVENT
DTSTART;TZID=America/New_York:20240817T193000
DTEND;TZID=America/New_York:20240817T210000
DTSTAMP:20260420T071518
CREATED:20240509T173307Z
LAST-MODIFIED:20240509T174212Z
UID:10055382-1723923000-1723928400@revolutionaryvalley.org
SUMMARY:Lowell Summer Music Series: Chadwick Stokes
DESCRIPTION:Chadwick Stokes is an accomplished musician and songwriter who grew up on a small farm outside of Boston. A songwriter since early adolescence\, his many projects have woven together music\, art\, history and activism. From Dispatch\, which he started in his early 20s; to his politically driven band\, State Radio; to his solo project\, Chadwick Stokes and the Pintos\, Chad has committed himself to using music as a vehicle for social and political change. \nAlong with his wife\, Sybil\, he founded Calling All Crows\, a non-profit organization dedicated to engaging music fans around women’s issues both at home and abroad. They’ve worked to bring awareness to the worldwide refugee crisis\, to the proliferation of violence against women and to the persistence of sexual violence within the music industry. Through his many years of working independently within what can be a difficult industry\, Chadwick has been continually motivated by his love of music and the people he makes it with.\n\nAdvance GA $60.00 ($52.00 ticket + $8.00 service fee) \nAdvance Premium $170.00 ($152.00 ticket + $18.00 service fee)\n\nDay Of GA $72.00 ($62.00 ticket + $10.00 service fee)\nDay Of Premium $181.00 ($162.00 ticket + $19.00 service fee) \nPremium Seats are low-to-the-ground chairs which we provide and are located in the first several rows for each show. Go to the seat map on the ticketing page for each show to see the actual layout. For photos\, please visit the the FAQ’s on the Lowell Summer Music Series website.  \nKids age 12 and under are admitted free (general admission seats only) if accompanied by a ticket holder\, courtesy of Jeanne D’Arc Credit Union. *\n*If this show is moved indoors due to inclement weather\, there will be no free kids ticket promotions due to capacity limitations\, only paid ticket holders may attend.
URL:https://revolutionaryvalley.org/event/lowell-summer-music-series-chadwick-stokes/
LOCATION:Boarding House Park\, Boarding House Park\, 40 French St\, Lowell\, MA\, United States
CATEGORIES:Fairs & Festivals,Live Performances
ATTACH;FMTTYPE=image/png:https://revolutionaryvalley.org/wp-content/uploads/2024/05/chadwic.png
ORGANIZER;CN="Lowell National Historical Park":MAILTO:phil_lupsiewicz@nps.gov
GEO:42.647362;-71.3088716
X-APPLE-STRUCTURED-LOCATION;VALUE=URI;X-ADDRESS=Boarding House Park Boarding House Park 40 French St Lowell MA United States;X-APPLE-RADIUS=500;X-TITLE=Boarding House Park\, 40 French St:geo:-71.3088716,42.647362
END:VEVENT
END:VCALENDAR