BEGIN:VCALENDAR
VERSION:2.0
PRODID:-//Revolutionary Valley Regional Tourism Council - ECPv6.15.0.1//NONSGML v1.0//EN
CALSCALE:GREGORIAN
METHOD:PUBLISH
X-WR-CALNAME:Revolutionary Valley Regional Tourism Council
X-ORIGINAL-URL:https://revolutionaryvalley.org
X-WR-CALDESC:Events for Revolutionary Valley Regional Tourism Council
REFRESH-INTERVAL;VALUE=DURATION:PT1H
X-Robots-Tag:noindex
X-PUBLISHED-TTL:PT1H
BEGIN:VTIMEZONE
TZID:America/New_York
BEGIN:DAYLIGHT
TZOFFSETFROM:-0500
TZOFFSETTO:-0400
TZNAME:EDT
DTSTART:20240310T070000
END:DAYLIGHT
BEGIN:STANDARD
TZOFFSETFROM:-0400
TZOFFSETTO:-0500
TZNAME:EST
DTSTART:20241103T060000
END:STANDARD
END:VTIMEZONE
BEGIN:VEVENT
DTSTART;TZID=America/New_York:20240822T104500
DTEND;TZID=America/New_York:20240822T114500
DTSTAMP:20260424T064430
CREATED:20240708T122530Z
LAST-MODIFIED:20240708T122554Z
UID:10057051-1724323500-1724327100@revolutionaryvalley.org
SUMMARY:Wampanoag Singers and Dancers at Discovery Museum
DESCRIPTION:Join us in welcoming the Wampanoag Singers and Dancers to Discovery Museum! A group of musicians and artisans from the tribal communities of Mashpee on Cape Cod and Aquinnah on Martha’s Vineyard\, the Wampanoag Singers and Dancers encourage audience participation and prefer to sing with the people instead of for the people. Their performance of eastern social songs and dances will entertain visitors of all ages.
URL:https://revolutionaryvalley.org/event/wampanoag-singers-and-dancers-at-discovery-museum/
LOCATION:Discovery Museum\, Discovery Museum\, 177 Main St\, Acton\, MA\, 01720\, United States
CATEGORIES:Arts & Culture,Kids & Family,Live Performances
ATTACH;FMTTYPE=image/jpeg:https://revolutionaryvalley.org/wp-content/uploads/2024/07/Wompanoag-Singers-and-Dancers-image.jpg
ORGANIZER;CN="Discovery Museum":MAILTO:fun@discoveryacton.org
GEO:42.464745;-71.4560492
X-APPLE-STRUCTURED-LOCATION;VALUE=URI;X-ADDRESS=Discovery Museum Discovery Museum 177 Main St Acton MA 01720 United States;X-APPLE-RADIUS=500;X-TITLE=Discovery Museum\, 177 Main St:geo:-71.4560492,42.464745
END:VEVENT
END:VCALENDAR