BEGIN:VCALENDAR
VERSION:2.0
PRODID:-//Revolutionary Valley Regional Tourism Council - ECPv6.15.0.1//NONSGML v1.0//EN
CALSCALE:GREGORIAN
METHOD:PUBLISH
X-WR-CALNAME:Revolutionary Valley Regional Tourism Council
X-ORIGINAL-URL:https://revolutionaryvalley.org
X-WR-CALDESC:Events for Revolutionary Valley Regional Tourism Council
REFRESH-INTERVAL;VALUE=DURATION:PT1H
X-Robots-Tag:noindex
X-PUBLISHED-TTL:PT1H
BEGIN:VTIMEZONE
TZID:America/New_York
BEGIN:DAYLIGHT
TZOFFSETFROM:-0500
TZOFFSETTO:-0400
TZNAME:EDT
DTSTART:20240310T070000
END:DAYLIGHT
BEGIN:STANDARD
TZOFFSETFROM:-0400
TZOFFSETTO:-0500
TZNAME:EST
DTSTART:20241103T060000
END:STANDARD
END:VTIMEZONE
BEGIN:VEVENT
DTSTART;TZID=America/New_York:20240928T130000
DTEND;TZID=America/New_York:20240928T210000
DTSTAMP:20260420T084832
CREATED:20240917T181320Z
LAST-MODIFIED:20240918T135250Z
UID:10057457-1727528400-1727557200@revolutionaryvalley.org
SUMMARY:Lowell Hispanic Festival 2024
DESCRIPTION:The Lowell Hispanic Festival\, organized by the Latinx Community Center of Empowerment (LCCE)\, is a vibrant and culturally rich event that takes place annually in Lowell\, Massachusetts. This festival is a celebration of the diverse and dynamic Latinx community in the region\, showcasing the heritage\, traditions\, and contributions of Hispanic and Latinx cultures. The event attracts thousands of attendees from Lowell and beyond\, creating a lively atmosphere filled with music\, dance\, art\, and food.
URL:https://revolutionaryvalley.org/event/lowell-hispanic-festival-2024/
LOCATION:Latinx Community Center of Empowerment\, French Street\, Lowell\, Massachusetts\, 01852\, United States
CATEGORIES:Arts & Culture,Fairs & Festivals,Kids & Family,Live Performances,Outdoors
ATTACH;FMTTYPE=image/jpeg:https://revolutionaryvalley.org/wp-content/uploads/2024/09/festival2-1170x427-1.jpg
GEO:42.6478331;-71.309043
X-APPLE-STRUCTURED-LOCATION;VALUE=URI;X-ADDRESS=Latinx Community Center of Empowerment French Street Lowell Massachusetts 01852 United States;X-APPLE-RADIUS=500;X-TITLE=French Street:geo:-71.309043,42.6478331
END:VEVENT
END:VCALENDAR