BEGIN:VCALENDAR
VERSION:2.0
PRODID:-//Revolutionary Valley Regional Tourism Council - ECPv6.15.0.1//NONSGML v1.0//EN
CALSCALE:GREGORIAN
METHOD:PUBLISH
X-WR-CALNAME:Revolutionary Valley Regional Tourism Council
X-ORIGINAL-URL:https://revolutionaryvalley.org
X-WR-CALDESC:Events for Revolutionary Valley Regional Tourism Council
REFRESH-INTERVAL;VALUE=DURATION:PT1H
X-Robots-Tag:noindex
X-PUBLISHED-TTL:PT1H
BEGIN:VTIMEZONE
TZID:America/New_York
BEGIN:DAYLIGHT
TZOFFSETFROM:-0500
TZOFFSETTO:-0400
TZNAME:EDT
DTSTART:20240310T070000
END:DAYLIGHT
BEGIN:STANDARD
TZOFFSETFROM:-0400
TZOFFSETTO:-0500
TZNAME:EST
DTSTART:20241103T060000
END:STANDARD
END:VTIMEZONE
BEGIN:VEVENT
DTSTART;TZID=America/New_York:20241108T200000
DTEND;TZID=America/New_York:20241124T160000
DTSTAMP:20260421T195028
CREATED:20241024T192503Z
LAST-MODIFIED:20241029T160151Z
UID:10057972-1731096000-1732464000@revolutionaryvalley.org
SUMMARY:Merrimack Repertory Theatre Presents: Frankenstein
DESCRIPTION:“There’s something at work in my soul which I do not understand.” \nA dark evening of ghost stories springs to haunting life in this adventurous adaptation of Mary Shelley’s famous novel. Replete with love\, horror\, power\, and unholy experimentation\, Frankenstein illuminates the question: what makes us monsters? \nJoin the Merrimack Repertory Theatre as they present Mary Shelley’s Frankenstein by David Catlin! To view showtimes and purchase tickets\, please click the link below. \nNo showings Monday November 11 & 18\, and Tuesday November 12th & 19th\, 2024
URL:https://revolutionaryvalley.org/event/mary-shelleys-frankenstein-by-david-catlin/
LOCATION:Merrimack Repertory Theatre\, Merrimack Repertory Theatre\, 50 E Merrimack St\, Lowell\, MA\, 01852\, United States
CATEGORIES:Live Performances
ATTACH;FMTTYPE=image/jpeg:https://revolutionaryvalley.org/wp-content/uploads/2024/10/24-25.SeasonArtwork-2.FRANKENSTEIN.jpg
ORGANIZER;CN="Merrimack Repertory Theatre":MAILTO:marketing@mrt.org
GEO:42.6450982;-71.3042176
X-APPLE-STRUCTURED-LOCATION;VALUE=URI;X-ADDRESS=Merrimack Repertory Theatre Merrimack Repertory Theatre 50 E Merrimack St Lowell MA 01852 United States;X-APPLE-RADIUS=500;X-TITLE=Merrimack Repertory Theatre\, 50 E Merrimack St:geo:-71.3042176,42.6450982
END:VEVENT
BEGIN:VEVENT
DTSTART;TZID=America/New_York:20241116T180000
DTEND;TZID=America/New_York:20241116T210000
DTSTAMP:20260421T195028
CREATED:20241105T224447Z
LAST-MODIFIED:20241105T224447Z
UID:10060529-1731780000-1731790800@revolutionaryvalley.org
SUMMARY:Just One Sip LIVE at The Groton Inn
DESCRIPTION:We’re thrilled to welcome Just One Sip—the ultimate cover band that brings classic and alternative rock to life! Get ready to jam out to those one-hit wonders and forgotten favorites that will have you saying\, “I LOVE that song!” \nExpect high-energy performances\, tons of laughs\, and plenty of audience interaction as we create memorable moments together. \nDate: Saturday\, November 16\, 2024\nTime: 6:00pm\nLocation: The Groton Inn’s Prescott Room \nGrab your friends and rock the night away! \nEvent is free to attend\, no reservation required. Food & beverages will be available for purchase.
URL:https://revolutionaryvalley.org/event/just-one-sip-live-at-the-groton-inn/
LOCATION:The Groton Inn\, The Groton Inn\, 128 Main St\, Groton\, MA\, 01450\, United States
CATEGORIES:Free Events,Live Performances
ATTACH;FMTTYPE=image/jpeg:https://revolutionaryvalley.org/wp-content/uploads/2024/11/Facebook-Cover-Event-Photo-33.jpg
ORGANIZER;CN="The Groton Inn | Forge &amp%3B Vine":MAILTO:jvitolo@thegrotoninn.com
GEO:42.6067619;-71.5684432
X-APPLE-STRUCTURED-LOCATION;VALUE=URI;X-ADDRESS=The Groton Inn The Groton Inn 128 Main St Groton MA 01450 United States;X-APPLE-RADIUS=500;X-TITLE=The Groton Inn\, 128 Main St:geo:-71.5684432,42.6067619
END:VEVENT
BEGIN:VEVENT
DTSTART;TZID=America/New_York:20241116T190000
DTEND;TZID=America/New_York:20241116T213000
DTSTAMP:20260421T195028
CREATED:20241028T125229Z
LAST-MODIFIED:20241028T125809Z
UID:10060373-1731783600-1731792600@revolutionaryvalley.org
SUMMARY:An Evening With Folk-Rock Artist Catie Curtis
DESCRIPTION:The Bedford Cultural District’s New Song Music Series launches its inaugural season with a concert by veteran folk-rock artist Catie Curtis. \nKnown for her gorgeous voice and socially conscious songwriting\, Curtis engages audiences with an optimistic mix of insightful wit and pitch-perfect vocals. \nCurtis has toured full-time in the United States and Europe for over 25 years\, releasing 14 recordings and collaborating with some of the finest musicians and producers in the country. Her songs have been featured in films and TV shows including Grey’s Anatomy. She has also performed at the White House several times. \nTickets are $25 and may be purchased via our website or at the door. Performances are held in Bedford’s Town Hall\, 10 Mudge Way\, Bedford MA. Doors open at 7:00 and the music begins at 7:30. A selection of sweet treats and beverages will be available at the event.
URL:https://revolutionaryvalley.org/event/an-evening-with-folk-rock-artist-catie-curtis/
LOCATION:Downtown Bedford\, 75 Great Road\, Bedford\, 01730\, United States
CATEGORIES:Live Performances
ATTACH;FMTTYPE=image/jpeg:https://revolutionaryvalley.org/wp-content/uploads/2024/10/Curtis_landscape.jpg
ORGANIZER;CN="Bedford Cultual District":MAILTO:jmking@bedfordma.gov
GEO:42.4913919;-71.2798541
X-APPLE-STRUCTURED-LOCATION;VALUE=URI;X-ADDRESS=Downtown Bedford 75 Great Road Bedford 01730 United States;X-APPLE-RADIUS=500;X-TITLE=75 Great Road:geo:-71.2798541,42.4913919
END:VEVENT
BEGIN:VEVENT
DTSTART;TZID=America/New_York:20241116T200000
DTEND;TZID=America/New_York:20241116T213000
DTSTAMP:20260421T195028
CREATED:20241104T233447Z
LAST-MODIFIED:20241106T145252Z
UID:10060552-1731787200-1731792600@revolutionaryvalley.org
SUMMARY:The Umbrella Arts Center presents: NOW. HERE. THIS.
DESCRIPTION:The Umbrella Arts Center presents NOW. HERE. THIS.\, a musical jaunt full of humor\, heart\, and self-discovery that reminds us of the importance of life’s simple moments and the power of human connection. \nFour friends embark on a – figuratively – cosmic adventure to their past and back again\, sharing stories along the way about hiding/identity\, laughing\, living\, dying…and middle school\, in an attempt to step directly into that elusive “present moment”. From the creative minds behind “[title of show]”\, Now. Here. This is more than just a musical – it’s a celebration of life\, love\, connection\, and the boundless potential of the human spirit. \n“Astutely directed and choreographed by Larry Sousa\, and the cohesive cast faithfully execute the staging expertly from start to finish.” – Kevin T. Baldwin\, METRMAG. \nPlaying through Nov. 17!\nPhoto by Jim Sabitus
URL:https://revolutionaryvalley.org/event/the-umbrella-arts-center-presents-now-here-this/2024-11-16/
LOCATION:The Umbrella Arts Center\, 40 Stow Street\, Concord\, MA\, 01742\, United States
CATEGORIES:Arts & Culture,Live Performances
ATTACH;FMTTYPE=image/jpeg:https://revolutionaryvalley.org/wp-content/uploads/2024/11/Now.-Here.-This.-10.2.240315-Small-2.jpg
ORGANIZER;CN="The Umbrella Arts Center":MAILTO:info@theumbrellaarts.org
GEO:42.4575;-71.3525
X-APPLE-STRUCTURED-LOCATION;VALUE=URI;X-ADDRESS=The Umbrella Arts Center 40 Stow Street Concord MA 01742 United States;X-APPLE-RADIUS=500;X-TITLE=40 Stow Street:geo:-71.3525,42.4575
END:VEVENT
END:VCALENDAR