BEGIN:VCALENDAR
VERSION:2.0
PRODID:-//Revolutionary Valley Regional Tourism Council - ECPv6.15.0.1//NONSGML v1.0//EN
CALSCALE:GREGORIAN
METHOD:PUBLISH
X-WR-CALNAME:Revolutionary Valley Regional Tourism Council
X-ORIGINAL-URL:https://revolutionaryvalley.org
X-WR-CALDESC:Events for Revolutionary Valley Regional Tourism Council
REFRESH-INTERVAL;VALUE=DURATION:PT1H
X-Robots-Tag:noindex
X-PUBLISHED-TTL:PT1H
BEGIN:VTIMEZONE
TZID:America/New_York
BEGIN:DAYLIGHT
TZOFFSETFROM:-0500
TZOFFSETTO:-0400
TZNAME:EDT
DTSTART:20240310T070000
END:DAYLIGHT
BEGIN:STANDARD
TZOFFSETFROM:-0400
TZOFFSETTO:-0500
TZNAME:EST
DTSTART:20241103T060000
END:STANDARD
END:VTIMEZONE
BEGIN:VEVENT
DTSTART;TZID=America/New_York:20241109T110000
DTEND;TZID=America/New_York:20241110T160000
DTSTAMP:20260420T080140
CREATED:20241107T162950Z
LAST-MODIFIED:20241107T162950Z
UID:10060556-1731150000-1731254400@revolutionaryvalley.org
SUMMARY:Harvest Fest is This Weekend at Wilson Farm!
DESCRIPTION:Come celebrate our 140th Harvest Nov 9 & 10 11am-4pm.\nHayrides\, Food Samples\, Carnival Games\, Birthday Cake and Ferris Wheel Rides!
URL:https://revolutionaryvalley.org/event/harvest-fest-is-this-weekend-at-wilson-farm/
LOCATION:Wilson Farm\, Lexington MA\, Pleasant Street\, Lexington\, Massachusetts\, 02421\, United States
CATEGORIES:Agricultural,Annual & Special,Culinary Tourism,Food,Free Events,Member Events
ATTACH;FMTTYPE=image/jpeg:https://revolutionaryvalley.org/wp-content/uploads/2024/11/140th.jpg
GEO:42.4277467;-71.206725
X-APPLE-STRUCTURED-LOCATION;VALUE=URI;X-ADDRESS=Wilson Farm Lexington MA Pleasant Street Lexington Massachusetts 02421 United States;X-APPLE-RADIUS=500;X-TITLE=Pleasant Street:geo:-71.206725,42.4277467
END:VEVENT
BEGIN:VEVENT
DTSTART;TZID=America/New_York:20241119T090000
DTEND;TZID=America/New_York:20241119T100000
DTSTAMP:20260420T080141
CREATED:20240912T181723Z
LAST-MODIFIED:20240923T163237Z
UID:10057454-1732006800-1732010400@revolutionaryvalley.org
SUMMARY:Best Practices: Working with International Operators (Part Two)
DESCRIPTION:November 19\, 2024 @ 9:00am \nJoin us for Part 2 of the Best Practices Education Webinar series\, where we dive deeper into working with international operators! This time\, we’re sitting down with Richard Wimms\, Managing Director of Vacations to America\, for an inside look at what it takes to succeed in the international market. \n Richard will share his expertise on the nuances of working with overseas partners and reveal what truly helps sell your property or attraction. You’ll gain valuable insights on the do’s and don’ts\, along with practical tips to better meet the needs of this dynamic market. Don’t miss out on this opportunity to sharpen your skills and boost your business! \n  \nThis is a virtual event. Please use the link below to register. See you there!
URL:https://revolutionaryvalley.org/event/best-practices-working-with-international-operators-part-two/
LOCATION:MA
CATEGORIES:Member Events
ATTACH;FMTTYPE=image/jpeg:https://revolutionaryvalley.org/wp-content/uploads/2024/09/unnamed.jpg
END:VEVENT
END:VCALENDAR