BEGIN:VCALENDAR
VERSION:2.0
PRODID:-//Revolutionary Valley Regional Tourism Council - ECPv6.15.0.1//NONSGML v1.0//EN
CALSCALE:GREGORIAN
METHOD:PUBLISH
X-ORIGINAL-URL:https://revolutionaryvalley.org
X-WR-CALDESC:Events for Revolutionary Valley Regional Tourism Council
REFRESH-INTERVAL;VALUE=DURATION:PT1H
X-Robots-Tag:noindex
X-PUBLISHED-TTL:PT1H
BEGIN:VTIMEZONE
TZID:America/New_York
BEGIN:DAYLIGHT
TZOFFSETFROM:-0500
TZOFFSETTO:-0400
TZNAME:EDT
DTSTART:20230312T070000
END:DAYLIGHT
BEGIN:STANDARD
TZOFFSETFROM:-0400
TZOFFSETTO:-0500
TZNAME:EST
DTSTART:20231105T060000
END:STANDARD
END:VTIMEZONE
BEGIN:VEVENT
DTSTART;VALUE=DATE:20230514
DTEND;VALUE=DATE:20231023
DTSTAMP:20260424T184901
CREATED:20230504T183325Z
LAST-MODIFIED:20230906T150359Z
UID:10027152-1684022400-1698019199@revolutionaryvalley.org
SUMMARY:Art Workshops by Lowell National Historical Park
DESCRIPTION:See here for updated events. \nhttps://www.nps.gov/lowe/planyourvisit/calendar.htm \nArt In the Park 2023
URL:https://revolutionaryvalley.org/event/art-workshops-by-lowell-national-historical-park/
LOCATION:Lowell National Historical Park – Boott Cotton Mills Gallery\, 115 John Street\, Lowell\, 01852\, United States
CATEGORIES:Free Events,Outdoors
GEO:42.6472986;-71.3066893
X-APPLE-STRUCTURED-LOCATION;VALUE=URI;X-ADDRESS=Lowell National Historical Park – Boott Cotton Mills Gallery 115 John Street Lowell 01852 United States;X-APPLE-RADIUS=500;X-TITLE=115 John Street:geo:-71.3066893,42.6472986
END:VEVENT
BEGIN:VEVENT
DTSTART;TZID=America/New_York:20230715T090000
DTEND;TZID=America/New_York:20230715T100000
DTSTAMP:20260424T184901
CREATED:20230626T130424Z
LAST-MODIFIED:20230626T151119Z
UID:10029851-1689411600-1689415200@revolutionaryvalley.org
SUMMARY:A Walk in Thoreau's Concord
DESCRIPTION:Henry David Thoreau is known for the two years he spent living at Walden Pond. Did you know that he lived in other homes in Concord throughout his life? Take a tour of the domestic side of Thoreau’s wholly human life visiting the homes where he lived and hearing the stories told of him by family and friends. \nThe tour includes walking about 1-mile on paved terrain. \nIncludes same-day admission to the Concord Museum. \nPlease register online in advance.
URL:https://revolutionaryvalley.org/event/a-walk-in-thoreaus-concord/
LOCATION:Concord Museum\, Concord Museum\, 53 Cambridge Tpke\, Concord\, MA\, 01742\, United States
CATEGORIES:Arts & Culture,Outdoors
ATTACH;FMTTYPE=image/jpeg:https://revolutionaryvalley.org/wp-content/uploads/2023/06/Walking-Tour-1200-×-800-1.jpg
ORGANIZER;CN="Concord Museum":MAILTO:bevangelista@concordmuseum.org
GEO:42.457713;-71.342264
X-APPLE-STRUCTURED-LOCATION;VALUE=URI;X-ADDRESS=Concord Museum Concord Museum 53 Cambridge Tpke Concord MA 01742 United States;X-APPLE-RADIUS=500;X-TITLE=Concord Museum\, 53 Cambridge Tpke:geo:-71.342264,42.457713
END:VEVENT
BEGIN:VEVENT
DTSTART;TZID=America/New_York:20230721T200000
DTEND;TZID=America/New_York:20230721T223000
DTSTAMP:20260424T184901
CREATED:20230327T132854Z
LAST-MODIFIED:20230327T132854Z
UID:10026034-1689969600-1689978600@revolutionaryvalley.org
SUMMARY:Yellow Brick Road - A Tribute to Elton John
DESCRIPTION:Yellow Brick Road\, A Tribute to Elton John\, from Augusta Maine\, is a full concert tribute\, complete with an incredible light show and sound system. Every detail of an actual Elton John concert is presented in such a way that will have Elton John fans screaming for more! \nThomas E. Tidman Amphitheater at NARA Park\, 25 Ledge Rock Way\, Acton\, MA 01720. Free Parking on Site. Please follow yellow event parking signage to parking area. This is an outdoor venue. In the event of weather updates\, please visit the NARA Park Facebook page. Bring your own lawn chairs or blankets\, dress for the weather. You can bring your own food and soft drinks (no alcohol permitted unless purchased on premises)\, food will be available for sale. Gates open one hour prior to showtime. We recommend using mosquito repellent. \n\n\nhttps://www.tributetoeltonjohn.com/
URL:https://revolutionaryvalley.org/event/yellow-brick-road-a-tribute-to-elton-john-3/
LOCATION:NARA Park\, Nara Park\, 25 Ledge Rock Way\, Acton\, MA\, 01720\, United States
CATEGORIES:Arts & Culture,Kids & Family,Live Performances,Outdoors
ATTACH;FMTTYPE=image/jpeg:https://revolutionaryvalley.org/wp-content/uploads/2023/03/Elton-John-Square-in-Photoshop-for-628-pixels.jpg
ORGANIZER;CN="Town of Acton":MAILTO:recreation@actonma.gov
GEO:42.5160594;-71.4119872
X-APPLE-STRUCTURED-LOCATION;VALUE=URI;X-ADDRESS=NARA Park Nara Park 25 Ledge Rock Way Acton MA 01720 United States;X-APPLE-RADIUS=500;X-TITLE=Nara Park\, 25 Ledge Rock Way:geo:-71.4119872,42.5160594
END:VEVENT
BEGIN:VEVENT
DTSTART;TZID=America/New_York:20230722T100000
DTEND;TZID=America/New_York:20230722T120000
DTSTAMP:20260424T184901
CREATED:20230619T152131Z
LAST-MODIFIED:20230619T152131Z
UID:10029441-1690020000-1690027200@revolutionaryvalley.org
SUMMARY:Backyard and Beyond: Nature Journals
DESCRIPTION:Explore the natural world through science\, art\, and writing. We’ll provide supplies to create your very own nature journal\, then you can take your journal on a nature walk through Discovery Woods and the Great Hill conservation land to search for signs of summer. \nPlease note that the conservation land trails are not ADA or stroller accessible\, please wear appropriate footwear and clothing. Inclement weather may result in changes to the program\, or cancellation.
URL:https://revolutionaryvalley.org/event/backyard-and-beyond-nature-journals/
LOCATION:Discovery Museum\, Discovery Museum\, 177 Main St\, Acton\, MA\, 01720\, United States
CATEGORIES:Outdoors
ATTACH;FMTTYPE=image/jpeg:https://revolutionaryvalley.org/wp-content/uploads/2023/06/Nature-Journaling-at-Discovery-Museum-scaled.jpg
ORGANIZER;CN="Discovery Museum":MAILTO:fun@discoveryacton.org
GEO:42.464745;-71.4560492
X-APPLE-STRUCTURED-LOCATION;VALUE=URI;X-ADDRESS=Discovery Museum Discovery Museum 177 Main St Acton MA 01720 United States;X-APPLE-RADIUS=500;X-TITLE=Discovery Museum\, 177 Main St:geo:-71.4560492,42.464745
END:VEVENT
BEGIN:VEVENT
DTSTART;TZID=America/New_York:20230728T200000
DTEND;TZID=America/New_York:20230728T223000
DTSTAMP:20260424T184901
CREATED:20230327T132934Z
LAST-MODIFIED:20230327T132934Z
UID:10026035-1690574400-1690583400@revolutionaryvalley.org
SUMMARY:The Breakers - A Tribute to Tom Petty
DESCRIPTION:The Breakers: A Tribute to Tom Petty – The country’s premier Tom Petty & the Heartbreakers tribute band. Established to let the fans of the late great Tom Petty continue to enjoy the live experience of TP & the HB’s. No other Tom Petty tribute band comes close to capturing the SOUND and emotions of Tom’s songs quite like the Breakers. Unlike the vast amount of Tom Petty tributes who substitute visual mimicry for sound\, the Breakers encompass the true unmistakable sound and execution of Tom Petty & the Heartbreakers. \nThomas E. Tidman Amphitheater at NARA Park\, 25 Ledge Rock Way\, Acton\, MA 01720. Free Parking on Site. Please follow yellow event parking signage to parking area. This is an outdoor venue. In the event of weather updates\, please visit the NARA Park Facebook page. Bring your own lawn chairs or blankets\, dress for the weather. You can bring your own food and soft drinks (no alcohol permitted unless purchased on premises)\, food will be available for sale. Gates open one hour prior to showtime. We recommend using mosquito repellent. \nhttps://youtu.be/3EwDF86LSYU\n\n \nhttp://www.thebreakersband.com/
URL:https://revolutionaryvalley.org/event/the-breakers-a-tribute-to-tom-petty/
LOCATION:NARA Park\, Nara Park\, 25 Ledge Rock Way\, Acton\, MA\, 01720\, United States
CATEGORIES:Arts & Culture,Kids & Family,Live Performances,Outdoors
ATTACH;FMTTYPE=image/jpeg:https://revolutionaryvalley.org/wp-content/uploads/2023/03/The-Breakers-Square-628-pixels.jpg
ORGANIZER;CN="Town of Acton":MAILTO:recreation@actonma.gov
GEO:42.5160594;-71.4119872
X-APPLE-STRUCTURED-LOCATION;VALUE=URI;X-ADDRESS=NARA Park Nara Park 25 Ledge Rock Way Acton MA 01720 United States;X-APPLE-RADIUS=500;X-TITLE=Nara Park\, 25 Ledge Rock Way:geo:-71.4119872,42.5160594
END:VEVENT
BEGIN:VEVENT
DTSTART;TZID=America/New_York:20230729T110000
DTEND;TZID=America/New_York:20230729T123000
DTSTAMP:20260424T184901
CREATED:20230626T130323Z
LAST-MODIFIED:20230626T151353Z
UID:10029852-1690628400-1690633800@revolutionaryvalley.org
SUMMARY:The Concordians Behind the Art Walking Tour
DESCRIPTION:Many of the works of art in the Concord Free Public Library’s collection and displayed at the Concord Museum were made by\, of\, and for Concordians. Join a Concord Museum Guide on a walking tour that delves into the lives of the artists and subjects featured in the Museum’s special exhibition “A Perpetual Invitation: 150 Years of Art at the Concord Free Public Library.” \n1-mile walk\, mostly flat terrain\, rain or shine. Meet at the Concord Museum. \nIncludes same-day admission to the Concord Museum. \nSpace is limited. Please register online in advance.
URL:https://revolutionaryvalley.org/event/the-concordians-behind-the-art-walking-tour-2/
LOCATION:Concord Museum\, Concord Museum\, 53 Cambridge Tpke\, Concord\, MA\, 01742\, United States
CATEGORIES:Arts & Culture,Outdoors
ATTACH;FMTTYPE=image/jpeg:https://revolutionaryvalley.org/wp-content/uploads/2023/06/Walking-Tour-1200-×-800-1-1.jpg
ORGANIZER;CN="Concord Museum":MAILTO:bevangelista@concordmuseum.org
GEO:42.457713;-71.342264
X-APPLE-STRUCTURED-LOCATION;VALUE=URI;X-ADDRESS=Concord Museum Concord Museum 53 Cambridge Tpke Concord MA 01742 United States;X-APPLE-RADIUS=500;X-TITLE=Concord Museum\, 53 Cambridge Tpke:geo:-71.342264,42.457713
END:VEVENT
END:VCALENDAR