BEGIN:VCALENDAR
VERSION:2.0
PRODID:-//Revolutionary Valley Regional Tourism Council - ECPv6.15.0.1//NONSGML v1.0//EN
CALSCALE:GREGORIAN
METHOD:PUBLISH
X-ORIGINAL-URL:https://revolutionaryvalley.org
X-WR-CALDESC:Events for Revolutionary Valley Regional Tourism Council
REFRESH-INTERVAL;VALUE=DURATION:PT1H
X-Robots-Tag:noindex
X-PUBLISHED-TTL:PT1H
BEGIN:VTIMEZONE
TZID:America/New_York
BEGIN:DAYLIGHT
TZOFFSETFROM:-0500
TZOFFSETTO:-0400
TZNAME:EDT
DTSTART:20230312T070000
END:DAYLIGHT
BEGIN:STANDARD
TZOFFSETFROM:-0400
TZOFFSETTO:-0500
TZNAME:EST
DTSTART:20231105T060000
END:STANDARD
END:VTIMEZONE
BEGIN:VEVENT
DTSTART;VALUE=DATE:20230514
DTEND;VALUE=DATE:20231023
DTSTAMP:20260425T203946
CREATED:20230504T183325Z
LAST-MODIFIED:20230906T150359Z
UID:10027152-1684022400-1698019199@revolutionaryvalley.org
SUMMARY:Art Workshops by Lowell National Historical Park
DESCRIPTION:See here for updated events. \nhttps://www.nps.gov/lowe/planyourvisit/calendar.htm \nArt In the Park 2023
URL:https://revolutionaryvalley.org/event/art-workshops-by-lowell-national-historical-park/
LOCATION:Lowell National Historical Park – Boott Cotton Mills Gallery\, 115 John Street\, Lowell\, 01852\, United States
CATEGORIES:Free Events,Outdoors
GEO:42.6472986;-71.3066893
X-APPLE-STRUCTURED-LOCATION;VALUE=URI;X-ADDRESS=Lowell National Historical Park – Boott Cotton Mills Gallery 115 John Street Lowell 01852 United States;X-APPLE-RADIUS=500;X-TITLE=115 John Street:geo:-71.3066893,42.6472986
END:VEVENT
BEGIN:VEVENT
DTSTART;TZID=America/New_York:20230619T123000
DTEND;TZID=America/New_York:20230619T170000
DTSTAMP:20260425T203946
CREATED:20230523T142222Z
LAST-MODIFIED:20230531T160325Z
UID:10027959-1687177800-1687194000@revolutionaryvalley.org
SUMMARY:Antislavery Walking Tour
DESCRIPTION:Join a Concord Museum interpreter for a walking tour introducing participants to the Concord women and men who played a crucial role in the abolitionist movement in the years leading up to the Civil War. 1.5-mile walk on flat terrain. Rain or shine. \nIn partnership with The Robbins House. \nRegister online in advance at https://concordmuseum.org/events/antislavery-walking-tour-4/
URL:https://revolutionaryvalley.org/event/antislavery-walking-tour/
LOCATION:Concord Museum\, Concord Museum\, 53 Cambridge Tpke\, Concord\, MA\, 01742\, United States
CATEGORIES:Historical,Outdoors
ATTACH;FMTTYPE=image/jpeg:https://revolutionaryvalley.org/wp-content/uploads/2023/05/Walking-Tour-1200-×-800.jpg
ORGANIZER;CN="Concord Museum":MAILTO:bevangelista@concordmuseum.org
GEO:42.457713;-71.342264
X-APPLE-STRUCTURED-LOCATION;VALUE=URI;X-ADDRESS=Concord Museum Concord Museum 53 Cambridge Tpke Concord MA 01742 United States;X-APPLE-RADIUS=500;X-TITLE=Concord Museum\, 53 Cambridge Tpke:geo:-71.342264,42.457713
END:VEVENT
END:VCALENDAR