BEGIN:VCALENDAR
VERSION:2.0
PRODID:-//Revolutionary Valley Regional Tourism Council - ECPv6.15.0.1//NONSGML v1.0//EN
CALSCALE:GREGORIAN
METHOD:PUBLISH
X-WR-CALNAME:Revolutionary Valley Regional Tourism Council
X-ORIGINAL-URL:https://revolutionaryvalley.org
X-WR-CALDESC:Events for Revolutionary Valley Regional Tourism Council
REFRESH-INTERVAL;VALUE=DURATION:PT1H
X-Robots-Tag:noindex
X-PUBLISHED-TTL:PT1H
BEGIN:VTIMEZONE
TZID:America/New_York
BEGIN:DAYLIGHT
TZOFFSETFROM:-0500
TZOFFSETTO:-0400
TZNAME:EDT
DTSTART:20240310T070000
END:DAYLIGHT
BEGIN:STANDARD
TZOFFSETFROM:-0400
TZOFFSETTO:-0500
TZNAME:EST
DTSTART:20241103T060000
END:STANDARD
END:VTIMEZONE
BEGIN:VEVENT
DTSTART;TZID=America/New_York:20240212T190000
DTEND;TZID=America/New_York:20240212T210000
DTSTAMP:20260419T104425
CREATED:20231205T150109Z
LAST-MODIFIED:20231205T150109Z
UID:10045753-1707764400-1707771600@revolutionaryvalley.org
SUMMARY:Harlem Globetrotters
DESCRIPTION:HARLEM GLOBETROTTERS 2024 WORLD TOUR – PRESENTED BY JERSEY MIKE’S SUBS\nWhere\, WHAT JUST HAPPENED?!? happens all the time!\nDon’t miss your chance to be a part of the world-famous Harlem Globetrotters global tour as they take the court with moments of extreme basketball innovation and unparalleled fan FUN! See the\nGlobetrotter stars LIVE as they DRIBBLE\, SPIN\, SLAM\, and DUNK their way past their relentless rivals\, the Washington Generals! You’ll be amazed by new levels of mind-blowing trick shots\, expert ball-handling skills\, and BIG LAUGHS with unrivaled opportunities for pre-game\, post-game and in-game fan engagement!
URL:https://revolutionaryvalley.org/event/harlem-globetrotters-2/
LOCATION:Tsongas Center\, Tsongas Center\, 300 Arcand Dr\, Lowell\, MA\, 01852\, United States
CATEGORIES:Sports
ATTACH;FMTTYPE=image/jpeg:https://revolutionaryvalley.org/wp-content/uploads/2023/12/tsongas_feb12_24.jpg
GEO:42.6502366;-71.3132188
X-APPLE-STRUCTURED-LOCATION;VALUE=URI;X-ADDRESS=Tsongas Center Tsongas Center 300 Arcand Dr Lowell MA 01852 United States;X-APPLE-RADIUS=500;X-TITLE=Tsongas Center\, 300 Arcand Dr:geo:-71.3132188,42.6502366
END:VEVENT
END:VCALENDAR