BEGIN:VCALENDAR
VERSION:2.0
PRODID:-//Revolutionary Valley Regional Tourism Council - ECPv6.15.0.1//NONSGML v1.0//EN
CALSCALE:GREGORIAN
METHOD:PUBLISH
X-WR-CALNAME:Revolutionary Valley Regional Tourism Council
X-ORIGINAL-URL:https://revolutionaryvalley.org
X-WR-CALDESC:Events for Revolutionary Valley Regional Tourism Council
REFRESH-INTERVAL;VALUE=DURATION:PT1H
X-Robots-Tag:noindex
X-PUBLISHED-TTL:PT1H
BEGIN:VTIMEZONE
TZID:America/New_York
BEGIN:DAYLIGHT
TZOFFSETFROM:-0500
TZOFFSETTO:-0400
TZNAME:EDT
DTSTART:20240310T070000
END:DAYLIGHT
BEGIN:STANDARD
TZOFFSETFROM:-0400
TZOFFSETTO:-0500
TZNAME:EST
DTSTART:20241103T060000
END:STANDARD
END:VTIMEZONE
BEGIN:VEVENT
DTSTART;TZID=America/New_York:20240804T110000
DTEND;TZID=America/New_York:20240804T120000
DTSTAMP:20260419T201238
CREATED:20240715T141951Z
LAST-MODIFIED:20240715T141951Z
UID:10057076-1722769200-1722772800@revolutionaryvalley.org
SUMMARY:Sunday Stroll Walking Tour: Lexington Celebrates!
DESCRIPTION:Parades\, pageants\, and pandemonium have defined the many commemorations of the 1775 Battle of Lexington and the first shots of the War for Independence. Over the centuries\, thousands of people have descended upon the Battle Green to welcome Revolutionary War heroes like the Marquis de Lafayette on his tour of America in 1824. The anniversaries of the battle offered them a glimpse of President Grant in 1875 and a word from President Ford in 1975. On this land\, protestors have sat and monuments have been built to the fallen. Join a Lexington Historical Society educator as they illuminate 250 years of stories full of crowds\, chaos\, and celebrations! \nStarting and ending at Buckman Tavern\, this tour explores areas around the Lexington Battle Green. The tour is 1 hour long and covers about a 1/2 mile on flat ground. \n$10 members\, $15 nonmembers
URL:https://revolutionaryvalley.org/event/sunday-stroll-walking-tour-lexington-celebrates/
LOCATION:Buckman Tavern\, 1 Bedford St\, Lexington\, MA\, 02420\, United States
CATEGORIES:Historical,Talks and Film
ATTACH;FMTTYPE=image/jpeg:https://revolutionaryvalley.org/wp-content/uploads/2024/07/Celebrations-walking-tour.jpg
GEO:42.4492773;-71.2297485
X-APPLE-STRUCTURED-LOCATION;VALUE=URI;X-ADDRESS=Buckman Tavern 1 Bedford St Lexington MA 02420 United States;X-APPLE-RADIUS=500;X-TITLE=1 Bedford St:geo:-71.2297485,42.4492773
END:VEVENT
BEGIN:VEVENT
DTSTART;TZID=America/New_York:20240806T193000
DTEND;TZID=America/New_York:20240806T210000
DTSTAMP:20260419T201238
CREATED:20240701T142451Z
LAST-MODIFIED:20240701T142627Z
UID:10056975-1722972600-1722978000@revolutionaryvalley.org
SUMMARY:Woburn Summer 2024 Outdoor Movie Series: Migration
DESCRIPTION:The movie begins at dark. We suggest you arrive early to pick out space on the lawn. Feel free to bring snacks & drinks with you\, but in an effort to help keep our parks clean please make sure you take all your trash with you when you leave! Please also be respectful of others watching the movies by keeping talking to a minimum while the movie is showing! Movies that begin at Dark start around 8pm and we suggest you get there around 7:30. Movies with times associated start on time as they are shown on an LED screen. *Movie selections are subject to change per availability.
URL:https://revolutionaryvalley.org/event/woburn-summer-2024-outdoor-movie-series-migration/
LOCATION:Library Park\, Woburn\, Library Park\, Harrison Ave\, Woburn\, MA\, 01801\, United States
CATEGORIES:Free Events,Kids & Family,Talks and Film
ATTACH;FMTTYPE=image/jpeg:https://revolutionaryvalley.org/wp-content/uploads/2024/07/migration.jpeg
GEO:42.4803186;-71.1608347
X-APPLE-STRUCTURED-LOCATION;VALUE=URI;X-ADDRESS=Library Park Woburn Library Park Harrison Ave Woburn MA 01801 United States;X-APPLE-RADIUS=500;X-TITLE=Library Park\, Harrison Ave:geo:-71.1608347,42.4803186
END:VEVENT
BEGIN:VEVENT
DTSTART;TZID=America/New_York:20240813T193000
DTEND;TZID=America/New_York:20240813T210000
DTSTAMP:20260419T201238
CREATED:20240701T142811Z
LAST-MODIFIED:20240708T132701Z
UID:10056976-1723577400-1723582800@revolutionaryvalley.org
SUMMARY:Woburn Summer 2024 Outdoor Movie Series: DC League of Super Pets
DESCRIPTION:The movie begins at dark. We suggest you arrive early to pick out space on the lawn. Feel free to bring snacks & drinks with you\, but in an effort to help keep our parks clean please make sure you take all your trash with you when you leave! Please also be respectful of others watching the movies by keeping talking to a minimum while the movie is showing! Movies that begin at Dark start around 8pm and we suggest you get there around 7:30. Movies with times associated start on time as they are shown on an LED screen. *Movie selections are subject to change per availability.
URL:https://revolutionaryvalley.org/event/woburn-summer-2024-outdoor-movie-series-dc-league-of-super-pets/
LOCATION:Library Park\, City of Woburn\, Harrison Avenue\, Woburn\, Massachusetts\, 01801\, United States
CATEGORIES:Free Events,Kids & Family,Talks and Film
ATTACH;FMTTYPE=image/jpeg:https://revolutionaryvalley.org/wp-content/uploads/2024/07/DC.jpeg
GEO:42.4803186;-71.1608347
X-APPLE-STRUCTURED-LOCATION;VALUE=URI;X-ADDRESS=Library Park City of Woburn Harrison Avenue Woburn Massachusetts 01801 United States;X-APPLE-RADIUS=500;X-TITLE=Harrison Avenue:geo:-71.1608347,42.4803186
END:VEVENT
BEGIN:VEVENT
DTSTART;TZID=America/New_York:20240818T110000
DTEND;TZID=America/New_York:20240818T120000
DTSTAMP:20260419T201238
CREATED:20240715T142049Z
LAST-MODIFIED:20240715T142049Z
UID:10057077-1723978800-1723982400@revolutionaryvalley.org
SUMMARY:Sunday Stroll Walking Tour: Hancock Street Architecture
DESCRIPTION:When the Battle of Lexington was fought in 1775\, Hancock Street was a country lane with just two houses. The next 150 years saw many houses built with various architectural styles. Come take a stroll and learn about the Georgian\, Federal\, Greek Revival\, Italianate\, and Gothic Revival homes that populate the street today. \nLeaves from Buckman Tavern rain or shine\, total walking distance about one mile. \n$10 members\, $15 nonmembers
URL:https://revolutionaryvalley.org/event/sunday-stroll-walking-tour-hancock-street-architecture-2/
LOCATION:Buckman Tavern\, 1 Bedford St\, Lexington\, MA\, 02420\, United States
CATEGORIES:Historical,Talks and Film
ATTACH;FMTTYPE=image/jpeg:https://revolutionaryvalley.org/wp-content/uploads/2024/07/house3.jpg
GEO:42.4492773;-71.2297485
X-APPLE-STRUCTURED-LOCATION;VALUE=URI;X-ADDRESS=Buckman Tavern 1 Bedford St Lexington MA 02420 United States;X-APPLE-RADIUS=500;X-TITLE=1 Bedford St:geo:-71.2297485,42.4492773
END:VEVENT
BEGIN:VEVENT
DTSTART;TZID=America/New_York:20240824T100000
DTEND;TZID=America/New_York:20240824T113000
DTSTAMP:20260419T201238
CREATED:20240812T164402Z
LAST-MODIFIED:20240812T164412Z
UID:10057172-1724493600-1724499000@revolutionaryvalley.org
SUMMARY:Lowell Walks: Mill Girls & Boarding House Keepers
DESCRIPTION:With the construction of a new mill city\, a large labor force was needed to fill minimum wage positions being rapidly created. The boarding house system allowed mill agents sent out into the New England countryside to recruit a new workforce of young women with promises of paid work\, available food\, shelter\, and the care and supervision of a boarding house keeper. \nJoin a ranger for the upcoming Lowell Walks\, a guided walking tour. Tours are about 90 minutes\, are free\, and include a moderate amount of walking. No reservations are necessary\, and tours are conducted rain or shine. \nAll tours will meet the ranger at the park Visitor Center (246 Market Street). Lowell National Historical Park visitors may park at the Hamilton Canal Innovation District parking garage at 350 Dutton St.\, Lowell. Parking in this garage (only) is available to National Park visitors at no cost provided they obtain a valid parking voucher at either the Lowell National Historical Park Visitor Center at 246 Market Street\, or at the Boott Cotton Mills Museum at 115 John Street.
URL:https://revolutionaryvalley.org/event/lowell-walks-mill-girls-boarding-house-keepers/
LOCATION:Lowell National Historical Park Visitor Center\, Lowell National Historical Park Visitor Center\, 246 Market St\, Lowell\, MA\, United States
CATEGORIES:Free Events,Lecture,Outdoors,Talks and Film
ATTACH;FMTTYPE=image/jpeg:https://revolutionaryvalley.org/wp-content/uploads/2024/08/Keepers.jpg
ORGANIZER;CN="Lowell National Historical Park":MAILTO:phil_lupsiewicz@nps.gov
GEO:42.6444497;-71.3124716
X-APPLE-STRUCTURED-LOCATION;VALUE=URI;X-ADDRESS=Lowell National Historical Park Visitor Center Lowell National Historical Park Visitor Center 246 Market St Lowell MA United States;X-APPLE-RADIUS=500;X-TITLE=Lowell National Historical Park Visitor Center\, 246 Market St:geo:-71.3124716,42.6444497
END:VEVENT
END:VCALENDAR