BEGIN:VCALENDAR
VERSION:2.0
PRODID:-//Revolutionary Valley Regional Tourism Council - ECPv6.15.0.1//NONSGML v1.0//EN
CALSCALE:GREGORIAN
METHOD:PUBLISH
X-ORIGINAL-URL:https://revolutionaryvalley.org
X-WR-CALDESC:Events for Revolutionary Valley Regional Tourism Council
REFRESH-INTERVAL;VALUE=DURATION:PT1H
X-Robots-Tag:noindex
X-PUBLISHED-TTL:PT1H
BEGIN:VTIMEZONE
TZID:America/New_York
BEGIN:DAYLIGHT
TZOFFSETFROM:-0500
TZOFFSETTO:-0400
TZNAME:EDT
DTSTART:20240310T070000
END:DAYLIGHT
BEGIN:STANDARD
TZOFFSETFROM:-0400
TZOFFSETTO:-0500
TZNAME:EST
DTSTART:20241103T060000
END:STANDARD
END:VTIMEZONE
BEGIN:VEVENT
DTSTART;TZID=America/New_York:20240306T190000
DTEND;TZID=America/New_York:20240306T200000
DTSTAMP:20260425T205125
CREATED:20240209T142608Z
LAST-MODIFIED:20240209T142608Z
UID:10050397-1709751600-1709755200@revolutionaryvalley.org
SUMMARY:Discovery Museum Speaker Series Event: How To Have Brave Conversations that Build Empathetic Kids
DESCRIPTION:In her role as Chief Executive Officer and President of The CAYL Institute\, Dr. Valora Washington is at the epicenter of current thinking about the biggest issues facing kids and families. She joins us to speak about one that is front of mind: Helping adults have the brave conversations that develop kids’ sense of empathy over judgment\, and respect the complexity of the world we live in. Dr. Washington will help us understand why keeping children “in a bubble” is not a reasonable option in today’s world\, and how choosing to be a powerful parent (or caregiver\, or grandparent\, or teacher) is one of the greatest gifts we can give the children in our lives. \nWednesday\, March 6\, 2024\, 7pm – 8pm\nSpeaker: Valora Washington\, Ph.D.\, CEO & President\, The CAYL Institute; former Vice President\, W.K. Kellogg Foundation\nLocation: Live\, via Zoom webinar
URL:https://revolutionaryvalley.org/event/discovery-museum-speaker-series-event-how-to-have-brave-conversations-that-build-empathetic-kids/
LOCATION:Discovery Museum\, Discovery Museum\, 177 Main St\, Acton\, MA\, 01720\, United States
CATEGORIES:Talks and Film
ATTACH;FMTTYPE=image/jpeg:https://revolutionaryvalley.org/wp-content/uploads/2024/02/V-Washington-headshot.jpg
ORGANIZER;CN="Discovery Museum":MAILTO:fun@discoveryacton.org
GEO:42.464745;-71.4560492
X-APPLE-STRUCTURED-LOCATION;VALUE=URI;X-ADDRESS=Discovery Museum Discovery Museum 177 Main St Acton MA 01720 United States;X-APPLE-RADIUS=500;X-TITLE=Discovery Museum\, 177 Main St:geo:-71.4560492,42.464745
END:VEVENT
END:VCALENDAR