BEGIN:VCALENDAR
VERSION:2.0
PRODID:-//Revolutionary Valley Regional Tourism Council - ECPv6.15.0.1//NONSGML v1.0//EN
CALSCALE:GREGORIAN
METHOD:PUBLISH
X-WR-CALNAME:Revolutionary Valley Regional Tourism Council
X-ORIGINAL-URL:https://revolutionaryvalley.org
X-WR-CALDESC:Events for Revolutionary Valley Regional Tourism Council
REFRESH-INTERVAL;VALUE=DURATION:PT1H
X-Robots-Tag:noindex
X-PUBLISHED-TTL:PT1H
BEGIN:VTIMEZONE
TZID:America/New_York
BEGIN:DAYLIGHT
TZOFFSETFROM:-0500
TZOFFSETTO:-0400
TZNAME:EDT
DTSTART:20240310T070000
END:DAYLIGHT
BEGIN:STANDARD
TZOFFSETFROM:-0400
TZOFFSETTO:-0500
TZNAME:EST
DTSTART:20241103T060000
END:STANDARD
END:VTIMEZONE
BEGIN:VEVENT
DTSTART;TZID=America/New_York:20240610T190000
DTEND;TZID=America/New_York:20240610T203000
DTSTAMP:20260420T182844
CREATED:20240531T132413Z
LAST-MODIFIED:20240531T132413Z
UID:10056849-1718046000-1718051400@revolutionaryvalley.org
SUMMARY:Still Here: Houses of Our Patriots
DESCRIPTION:The second event in the Acton 250 series “Still Here: Houses of Our Patriots” will be a presentation about the Nathaniel Edwards House\, 328 Pope Road\, on Monday\, June 10 at 7PM. at the Acton Memorial Library\, 486 Main St Acton\, MA 01720. The speaker will be the house’s co-owner\, David Hardt\, who has done extensive research on this mid-18th century center-chimney building. For more information and to register: https://tinyurl.com/HardtHouse to attend in person or via Zoom: https://tinyurl.com/Acton250-ZOOM. Please find all Acton 250 programming at http://www.actonma.gov/250.
URL:https://revolutionaryvalley.org/event/still-here-houses-of-our-patriots/
LOCATION:Acton Memorial Library\, 486 Main Street\, Acton\, MA\, 01720
CATEGORIES:Concord 250,Talks and Film
ATTACH;FMTTYPE=image/png:https://revolutionaryvalley.org/wp-content/uploads/2024/05/Hardt-Home.png
ORGANIZER;CN="Acton 250 Committee":MAILTO:acton250@acton-ma.gov
GEO:42.4898559;-71.4279474
X-APPLE-STRUCTURED-LOCATION;VALUE=URI;X-ADDRESS=Acton Memorial Library 486 Main Street Acton MA 01720;X-APPLE-RADIUS=500;X-TITLE=486 Main Street:geo:-71.4279474,42.4898559
END:VEVENT
END:VCALENDAR