BEGIN:VCALENDAR
VERSION:2.0
PRODID:-//Revolutionary Valley Regional Tourism Council - ECPv6.15.0.1//NONSGML v1.0//EN
CALSCALE:GREGORIAN
METHOD:PUBLISH
X-ORIGINAL-URL:https://revolutionaryvalley.org
X-WR-CALDESC:Events for Revolutionary Valley Regional Tourism Council
REFRESH-INTERVAL;VALUE=DURATION:PT1H
X-Robots-Tag:noindex
X-PUBLISHED-TTL:PT1H
BEGIN:VTIMEZONE
TZID:America/New_York
BEGIN:DAYLIGHT
TZOFFSETFROM:-0500
TZOFFSETTO:-0400
TZNAME:EDT
DTSTART:20260308T070000
END:DAYLIGHT
BEGIN:STANDARD
TZOFFSETFROM:-0400
TZOFFSETTO:-0500
TZNAME:EST
DTSTART:20261101T060000
END:STANDARD
END:VTIMEZONE
BEGIN:VTIMEZONE
TZID:Europe/Madrid
BEGIN:DAYLIGHT
TZOFFSETFROM:+0100
TZOFFSETTO:+0200
TZNAME:CEST
DTSTART:20260329T010000
END:DAYLIGHT
BEGIN:STANDARD
TZOFFSETFROM:+0200
TZOFFSETTO:+0100
TZNAME:CET
DTSTART:20261025T010000
END:STANDARD
END:VTIMEZONE
BEGIN:VEVENT
DTSTART;TZID=America/New_York:20260517T150000
DTEND;TZID=America/New_York:20260517T170000
DTSTAMP:20260424T172802
CREATED:20260421T135645Z
LAST-MODIFIED:20260421T135645Z
UID:10071678-1779030000-1779037200@revolutionaryvalley.org
SUMMARY:Romantic Spring: A Choral/Orchestral Collaboration
DESCRIPTION:Manchester Choral Society will join forces with the Seacoast-based ensemble Portsmouth Pro Musica for a major choral-orchestral project featuring Franz Schubert’s Mass in E-flat and Felix Mendelssohn’s Psalm 42. Performances will bring together more than 90 singers\, with professional soloists\, and a full orchestra. Manchester Choral Society Music Director Dan Perkins and Portsmouth Pro Musica Music Director Priscilla French will share the podium for this collaborative effort\, uniting two respected New Hampshire choral organizations in a dynamic musical partnership.
URL:https://revolutionaryvalley.org/event/romantic-spring-a-choral-orchestral-collaboration/
LOCATION:Oyster River Middle School\, 1 Coe Drive\, Durham\, NH\, 3102\, United States
CATEGORIES:Live Performances
ATTACH;FMTTYPE=image/jpeg:https://revolutionaryvalley.org/wp-content/uploads/2026/04/kf0qlC6PZU2W0aZ7UGsHkQ.large_.jpg
END:VEVENT
BEGIN:VEVENT
DTSTART;TZID=Europe/Madrid:20260528T093000
DTEND;TZID=Europe/Madrid:20260530T183000
DTSTAMP:20260424T172802
CREATED:20251007T181059Z
LAST-MODIFIED:20251007T181059Z
UID:10069962-1779960600-1780165800@revolutionaryvalley.org
SUMMARY:Global summit on Civil\, Structural and Environmental Engineering.
DESCRIPTION:CIVIL2026 will serve as a dynamic platform to explore the latest breakthroughs\, emerging technologies\, and future directions\,bringing together experts\, innovators\, and thought leaders from academia\, industry\, and research to share insights\, foster collaboration\, and explore the latest trends and innovations across civil\, structural\, and environmental engineering.
URL:https://revolutionaryvalley.org/event/global-summit-on-civil-structural-and-environmental-engineering/
LOCATION:Greater Merrimack Valley Convention and Visitors Bureau\, Greater Merrimack Valley Convention and Visitors Bureau\, 115 Merrimack St\, Lowell\, MA\, 01852\, United States
ATTACH;FMTTYPE=image/jpeg:https://revolutionaryvalley.org/wp-content/uploads/2026/01/civil-Logo.jpg
GEO:42.6540975;-71.3272538
X-APPLE-STRUCTURED-LOCATION;VALUE=URI;X-ADDRESS=Greater Merrimack Valley Convention and Visitors Bureau Greater Merrimack Valley Convention and Visitors Bureau 115 Merrimack St Lowell MA 01852 United States;X-APPLE-RADIUS=500;X-TITLE=Greater Merrimack Valley Convention and Visitors Bureau\, 115 Merrimack St:geo:-71.3272538,42.6540975
END:VEVENT
BEGIN:VEVENT
DTSTART;TZID=America/New_York:20260528T100000
DTEND;TZID=America/New_York:20260528T120000
DTSTAMP:20260424T172802
CREATED:20260422T142525Z
LAST-MODIFIED:20260422T142525Z
UID:10071911-1779962400-1779969600@revolutionaryvalley.org
SUMMARY:Backyard and Beyond: Outdoor Fort Building at Discovery Museum
DESCRIPTION:Create structures and forts with us in Discovery Woods. Use recycled\, repurposed\, and everyday materials to engineer a unique outdoor hideaway. Drop in to add to and play in our ever-growing set up. Inclement weather may result in changes to the program or cancellation.
URL:https://revolutionaryvalley.org/event/backyard-and-beyond-outdoor-fort-building-at-discovery-museum/
LOCATION:Discovery Museum\, Discovery Museum\, 177 Main St\, Acton\, MA\, 01720\, United States
ATTACH;FMTTYPE=image/jpeg:https://revolutionaryvalley.org/wp-content/uploads/2026/04/Builders-scaled.jpg
ORGANIZER;CN="Discovery Museum":MAILTO:fun@discoveryacton.org
GEO:42.464745;-71.4560492
X-APPLE-STRUCTURED-LOCATION;VALUE=URI;X-ADDRESS=Discovery Museum Discovery Museum 177 Main St Acton MA 01720 United States;X-APPLE-RADIUS=500;X-TITLE=Discovery Museum\, 177 Main St:geo:-71.4560492,42.464745
END:VEVENT
BEGIN:VEVENT
DTSTART;TZID=America/New_York:20260531T140000
DTEND;TZID=America/New_York:20260531T153000
DTSTAMP:20260424T172802
CREATED:20260127T224932Z
LAST-MODIFIED:20260127T224944Z
UID:10071448-1780236000-1780241400@revolutionaryvalley.org
SUMMARY:The Truth About Baked Beans: An Edible History of New England
DESCRIPTION:Meg Muckenhoupt will bring smiles—and a hunger for popular foods—during her discussion about the history of New England’s food\, immigration\, tourism\, and how ideas about identity have shaped our menus from 1825 to today. \nAuthor of “The Truth about Baked Beans: An Edible History of New England\,” Muckenhoupt’s book began with a simple question: When did Bostonians start putting molasses in their baked beans? That question sent her on a lengthy journey through invented histories\, selective memories\, and changing tastes from colonial New England to the present day. \nHer presentation will cap the Society’s Annual Meeting\, including elections of Directors and reports from Society officers. \nDoors open at 2 PM for a social period and refreshments\n2:15 PM – Announcements and Annual Meeting\, followed by the Guest Speaker
URL:https://revolutionaryvalley.org/event/the-truth-about-baked-beans-an-edible-history-of-new-england/
LOCATION:Bedford Historical Society\, 16 South Road\, Bedford\, 01730\, United States
CATEGORIES:Arts & Culture,Food,Free Events,Historical,Lecture
ATTACH;FMTTYPE=image/jpeg:https://revolutionaryvalley.org/wp-content/uploads/2026/01/620858537_18391781923179172_5940023245780821310_n.jpg
ORGANIZER;CN="Bedford Historical Society":MAILTO:info@bedfordmahistory.org
GEO:42.4913403;-71.2788901
X-APPLE-STRUCTURED-LOCATION;VALUE=URI;X-ADDRESS=Bedford Historical Society 16 South Road Bedford 01730 United States;X-APPLE-RADIUS=500;X-TITLE=16 South Road:geo:-71.2788901,42.4913403
END:VEVENT
BEGIN:VEVENT
DTSTART;TZID=America/New_York:20260613T130000
DTEND;TZID=America/New_York:20260613T160000
DTSTAMP:20260424T172802
CREATED:20260402T170947Z
LAST-MODIFIED:20260402T170947Z
UID:10071638-1781355600-1781366400@revolutionaryvalley.org
SUMMARY:Hands-On History: Weaving and Working on the Line
DESCRIPTION:Saturday\, June 13th from 1:00 p.m. – 4:00 p.m. (Drop in!) \nExperience history by doing! \nLowell National Historical Park and the Tsongas Industrial History Center are excited to welcome you for “Hands-On History” — part of the City of Lowell’s Bicentennial celebrations and the Tsongas Industrial History Center’s 35th anniversary! \n“Hands-On History” takes place the 2nd Saturday of each month through October. \n3rd Floor\, Boott Cotton Mills Museum (115 John St.\, Lowell\, MA) \nThis month’s activities include: \nWeaving on a hand loom and try working on a fun assembly line. \nThese free\, drop-in workshops are appropriate for all ages. \nExplore our educational workshop spaces at the Boott Cotton Mills Museum and discover how the Industrial Revolution shaped life then and now. Whether you’re a returning visitor or brand new to history\, there’s something hands-on for everyone. \nQuestions: Call 978-970-5080 or email: TIHC@uml.edu
URL:https://revolutionaryvalley.org/event/hands-on-history-weaving-and-working-on-the-line-2/
LOCATION:Lowell National Historical Park – Boott Cotton Mills Museum\, 3rd Floor\, 115 John Street\, Lowell\, 01852\, United States
CATEGORIES:Free Events,Historical
ATTACH;FMTTYPE=image/jpeg:https://revolutionaryvalley.org/wp-content/uploads/2026/04/Happy-students-at-assembly-line-scaled.jpg
GEO:42.6472986;-71.3066893
X-APPLE-STRUCTURED-LOCATION;VALUE=URI;X-ADDRESS=Lowell National Historical Park – Boott Cotton Mills Museum 3rd Floor 115 John Street Lowell 01852 United States;X-APPLE-RADIUS=500;X-TITLE=115 John Street:geo:-71.3066893,42.6472986
END:VEVENT
BEGIN:VEVENT
DTSTART;TZID=America/New_York:20260613T193000
DTEND;TZID=America/New_York:20260613T193000
DTSTAMP:20260424T172802
CREATED:19700101T050000Z
LAST-MODIFIED:20260122T204818Z
UID:10070053-1781379000-1781379000@revolutionaryvalley.org
SUMMARY:Shawn Colvin and Rodney Crowell
DESCRIPTION:Ticket listings for Shawn Colvin and Rodney Crowell at Groton Hill Music Center in Groton\, Massachusetts on 13/06/2026
URL:https://revolutionaryvalley.org/event/shawn-colvin-and-rodney-crowell/
LOCATION:MA
CATEGORIES:Google Events
END:VEVENT
BEGIN:VEVENT
DTSTART;TZID=America/New_York:20260615T140000
DTEND;TZID=America/New_York:20260831T153000
DTSTAMP:20260424T172802
CREATED:20260202T155440Z
LAST-MODIFIED:20260202T155440Z
UID:10064300-1781532000-1788190200@revolutionaryvalley.org
SUMMARY:A River Transformed Walking Tour
DESCRIPTION:Discover how the power of the Merrimack River was harnessed into textile production in the 19th century. This tour combines a walk along the riverwalk accompanied by a park ranger with a guided visit to the River Transformed Exhibit at the Suffolk Mill. \nJune 15-August 31\, 2025\nMonday and Tuesday at 2 p.m. \nVisitors should plan for a 75-minute tour\, all of which will be spent on your feet. Visitors can expect to walk as much as 1.5-miles on paved paths and are encouraged to bring water. This tour meets and ends at the Boott Cotton Mills Museum (115 John St.) \nThis tour is free. To reserve your spot\, call (978) 970-5000 or check in at the Boott Cotton Mills Museum front desk.
URL:https://revolutionaryvalley.org/event/a-river-transformed-walking-tour-3-2/2026-06-15/
LOCATION:Lowell National Historical Park – Boott Cotton Mills Museum\, 115 John Street\, Lowell\, 01852\, United States
CATEGORIES:Exhibits,Free Events,Historical,Outdoors,Talks and Film
ATTACH;FMTTYPE=image/jpeg:https://revolutionaryvalley.org/wp-content/uploads/2025/04/Suffolk-Tour-w-Trolley-38-4-scaled.jpg
ORGANIZER;CN="Lowell National Historical Park":MAILTO:phil_lupsiewicz@nps.gov
GEO:42.6472986;-71.3066893
X-APPLE-STRUCTURED-LOCATION;VALUE=URI;X-ADDRESS=Lowell National Historical Park – Boott Cotton Mills Museum 115 John Street Lowell 01852 United States;X-APPLE-RADIUS=500;X-TITLE=115 John Street:geo:-71.3066893,42.6472986
END:VEVENT
BEGIN:VEVENT
DTSTART;TZID=America/New_York:20260615T140000
DTEND;TZID=America/New_York:20260831T153000
DTSTAMP:20260424T172802
CREATED:20260202T155610Z
LAST-MODIFIED:20260202T155621Z
UID:10064173-1781532000-1788190200@revolutionaryvalley.org
SUMMARY:A River Transformed Walking Tour
DESCRIPTION:Discover how the power of the Merrimack River was harnessed into textile production in the 19th century. This tour combines a walk along the riverwalk accompanied by a park ranger with a guided visit to the River Transformed Exhibit at the Suffolk Mill. \nJune 15-August 31\, 2025\nMonday and Tuesday at 2 p.m. \nVisitors should plan for a 75-minute tour\, all of which will be spent on your feet. Visitors can expect to walk as much as 1.5-miles on paved paths and are encouraged to bring water. This tour meets and ends at the Boott Cotton Mills Museum (115 John St.) \nThis tour is free. To reserve your spot\, call (978) 970-5000 or check in at the Boott Cotton Mills Museum front desk.
URL:https://revolutionaryvalley.org/event/a-river-transformed-walking-tour-4-2/2026-06-15/
LOCATION:Lowell National Historical Park – Boott Cotton Mills Museum\, 115 John Street\, Lowell\, 01852\, United States
CATEGORIES:Exhibits,Free Events,Historical,Outdoors,Talks and Film
ATTACH;FMTTYPE=image/jpeg:https://revolutionaryvalley.org/wp-content/uploads/2025/04/Suffolk-Tour-w-Trolley-38-3-scaled.jpg
ORGANIZER;CN="Lowell National Historical Park":MAILTO:phil_lupsiewicz@nps.gov
GEO:42.6472986;-71.3066893
X-APPLE-STRUCTURED-LOCATION;VALUE=URI;X-ADDRESS=Lowell National Historical Park – Boott Cotton Mills Museum 115 John Street Lowell 01852 United States;X-APPLE-RADIUS=500;X-TITLE=115 John Street:geo:-71.3066893,42.6472986
END:VEVENT
BEGIN:VEVENT
DTSTART;TZID=America/New_York:20260615T140000
DTEND;TZID=America/New_York:20260831T153000
DTSTAMP:20260424T172802
CREATED:20260202T155834Z
LAST-MODIFIED:20260202T155834Z
UID:10064262-1781532000-1788190200@revolutionaryvalley.org
SUMMARY:A River Transformed Walking Tour
DESCRIPTION:Discover how the power of the Merrimack River was harnessed into textile production in the 19th century. This tour combines a walk along the riverwalk accompanied by a park ranger with a guided visit to the River Transformed Exhibit at the Suffolk Mill. \nJune 15-August 31\, 2025\nMonday and Tuesday at 2 p.m. \nVisitors should plan for a 75-minute tour\, all of which will be spent on your feet. Visitors can expect to walk as much as 1.5-miles on paved paths and are encouraged to bring water. This tour meets and ends at the Boott Cotton Mills Museum (115 John St.) \nThis tour is free. To reserve your spot\, call (978) 970-5000 or check in at the Boott Cotton Mills Museum front desk.
URL:https://revolutionaryvalley.org/event/a-river-transformed-walking-tour-3-3/
LOCATION:Lowell National Historical Park – Boott Cotton Mills Museum\, 115 John Street\, Lowell\, 01852\, United States
CATEGORIES:Exhibits,Free Events,Historical,Outdoors,Talks and Film
ATTACH;FMTTYPE=image/jpeg:https://revolutionaryvalley.org/wp-content/uploads/2025/04/Suffolk-Tour-w-Trolley-38-4-scaled.jpg
ORGANIZER;CN="Lowell National Historical Park":MAILTO:phil_lupsiewicz@nps.gov
GEO:42.6472986;-71.3066893
X-APPLE-STRUCTURED-LOCATION;VALUE=URI;X-ADDRESS=Lowell National Historical Park – Boott Cotton Mills Museum 115 John Street Lowell 01852 United States;X-APPLE-RADIUS=500;X-TITLE=115 John Street:geo:-71.3066893,42.6472986
END:VEVENT
BEGIN:VEVENT
DTSTART;TZID=America/New_York:20260615T140000
DTEND;TZID=America/New_York:20260831T153000
DTSTAMP:20260424T172802
CREATED:20260202T155949Z
LAST-MODIFIED:20260202T160005Z
UID:10064135-1781532000-1788190200@revolutionaryvalley.org
SUMMARY:A River Transformed Walking Tour
DESCRIPTION:Discover how the power of the Merrimack River was harnessed into textile production in the 19th century. This tour combines a walk along the riverwalk accompanied by a park ranger with a guided visit to the River Transformed Exhibit at the Suffolk Mill. \nJune 15-August 31\, 2025\nMonday and Tuesday at 2 p.m. \nVisitors should plan for a 75-minute tour\, all of which will be spent on your feet. Visitors can expect to walk as much as 1.5-miles on paved paths and are encouraged to bring water. This tour meets and ends at the Boott Cotton Mills Museum (115 John St.) \nThis tour is free. To reserve your spot\, call (978) 970-5000 or check in at the Boott Cotton Mills Museum front desk.
URL:https://revolutionaryvalley.org/event/a-river-transformed-walking-tour-4-3/2026-06-15/
LOCATION:Lowell National Historical Park – Boott Cotton Mills Museum\, 115 John Street\, Lowell\, 01852\, United States
CATEGORIES:Exhibits,Free Events,Historical,Outdoors,Talks and Film
ATTACH;FMTTYPE=image/jpeg:https://revolutionaryvalley.org/wp-content/uploads/2025/04/Suffolk-Tour-w-Trolley-38-3-scaled.jpg
ORGANIZER;CN="Lowell National Historical Park":MAILTO:phil_lupsiewicz@nps.gov
GEO:42.6472986;-71.3066893
X-APPLE-STRUCTURED-LOCATION;VALUE=URI;X-ADDRESS=Lowell National Historical Park – Boott Cotton Mills Museum 115 John Street Lowell 01852 United States;X-APPLE-RADIUS=500;X-TITLE=115 John Street:geo:-71.3066893,42.6472986
END:VEVENT
BEGIN:VEVENT
DTSTART;TZID=America/New_York:20260617T193000
DTEND;TZID=America/New_York:20260617T223000
DTSTAMP:20260424T172802
CREATED:20260204T195358Z
LAST-MODIFIED:20260204T195358Z
UID:10069833-1781724600-1781735400@revolutionaryvalley.org
SUMMARY:Ike Dweck
DESCRIPTION:Find tickets for Ike Dweck at Taffeta Music Hall in Lowell on 6/17/2026 at 7:30 PM
URL:https://revolutionaryvalley.org/event/ike-dweck/
LOCATION:MA
ATTACH;FMTTYPE=image/jpeg:https://revolutionaryvalley.org/wp-content/uploads/2025/12/1120547572.jpg
END:VEVENT
BEGIN:VEVENT
DTSTART;TZID=America/New_York:20260620T193000
DTEND;TZID=America/New_York:20260620T220000
DTSTAMP:20260424T172802
CREATED:20260416T152704Z
LAST-MODIFIED:20260416T152704Z
UID:10071676-1781983800-1781992800@revolutionaryvalley.org
SUMMARY:Peter Mulvey and Jenna Nicholls Present: Floyd Mercantile
DESCRIPTION:In April 2025\, Peter Mulvey and Jenna Nicholls\, along with guitarist Ross Bellenoit\, traveled to Floyd\, a small mountain town located in the Blue Ridge Highlands of Southwest Virginia\, for five uninterrupted days of recording. What emerged is Floyd Mercantile — a record that feels both intimate and timeless. \nThe makeshift studio was a decommissioned general store called (you guessed it!) Floyd Mercantile — a weathered wooden building standing across the road from an open pasture where cows wandered and grazed in the gentle early spring. (One cow even volunteered to be on the album cover.) Inside those old walls\, the trio recorded the album live — no isolation booths\, no heavy overdubbing — just three musicians in a room\, listening closely and letting the songs unfold in real time. \nThe sessions were recorded by Jeff Oehler and filmed in their entirety by partner Sue Bibeau and their associate Skylar Locke. Together\, Sue and Jeff comprise Beehive Pro\, an audio\, visual\, and design collective famed for their intimate recordings and thoughtfully considered visuals. They captured not just the sound\, but the atmosphere — the wood floors\, the daylight through the dusty windows\, and the creak of the porch boards could all be considered session players on this album. \nThe repertoire bridges eras. Mostly comprised of songs Peter and Jenna wrote separately\, there are a few gems from the Great American Songbook: “Skylark” (Hoagy Carmichael/Johnny Mercer)\, “Them There Eyes” (Maceo Pinkard/Doris Tauber/William Tracey)\, and “I’ll Be Seeing You” (Sammy Fain/Irving Kahal). \nThe visual and sonic tones of the project reflect the periods these songs evoke — even the newly composed tracks feel in conversation with another time. The goal was not nostalgia\, but continuity: to stand inside the lineage of American song and add something honest and present to it. \nFloyd Mercantile is not just an album. It’s a document of place. Of three musicians in a room. Of songs — old and new — allowed to breathe in the quiet of a Virginia afternoon.
URL:https://revolutionaryvalley.org/event/peter-mulvey-and-jenna-nicholls-present-floyd-mercantile/
LOCATION:Bedford Town Hall\, 10 Mudge Way\, Bedford\, 01730\, United States
CATEGORIES:Arts & Culture,Live Performances
ATTACH;FMTTYPE=image/png:https://revolutionaryvalley.org/wp-content/uploads/2026/04/New-Song-1600x900-images-1.png
ORGANIZER;CN="Bedford Cultural District":MAILTO:info@newsongbedford.org
GEO:42.491704;-71.2817566
X-APPLE-STRUCTURED-LOCATION;VALUE=URI;X-ADDRESS=Bedford Town Hall 10 Mudge Way Bedford 01730 United States;X-APPLE-RADIUS=500;X-TITLE=10 Mudge Way:geo:-71.2817566,42.491704
END:VEVENT
BEGIN:VEVENT
DTSTART;TZID=America/New_York:20260711T130000
DTEND;TZID=America/New_York:20260711T160000
DTSTAMP:20260424T172802
CREATED:20260402T164637Z
LAST-MODIFIED:20260402T164707Z
UID:10071640-1783774800-1783785600@revolutionaryvalley.org
SUMMARY:Hands-On History: Weaving and Lowell's Many Cultures
DESCRIPTION:Saturday\, July 11th from 1:00 p.m. – 4:00 p.m. (Drop in!)  \nExperience history by doing!  \nLowell National Historical Park and the Tsongas Industrial History Center are excited to welcome you for “Hands-On History” — part of the City of Lowell’s Bicentennial celebrations and the Tsongas Industrial History Center’s 35th anniversary!  \n“Hands-On History” takes place the 2nd Saturday of each month through October.  \n3rd Floor\, Boott Cotton Mills Museum (115 John St.\, Lowell\, MA)  \nThis month’s activities include:  \nWeaving on a hand loom and explore cultural objects from a some of the many different cultural groups that call Lowell home.  \nThese free\, drop-in workshops are appropriate for all ages.  \nExplore our educational workshop spaces at the Boott Cotton Mills Museum and discover how the Industrial Revolution shaped life then and now. Whether you’re a returning visitor or brand new to history\, there’s something hands-on for everyone.  \nQuestions: Call 978-970-5080 or email: TIHC@uml.edu
URL:https://revolutionaryvalley.org/event/hands-on-history-weaving-and-lowells-many-cultures-2/
LOCATION:Lowell National Historical Park – Boott Cotton Mills Museum\, 3rd Floor\, 115 John Street\, Lowell\, 01852\, United States
CATEGORIES:Arts & Culture,Free Events
ATTACH;FMTTYPE=image/jpeg:https://revolutionaryvalley.org/wp-content/uploads/2026/04/exploring-artifacts-3-girls-scaled.jpg
GEO:42.6472986;-71.3066893
X-APPLE-STRUCTURED-LOCATION;VALUE=URI;X-ADDRESS=Lowell National Historical Park – Boott Cotton Mills Museum 3rd Floor 115 John Street Lowell 01852 United States;X-APPLE-RADIUS=500;X-TITLE=115 John Street:geo:-71.3066893,42.6472986
END:VEVENT
BEGIN:VEVENT
DTSTART;TZID=America/New_York:20260808T130000
DTEND;TZID=America/New_York:20260808T160000
DTSTAMP:20260424T172802
CREATED:20260327T145411Z
LAST-MODIFIED:20260327T145411Z
UID:10071631-1786194000-1786204800@revolutionaryvalley.org
SUMMARY:Hands-On History: Weaving & Engineering
DESCRIPTION:“Hands-On History at the Tsongas Industrial History Center” \nSaturday\, March 14th from 1:00 p.m. – 4:00 p.m. (Drop in!) \nExperience history by doing! \nLowell National Historical Park and the Tsongas Industrial History Center are excited to welcome you for “Hands-On History” — part of the City of Lowell’s Bicentennial celebrations and the Tsongas Industrial History Center’s 35th anniversary! \n“Hands-On History” takes place the 2nd Saturday of each month through October. \n3rd Floor\, Boott Cotton Mills Museum (115 John St.\, Lowell\, MA) \nThis month’s activities include: \nWeaving on a hand loom and taking on a fun engineering challenge inspired by the innovations of the Industrial Revolution. \nThese free\, drop-in workshops are appropriate for all ages. \nExplore our educational workshop spaces at the Boott Cotton Mills Museum and discover how the Industrial Revolution shaped life then and now. Whether you’re a returning visitor or brand new to history\, there’s something hands-on for everyone. \nQuestions: Call 978-970-5080 or email: TIHC@uml.edu
URL:https://revolutionaryvalley.org/event/hands-on-history-weaving-engineering/
LOCATION:Greater Merrimack Valley Convention and Visitors Bureau\, Greater Merrimack Valley Convention and Visitors Bureau\, 115 Merrimack St\, Lowell\, MA\, 01852\, United States
CATEGORIES:Arts & Culture,Free Events,Historical,Kids & Family
ATTACH;FMTTYPE=image/jpeg:https://revolutionaryvalley.org/wp-content/uploads/2026/03/EI29-4-kids-1-scaled.jpg
GEO:42.6540975;-71.3272538
X-APPLE-STRUCTURED-LOCATION;VALUE=URI;X-ADDRESS=Greater Merrimack Valley Convention and Visitors Bureau Greater Merrimack Valley Convention and Visitors Bureau 115 Merrimack St Lowell MA 01852 United States;X-APPLE-RADIUS=500;X-TITLE=Greater Merrimack Valley Convention and Visitors Bureau\, 115 Merrimack St:geo:-71.3272538,42.6540975
END:VEVENT
BEGIN:VEVENT
DTSTART;TZID=America/New_York:20260822T200000
DTEND;TZID=America/New_York:20260823T000000
DTSTAMP:20260424T172802
CREATED:19700101T050000Z
LAST-MODIFIED:20260122T204729Z
UID:10070914-1787428800-1787443200@revolutionaryvalley.org
SUMMARY:None Shall Remain
DESCRIPTION:Find tickets for None Shall Remain at Koto Asian Fusion in Lowell on 8/22/2026 at 8:00 PM
URL:https://revolutionaryvalley.org/event/none-shall-remain/
LOCATION:Koto Asian Fusion\, Koto Asian Fusion\, 76 Merrimack St\, Lowell\, MA\, United States
CATEGORIES:Google Events
ATTACH;FMTTYPE=image/jpeg:https://revolutionaryvalley.org/wp-content/uploads/2026/01/1013070391.jpg
GEO:42.6454947;-71.3089717
X-APPLE-STRUCTURED-LOCATION;VALUE=URI;X-ADDRESS=Koto Asian Fusion Koto Asian Fusion 76 Merrimack St Lowell MA United States;X-APPLE-RADIUS=500;X-TITLE=Koto Asian Fusion\, 76 Merrimack St:geo:-71.3089717,42.6454947
END:VEVENT
BEGIN:VEVENT
DTSTART;TZID=America/New_York:20260912T130000
DTEND;TZID=America/New_York:20260912T160000
DTSTAMP:20260424T172802
CREATED:20260402T170434Z
LAST-MODIFIED:20260402T170434Z
UID:10071639-1789218000-1789228800@revolutionaryvalley.org
SUMMARY:Hands-On History: Weaving and Working on the Line
DESCRIPTION:Saturday\, September 12th from 1:00 p.m. – 4:00 p.m. (Drop in!) \nExperience history by doing! \nLowell National Historical Park and the Tsongas Industrial History Center are excited to welcome you for “Hands-On History” — part of the City of Lowell’s Bicentennial celebrations and the Tsongas Industrial History Center’s 35th anniversary! \n“Hands-On History” takes place the 2nd Saturday of each month through October. \n3rd Floor\, Boott Cotton Mills Museum (115 John St.\, Lowell\, MA) \nThis month’s activities include: \nWeaving on a hand loom and try working on a fun assembly line. \nThese free\, drop-in workshops are appropriate for all ages. \nExplore our educational workshop spaces at the Boott Cotton Mills Museum and discover how the Industrial Revolution shaped life then and now. Whether you’re a returning visitor or brand new to history\, there’s something hands-on for everyone. \nQuestions: Call 978-970-5080 or email: TIHC@uml.edu
URL:https://revolutionaryvalley.org/event/hands-on-history-weaving-and-working-on-the-line/
LOCATION:Lowell National Historical Park – Boott Cotton Mills Museum\, 3rd Floor\, 115 John Street\, Lowell\, 01852\, United States
CATEGORIES:Arts & Culture,Free Events,Historical,Kids & Family
ATTACH;FMTTYPE=image/jpeg:https://revolutionaryvalley.org/wp-content/uploads/2026/04/Happy-students-at-assembly-line-1-scaled.jpg
GEO:42.6472986;-71.3066893
X-APPLE-STRUCTURED-LOCATION;VALUE=URI;X-ADDRESS=Lowell National Historical Park – Boott Cotton Mills Museum 3rd Floor 115 John Street Lowell 01852 United States;X-APPLE-RADIUS=500;X-TITLE=115 John Street:geo:-71.3066893,42.6472986
END:VEVENT
BEGIN:VEVENT
DTSTART;TZID=America/New_York:20261010T170000
DTEND;TZID=America/New_York:20261010T230000
DTSTAMP:20260424T172802
CREATED:20260319T165330Z
LAST-MODIFIED:20260326T180021Z
UID:10071611-1791651600-1791673200@revolutionaryvalley.org
SUMMARY:Lotus Festival
DESCRIPTION:An Evening of Inspiration\, Entertainment & Impact \nJoin us for a memorable night of dining\, dancing\, and meaningful connection — all in support of our programs in India.\nThe evening features a curated dinner menu with bold\, creative flavors and an open bar with signature cocktails and classic favorites. Guests will enjoy live performances and high-energy entertainment throughout the night\, as well as a thrilling live auction with one-of-a-kind items and exclusive experiences.\nGo beyond the celebration with interactive moments that bring our work in India to life — and see firsthand the impact you’re helping create. Between it all\, connect and network with a community of like-minded changemakers united by purpose. \nDon’t miss your chance to celebrate\, connect\, and make an impact.
URL:https://revolutionaryvalley.org/event/lotus-festival/
LOCATION:Gillette Stadium\, 1 Patriot Place\, Foxborough\, 02035\, United States
GEO:42.0925323;-71.2641271
X-APPLE-STRUCTURED-LOCATION;VALUE=URI;X-ADDRESS=Gillette Stadium 1 Patriot Place Foxborough 02035 United States;X-APPLE-RADIUS=500;X-TITLE=1 Patriot Place:geo:-71.2641271,42.0925323
END:VEVENT
END:VCALENDAR