BEGIN:VCALENDAR
VERSION:2.0
PRODID:-//Revolutionary Valley Regional Tourism Council - ECPv6.15.0.1//NONSGML v1.0//EN
CALSCALE:GREGORIAN
METHOD:PUBLISH
X-WR-CALNAME:Revolutionary Valley Regional Tourism Council
X-ORIGINAL-URL:https://revolutionaryvalley.org
X-WR-CALDESC:Events for Revolutionary Valley Regional Tourism Council
REFRESH-INTERVAL;VALUE=DURATION:PT1H
X-Robots-Tag:noindex
X-PUBLISHED-TTL:PT1H
BEGIN:VTIMEZONE
TZID:America/New_York
BEGIN:DAYLIGHT
TZOFFSETFROM:-0500
TZOFFSETTO:-0400
TZNAME:EDT
DTSTART:20250309T070000
END:DAYLIGHT
BEGIN:STANDARD
TZOFFSETFROM:-0400
TZOFFSETTO:-0500
TZNAME:EST
DTSTART:20251102T060000
END:STANDARD
END:VTIMEZONE
BEGIN:VEVENT
DTSTART;TZID=America/New_York:20250801T190000
DTEND;TZID=America/New_York:20250801T223000
DTSTAMP:20260421T082841
CREATED:20250130T180602Z
LAST-MODIFIED:20250130T180602Z
UID:10062611-1754074800-1754087400@revolutionaryvalley.org
SUMMARY:Acton Kicks Country - featuring Houston Bernard (8pm) and Line Dancing Instruction (7pm)
DESCRIPTION:A Country Music Maverick with a Rich Musical Heritage ! Wear your cowboy hats and boots and let’s all have a great time!
URL:https://revolutionaryvalley.org/event/acton-kicks-country-featuring-houston-bernard-8pm-and-line-dancing-instruction-7pm/
LOCATION:Thomas E. Tidman Amphitheater at NARA Park\, 71 Quarry Road\, Acton\, MA\, 01720\, United States
CATEGORIES:Arts & Culture,Featured,Kids & Family,Live Performances,Outdoors
ATTACH;FMTTYPE=image/jpeg:https://revolutionaryvalley.org/wp-content/uploads/2025/01/Acton-Kicks-Country-Houston-Bernard-2025-with-qr-code.jpg
ORGANIZER;CN="Haberman":MAILTO:mhaberman@acton-ma.gov
GEO:42.5201919;-71.4145561
X-APPLE-STRUCTURED-LOCATION;VALUE=URI;X-ADDRESS=Thomas E. Tidman Amphitheater at NARA Park 71 Quarry Road Acton MA 01720 United States;X-APPLE-RADIUS=500;X-TITLE=71 Quarry Road:geo:-71.4145561,42.5201919
END:VEVENT
BEGIN:VEVENT
DTSTART;TZID=America/New_York:20250808T193000
DTEND;TZID=America/New_York:20250808T223000
DTSTAMP:20260421T082841
CREATED:20250130T181156Z
LAST-MODIFIED:20250130T181156Z
UID:10062612-1754681400-1754692200@revolutionaryvalley.org
SUMMARY:BonJourney with opener Whitney Doucet
DESCRIPTION:BonJourneyNY is a New York based Tribute Band celebrating rock Icons\, Bon Jovi and Journey. Opener Whitney Doucet is a Country-Pop singer.\nWhitney will be performing from 7:30-8:45 and BonJourney will be playing straight from 9-10:30 pm
URL:https://revolutionaryvalley.org/event/bonjourney-with-opener-whitney-doucet/
LOCATION:NARA Park\, Nara Park\, 25 Ledge Rock Way\, Acton\, MA\, 01720\, United States
CATEGORIES:Arts & Culture,Featured,Kids & Family,Live Performances,Outdoors
ATTACH;FMTTYPE=image/jpeg:https://revolutionaryvalley.org/wp-content/uploads/2025/01/bonjourneyny-aUG-8-2025-with-QR-Code.jpg
ORGANIZER;CN="Haberman":MAILTO:mhaberman@acton-ma.gov
GEO:42.5160594;-71.4119872
X-APPLE-STRUCTURED-LOCATION;VALUE=URI;X-ADDRESS=NARA Park Nara Park 25 Ledge Rock Way Acton MA 01720 United States;X-APPLE-RADIUS=500;X-TITLE=Nara Park\, 25 Ledge Rock Way:geo:-71.4119872,42.5160594
END:VEVENT
BEGIN:VEVENT
DTSTART;TZID=America/New_York:20250815T200000
DTEND;TZID=America/New_York:20250815T223000
DTSTAMP:20260421T082841
CREATED:20250130T181718Z
LAST-MODIFIED:20250130T181718Z
UID:10062613-1755288000-1755297000@revolutionaryvalley.org
SUMMARY:Into the Floyd - The International Pink Floyd Tribute
DESCRIPTION:Brings alive the music of Pink Floyd by performing an authentic and diverse catalogue from the Wish You Were Here album (50th anniversary!)
URL:https://revolutionaryvalley.org/event/into-the-floyd-the-international-pink-floyd-tribute/
LOCATION:Thomas E. Tidman Amphitheater at NARA Park\, 71 Quarry Road\, Acton\, MA\, 01720\, United States
CATEGORIES:Arts & Culture,Featured,Kids & Family,Live Performances,Outdoors
ATTACH;FMTTYPE=image/jpeg:https://revolutionaryvalley.org/wp-content/uploads/2025/01/INTO-THE-FLOYD-2025-with-QR-Code.jpg
ORGANIZER;CN="Haberman":MAILTO:mhaberman@acton-ma.gov
GEO:42.5201919;-71.4145561
X-APPLE-STRUCTURED-LOCATION;VALUE=URI;X-ADDRESS=Thomas E. Tidman Amphitheater at NARA Park 71 Quarry Road Acton MA 01720 United States;X-APPLE-RADIUS=500;X-TITLE=71 Quarry Road:geo:-71.4145561,42.5201919
END:VEVENT
BEGIN:VEVENT
DTSTART;TZID=America/New_York:20250822T190000
DTEND;TZID=America/New_York:20250822T213000
DTSTAMP:20260421T082841
CREATED:20250130T182915Z
LAST-MODIFIED:20250130T182915Z
UID:10062614-1755889200-1755898200@revolutionaryvalley.org
SUMMARY:Taylorville - A Special Tribute Night to Today's Top Music Icon!
DESCRIPTION:Get ready to immerse yourself in a world of Taylor like never before! “Taylorville”.
URL:https://revolutionaryvalley.org/event/taylorville-a-special-tribute-night-to-todays-top-music-icon/
LOCATION:Thomas E. Tidman Amphitheater at NARA Park\, 71 Quarry Road\, Acton\, MA\, 01720\, United States
CATEGORIES:Arts & Culture,Featured,Kids & Family,Live Performances,Outdoors
ATTACH;FMTTYPE=image/jpeg:https://revolutionaryvalley.org/wp-content/uploads/2025/01/1225-Taylorville-Flyer1.jpg
ORGANIZER;CN="Haberman":MAILTO:mhaberman@acton-ma.gov
GEO:42.5201919;-71.4145561
X-APPLE-STRUCTURED-LOCATION;VALUE=URI;X-ADDRESS=Thomas E. Tidman Amphitheater at NARA Park 71 Quarry Road Acton MA 01720 United States;X-APPLE-RADIUS=500;X-TITLE=71 Quarry Road:geo:-71.4145561,42.5201919
END:VEVENT
BEGIN:VEVENT
DTSTART;TZID=America/New_York:20250829T180000
DTEND;TZID=America/New_York:20250831T233000
DTSTAMP:20260421T082841
CREATED:20250723T192024Z
LAST-MODIFIED:20250723T192024Z
UID:10068269-1756490400-1756683000@revolutionaryvalley.org
SUMMARY:Saint Anthony Mahrajan Festival of Lawrence\, MA
DESCRIPTION:Lawrence\, MA — Saint Anthony Maronite Catholic Church is delighted to welcome one and all to the Saint Anthony Mahrajan Festival 2025\, an exuberant celebration of Lebanese culture\, community\, and faith held over Labor Day Weekend.\n🗓 Festival Dates and Hours:\n• Friday\, August 29 – 6:00 PM to 1:00 AM\n• Saturday\, August 30 – 5:00 PM to 2:00 AM\n• Sunday\, August 31 – 12:00 PM to 12:00 AM\n📍 Location: Saint Anthony Maronite Catholic Church Grounds 145 Amesbury Street\, Lawrence\, MA\n🌟 Open to everyone\, the Mahrajan offers a vibrant fusion of Middle Eastern tradition and New England hospitality. Guests will enjoy homemade Lebanese cuisine—including sizzling shawarma hot off the grill—plus indulgent desserts\, energetic dance performances\, lively music\, games for all ages\, and souvenirs to commemorate the festivities.\n🌟 The Mahrajan\, rooted in rich Lebanese heritage\, welcomes all with vibrant entertainment\, authentic Middle Eastern cuisine\, dancing\, traditional music\, family-friendly activities\, and spiritual fellowship. Visitors can expect live bands\, debke performances\, homemade pastries\, and flavorful dishes that celebrate the cultural mosaic of our community.\n🎶 From the aroma of grilled kafta and shawarma to the rhythm of live drums echoing through the streets of Lawrence\, Saint Anthony Mahrajan has become a cherished annual tradition where generations gather to celebrate faith\, family\, and fun.\n🎈 Admission is completely free — bring your friends\, your family\, and your appetite!\n📞 For more details\, interviews\, or volunteer opportunities: Contact the Parish Office at 978-685-7233 Follow @SaintAnthonyLawrence on social media for event updates and sneak peeks!\nCelebrate the spirit of Lebanon and the joy of togetherness — we can’t wait to see you there!
URL:https://revolutionaryvalley.org/event/saint-anthony-mahrajan-festival-of-lawrence-ma/
LOCATION:MA
CATEGORIES:Arts & Culture,Fairs & Festivals,Food,Free Events,Kids & Family,Live Performances,Outdoors
ATTACH;FMTTYPE=image/jpeg:https://revolutionaryvalley.org/wp-content/uploads/2025/07/IMG-20250626-WA0003.jpg
END:VEVENT
END:VCALENDAR